BEGIN:VCALENDAR
VERSION:2.0
PRODID:-//prinzessinnengarten kollektiv berlin - ECPv6.15.18//NONSGML v1.0//EN
CALSCALE:GREGORIAN
METHOD:PUBLISH
X-ORIGINAL-URL:https://prinzessinnengarten-kollektiv.net
X-WR-CALDESC:Veranstaltungen für prinzessinnengarten kollektiv berlin
REFRESH-INTERVAL;VALUE=DURATION:PT1H
X-Robots-Tag:noindex
X-PUBLISHED-TTL:PT1H
BEGIN:VTIMEZONE
TZID:Europe/Berlin
BEGIN:DAYLIGHT
TZOFFSETFROM:+0100
TZOFFSETTO:+0200
TZNAME:CEST
DTSTART:20230326T010000
END:DAYLIGHT
BEGIN:STANDARD
TZOFFSETFROM:+0200
TZOFFSETTO:+0100
TZNAME:CET
DTSTART:20231029T010000
END:STANDARD
BEGIN:DAYLIGHT
TZOFFSETFROM:+0100
TZOFFSETTO:+0200
TZNAME:CEST
DTSTART:20240331T010000
END:DAYLIGHT
BEGIN:STANDARD
TZOFFSETFROM:+0200
TZOFFSETTO:+0100
TZNAME:CET
DTSTART:20241027T010000
END:STANDARD
BEGIN:DAYLIGHT
TZOFFSETFROM:+0100
TZOFFSETTO:+0200
TZNAME:CEST
DTSTART:20250330T010000
END:DAYLIGHT
BEGIN:STANDARD
TZOFFSETFROM:+0200
TZOFFSETTO:+0100
TZNAME:CET
DTSTART:20251026T010000
END:STANDARD
END:VTIMEZONE
BEGIN:VEVENT
DTSTART;TZID=Europe/Berlin:20240404T183000
DTEND;TZID=Europe/Berlin:20240404T183000
DTSTAMP:20260420T155233
CREATED:20240328T125049Z
LAST-MODIFIED:20240328T125049Z
UID:7569-1712255400-1712255400@prinzessinnengarten-kollektiv.net
SUMMARY:Psychologie im Kontext - Offenes Treffen
DESCRIPTION:studio nagelneu presents \nPsychologie im Kontext – Offenes Treffen\nmachtkritische perspektiven in der wissenschaft psychologie \naustausch in berlin & ag gründung\ndonnerstag 4.4.24 ab 18.30 uhr\nstudio nagelneu – hermannstraße 103\nkontakt: funnika@posteo.de \nalle\, die sich (macht-)kritisch mit der wissenschaft psychologie auseinander setzen (wollen)\, sind ganz herzlich eingeladen\, auf ein getränk vorbei zu kommen\, andere interessierte zu treffen und sich zu vernetzen. anmeldung nicht notwendig. \naußerdem werden mitstreiter*innen für die folgenden arbeitsgruppen gesucht. aber ihr könnt auch sehr gerne andere ideen einbringen\, oder einfach nur so zum austausch vorbei kommen. \nag einstieg\ndie psychologie an deutschen unis versteht sich als naturwissenschaft und objektivität wird angestrebt. eine kritische einordnung der forschungspraxis und des produzierten wissens in gesellschaftliche machtverhältnisse bleibt jedoch meist aus. mit dieser kritik sind wir nicht allein\, viele themen werden bereits in anderen disziplinen aufgegriffen und verhandelt\, aber viele psycholog*innen bekommen davon nichts mit. ziel dieser ag wäre es\, ein dünnes zine oder einen kleinen reader unter dem arbeitstitel „die wissenschaft psychologie im kontext gesellschaftlicher machtverhältnisse“ zu erstellen und so verschiedene zugänge und kritik (z.b. aus der wissenschaftsforschung) zu bündeln und allen interessierten zugänglich zu machen. inhalte hieraus könnten auch für die homepage verwendet werden\, oder andersrum. \nag homepage\ndie homepage therapieimkontext.de ist offline\, weil sie von uns nicht mehr gepflegt wurde. leider sind dadurch auch die inhalte gelöscht worden. obwohl das symposium “therapie im kontext” einige jahre her ist\, diente die homepage wohl noch als anlaufstelle. \ndas ist die chance\, zusammen zu überlegen: was sollte auf der homepage zu finden sein? ziel wäre es\, eine ag zu gründen\, die sich ein konzept für die homepage überlegt und umsetzt\, neue inhalte erarbeitet und längerfristig die homepage betreut. \n++wenn ihr lust habt\, bei einer der ags mitzumachen aber nicht zum treffen kommen könnt\, meldet euch gerne per mail – auch eine digitale ag wäre denkbar.++
URL:https://prinzessinnengarten-kollektiv.net/event/psychologie-im-kontext-offenes-treffen/
LOCATION:studio nagelneu\, Hermannstraße 103\, Berliin\, 12051\, Deutschland
CATEGORIES:studio nagelneu
ATTACH;FMTTYPE=image/jpeg:https://prinzessinnengarten-kollektiv.net/wp-content/uploads/2024/03/240404_studio-Kopie.jpeg
END:VEVENT
BEGIN:VEVENT
DTSTART;TZID=Europe/Berlin:20240413T160000
DTEND;TZID=Europe/Berlin:20240413T180000
DTSTAMP:20260420T155233
CREATED:20240110T120924Z
LAST-MODIFIED:20240405T095237Z
UID:7208-1713024000-1713031200@prinzessinnengarten-kollektiv.net
SUMMARY:Kräuterwanderung mit Burkhard Bohne – Wildkräuter auf dem Neuen St. Jacobi Friedhof
DESCRIPTION:Der alte Friedhof mit seinen umliegenden Brachflächen bietet abwechslungsreichen Raum für Wildkräuter und alte Bäume. Auf einem Spaziergang wollen wir sie kennenlernen. Wir entdecken verschiedene Pflanzengesellschaften\, lernen sie zu verstehen und wie wir Kräuter und Bäume für uns nutzen können. Auch mitten in der Stadtkönnen wir über die Perfektion der Natur nur staunen. \nSamstag 13. April 2024 16-18 Uhr\nTeilnahmegebühr: 19\,00 € \nAnmeldung direkt bei Burkhard Bohne via b.bohne@tu-bs.de
URL:https://prinzessinnengarten-kollektiv.net/event/kraeuterwanderung-mit-burkhard-bohne-wildkraeuter-auf-dem-neuen-st-jacobi-friedhof-2/
LOCATION:Prinzessinnengarten Kollektiv Berlin\, Hermannstraße 99-105\, Berlin\, 12051\, Deutschland
ATTACH;FMTTYPE=image/jpeg:https://prinzessinnengarten-kollektiv.net/wp-content/uploads/2022/02/220423_burkhard-bohne.jpg
END:VEVENT
BEGIN:VEVENT
DTSTART;TZID=Europe/Berlin:20240422T150000
DTEND;TZID=Europe/Berlin:20240422T170000
DTSTAMP:20260420T155233
CREATED:20240419T110313Z
LAST-MODIFIED:20240419T110853Z
UID:7646-1713798000-1713805200@prinzessinnengarten-kollektiv.net
SUMMARY:Zirkus Treff in der Hasenheide
DESCRIPTION:Unsere Parkhausmeister*innen präsentieren \nZirkus Treff in der Hasenheide\n  \nmontags 15-17 Uhr \nLustig und bewegt in die Woche starten? Kein Problem! Hier könnt ihr zusammen jonglieren lernen\, in Bewegung kommen und artistisch den Frühling im Park genießen. Klein und Groß sind willkommen! \nHINWEISE: \nManche Workshops/Angebote bewegen sich durch den Park\, es kann also vorkommen\, dass ihr uns nach der Startuhrzeit nicht mehr an der gleichen Stelle findet. Ihr erkennt uns immer an den roten Westen mit „FairPlay im Park“ draufstehen \nDenkt an für das Wetter passende Kleidung.\nBei andauernden Regen fällt der Termin ersatzlos aus.\nAlle Angebote sind ohne Anmeldung und kostenlos. \nTREFFPUNKT: \nAm Beet an der alten Eiche\nWiese am Eingang Hasenheide (Straße)/Tierpark\nNähe U-Bhf Hermannplatz
URL:https://prinzessinnengarten-kollektiv.net/event/zirkus-treff-in-der-hasenheide/
CATEGORIES:Park
END:VEVENT
BEGIN:VEVENT
DTSTART;TZID=Europe/Berlin:20240423T153000
DTEND;TZID=Europe/Berlin:20240423T170000
DTSTAMP:20260420T155233
CREATED:20240419T111152Z
LAST-MODIFIED:20240419T111152Z
UID:7669-1713886200-1713891600@prinzessinnengarten-kollektiv.net
SUMMARY:Gärtnern & Werkeln in der Hasenheide
DESCRIPTION:Unsere Parkhausmeister*innen präsentieren \nGärtnern & Werkeln in der Hasenheide\ndienstags 15:30–17:00 \nWir sind vor Ort und werden gärtnern\, werkeln und aufräumen. Ihr könnt immer gerne mithelfen. Wir freuen uns über jede Unterstützung. Die Hasenheide braucht euch! \nHINWEISE: \nManche Workshops/Angebote bewegen sich durch den Park\, es kann also vorkommen\, dass ihr uns nach der Startuhrzeit nicht mehr an der gleichen Stelle findet. Ihr erkennt uns immer an den roten Westen mit „FairPlay im Park“ draufstehen \nDenkt an für das Wetter passende Kleidung.\nBei andauernden Regen fällt der Termin ersatzlos aus. \nAlle Angebote sind ohne Anmeldung und kostenlos. \nTREFFPUNKT: \nAm Beet an der alten Eiche\nWiese am Eingang Hasenheide (Straße)/Tierpark\nNähe U-Bhf Hermannplatz \n 
URL:https://prinzessinnengarten-kollektiv.net/event/gaertnern-werkeln-in-der-hasenheide/
CATEGORIES:Park
END:VEVENT
BEGIN:VEVENT
DTSTART;TZID=Europe/Berlin:20240425T150000
DTEND;TZID=Europe/Berlin:20240425T170000
DTSTAMP:20260420T155233
CREATED:20240419T111702Z
LAST-MODIFIED:20240419T111702Z
UID:7681-1714057200-1714064400@prinzessinnengarten-kollektiv.net
SUMMARY:Gemütliche Heide
DESCRIPTION:Unsere Parkhausmeister*innen präsentieren \nGemütliche Heide\ndonnerstags 15-17 Uhr \nOffenes Parktreffen: Bei Kaffee\, Tee und Kuchen haben wir ein offenes Ohr für Euch\, für eure Wünsche\, Anliegen und Probleme zum Park. \nLasst uns zusammen den Frühling in der Hasenheide genießen – endlich wieder draußen sein! \nDu fragst dich: Was passiert eigentlich in der Hasenheide?\nAb 16:30 machen wir einen begleiteten Spaziergang bei dem wir euch beispielsweise zu den aktuellen Geschehnissen informieren. Damit sich auch jede*r wohl und sicher fühlt in der Hasenheide! \nHINWEISE: \nManche Workshops/Angebote bewegen sich durch den Park\, es kann also vorkommen\, dass ihr uns nach der Startuhrzeit nicht mehr an der gleichen Stelle findet. Ihr erkennt uns immer an den roten Westen mit „FairPlay im Park“ draufstehen \nDenkt an für das Wetter passende Kleidung.\nBei andauernden Regen fällt der Termin ersatzlos aus.\nAlle Angebote sind ohne Anmeldung und kostenlos. \nTREFFPUNKT: \nAm Beet an der alten Eiche\nWiese am Eingang Hasenheide (Straße)/Tierpark\nNähe U-Bhf Hermannplatz \n 
URL:https://prinzessinnengarten-kollektiv.net/event/gemuetliche-heide/
CATEGORIES:Park
END:VEVENT
BEGIN:VEVENT
DTSTART;TZID=Europe/Berlin:20240426T160000
DTEND;TZID=Europe/Berlin:20240426T190000
DTSTAMP:20260420T155233
CREATED:20240425T124836Z
LAST-MODIFIED:20240425T125146Z
UID:7758-1714147200-1714158000@prinzessinnengarten-kollektiv.net
SUMMARY:Let's renew our furniture together
DESCRIPTION:studio nagelneu presents \nLet’s renew our furniture together\nmit @melonseeds_collective \nIn diesen Workshops werden wir verschiedene Handwerkstechniken vorstellen\, die ihr erlernen und anwenden könnt um alte Gegenstände zu reparieren oder neu zu gestalten. \nFreitag 26. April 16-19 Uhr\nstudio nagelneu | Hermannstr. 103\, 12051 Berlin \nDie Workshops werden von Frauen über 50 geleitet\, die viel erfahrung im Reparieren haben und über große handwerkliche Fähigkeiten verfügen. \nDie Teilnahme ist kostenlos. \nBitte meldet euch vorher an über melonseeds.collective@gmail.com \nTeilnahme ab 17 Jahren
URL:https://prinzessinnengarten-kollektiv.net/event/lets-renew-our-furniture-together/
LOCATION:studio nagelneu\, Hermannstraße 103\, Berliin\, 12051\, Deutschland
CATEGORIES:studio nagelneu
ATTACH;FMTTYPE=image/jpeg:https://prinzessinnengarten-kollektiv.net/wp-content/uploads/2024/04/240501_melon-seeds.jpg
END:VEVENT
BEGIN:VEVENT
DTSTART;TZID=Europe/Berlin:20240426T193000
DTEND;TZID=Europe/Berlin:20240426T193000
DTSTAMP:20260420T155233
CREATED:20240423T122643Z
LAST-MODIFIED:20240425T124258Z
UID:7701-1714159800-1714159800@prinzessinnengarten-kollektiv.net
SUMMARY:Gelli Plate Printing - Collage & Painting Masterclass
DESCRIPTION:studio nagelneu presents \nGelli Plate Printing – Collage & Painting Masterclass\nSocial Art Lab Berlin invites you to a masterclass with Agnieszka Karaś \nFriday 26th April 19:30\nstudio nagelneu | Hermannstr. 103\, 12051 Berlin \nWHO IS THE COURSE FOR: the course is addressed to literally everyone: for those who doubt their artistic abilities (gelli plate will heal it after the first print!) and for those who have high artistic confidence\, working mainly in the field of paper art\, mix media and analog collage and want to expand their knowledge with another new technique. Here imperfections are perfection\, because gelli plate print can surprise and sometimes\, despite the intended effect\, we get something “failed”\, but even more interesting and beautiful than we planned. \nOBJECTIVE OF THE COURSE: making a two-layer print and decorating it with the use of self-made stencils and stamps as well as items that are “at your fingertips” in the city and in nature \nSOURCES OF INSPIRATION: We will open our sensitivity to the beauty of everyday unnoticed textures and forms of everyday objects and what is around us \nTHE COURSE:\n1) Introduction\n-what exactly is a gelli plate – how to deal with it and what exactly is the secret of a successful print; correct application of paint using brayer\n-examples of using gelli prints in art paper\n-two words about color theory or how not to make a swamp on your own gelli plate\n– creating one-layer prints\n– creating two-layer prints\n2) Texture and forms\ncreating prints using: hand-cut stencils\, handmade stamps\, everyday items\n3) Image transfer\n– image transfer of a selected photo from a colorful magazine and decorating it with selected textures and forms \nThe artist: @zakola_umyslu \nPrice: 25€ (all materials included) \nregistration: izanowak.design@gmail.com
URL:https://prinzessinnengarten-kollektiv.net/event/gelli-plate-printing-collage-painting-masterclass/
LOCATION:studio nagelneu\, Hermannstraße 103\, Berliin\, 12051\, Deutschland
CATEGORIES:studio nagelneu
ATTACH;FMTTYPE=image/jpeg:https://prinzessinnengarten-kollektiv.net/wp-content/uploads/2024/04/240426_socilaartlab-Kopie.jpg
END:VEVENT
BEGIN:VEVENT
DTSTART;TZID=Europe/Berlin:20240427T100000
DTEND;TZID=Europe/Berlin:20240427T170000
DTSTAMP:20260420T155233
CREATED:20240419T103423Z
LAST-MODIFIED:20240419T103706Z
UID:7642-1714212000-1714237200@prinzessinnengarten-kollektiv.net
SUMMARY:Heilkräuter-Apotheke: Was wir mitbringen - Workshop
DESCRIPTION:Heilkräuter-Apotheke: Was wir mitbringen\nWorkshop\nmit Anuscheh Amir-Khalili und Lea Nassim Tajbakhsh \nSamstag 27. April\, 10-17 Uhr\nHeilkräutergarten Hevrîn Xelef \nauf Deutsch \nEintritt frei\, mit Anmeldung über participatoryplanet@hkw.de \nKinderbetreuung ist für die Dauer der Workshops auf Anfrage möglich. Bitte geben Sie Ihren Bedarf bei der Anmeldung an. \nDer Heilkräutergarten Hevrîn Xelef in Berlin ist ein Ort\, an dem sich feministische Communitys treffen und austauschen können. Erfahrungen von Flucht und Krieg sind Teil der Geschichte der Frauen*\, die hierherkommen. Die Beschäftigung mit Heilkräutern und das gemeinsame Gärtnern schaffen Platz für Themen wie Trauma\, Trauer und Heilung; Verbindungen zwischen Menschen\, Pflanzen und der Umwelt entstehen. \nDer Workshop greift den Ansatz des Heilkräutergartens Hevrîn Xelef\, benannt nach der kurdischen Bauingenieurin und Politikerin\, die 2019 in Syrien ermordet wurde\, auf: Er ist zugänglich für alle und befasst sich mit der Verbindung zwischen Land und Menschen. Gemeinsam sammeln die Teilnehmenden Ideen\, wie sich ein offener Zugang zum Wissen über Heilkräuter und Heilungsprozesse gestalten lässt. Die Wirkungen von Pflanzen werden mit Fragen der sozialen Gerechtigkeit verbunden. Die Kultivierung von Pflanzen dient als Ausgangspunkt für einen Austausch über die Folgen von Flucht und Migration für Individuen und Gemeinschaften. So wird mithilfe der Pflanzen und durch das Wissen von Frauen* mit Fluchtgeschichte eine Perspektive auf gemeinsames Heilen entwickelt. Außerdem wird die Idee von offenen Heilkräuter-Apotheken diskutiert. Wie könnte eine Apotheke inmitten eines Heilkräutergartens aussehen\, in der marginalisierte Menschen Zugang zu Tees\, Tinkturen und Salben bekommen? \nDer Workshop wird von der Anthropologin Anuscheh Amir-Khalili (Flamingo e.V\, anstiftung) geleitet\, die Mentorin der Growing-Phase von A Participatory Planet ist. \nDie Kräuterkundlerin Lea Nassim Tajbakhsh gibt einen Exkurs zu speziellen Wildpflanzen und Kräutern. \n  \n  \n  \n 
URL:https://prinzessinnengarten-kollektiv.net/event/heilkraeuter-apotheke-was-wir-mitbringen-workshop/
LOCATION:Heilkräutergarten Hevrîn Xelef\, Hermannstraße 99-105\, Berlin\, 12051
CATEGORIES:transitioning death
ATTACH;FMTTYPE=image/jpeg:https://prinzessinnengarten-kollektiv.net/wp-content/uploads/2024/04/240427_herbal-pharmacy.jpeg
END:VEVENT
BEGIN:VEVENT
DTSTART;TZID=Europe/Berlin:20240427T120000
DTEND;TZID=Europe/Berlin:20240427T170000
DTSTAMP:20260420T155233
CREATED:20240425T124929Z
LAST-MODIFIED:20240425T125138Z
UID:7757-1714219200-1714237200@prinzessinnengarten-kollektiv.net
SUMMARY:Let's renew our furniture together
DESCRIPTION:studio nagelneu presents \nLet’s renew our furniture together\nmit @melonseeds_collective \nIn diesen Workshops werden wir verschiedene Handwerkstechniken vorstellen\, die ihr erlernen und anwenden könnt um alte Gegenstände zu reparieren oder neu zu gestalten. \nSamstag 27. April 12-17 Uhr\nstudio nagelneu | Hermannstr. 103\, 12051 Berlin \nDie Workshops werden von Frauen über 50 geleitet\, die viel erfahrung im Reparieren haben und über große handwerkliche Fähigkeiten verfügen. \nDie Teilnahme ist kostenlos. \nBitte meldet euch vorher an über melonseeds.collective@gmail.com \nTeilnahme ab 17 Jahren
URL:https://prinzessinnengarten-kollektiv.net/event/lets-renew-our-furniture-together-2/
LOCATION:studio nagelneu\, Hermannstraße 103\, Berliin\, 12051\, Deutschland
CATEGORIES:studio nagelneu
ATTACH;FMTTYPE=image/jpeg:https://prinzessinnengarten-kollektiv.net/wp-content/uploads/2024/04/240501_melon-seeds.jpg
END:VEVENT
BEGIN:VEVENT
DTSTART;TZID=Europe/Berlin:20240428T170000
DTEND;TZID=Europe/Berlin:20240428T170000
DTSTAMP:20260420T155233
CREATED:20240423T122032Z
LAST-MODIFIED:20240425T124315Z
UID:7700-1714323600-1714323600@prinzessinnengarten-kollektiv.net
SUMMARY:Kitchen Talk on Solidarity
DESCRIPTION:studio nagelneu presents \nKitchen Talk on Solidarity\nNomads North Euroasian Indigenous Community invite to an open discussion \nSunday 28t April  17h\nstudio nagelneu | Hermannstr. 103\, 12051 Berlin \nWith this friendly conversation-like discussion\, we would like to address the questions of solidarity among liberation/decolonial/anti-imperial movements and groups. Bringing to the table our backgrounds and positionalities\, as people of color in academia and as activists and allies\, we will touch upon the everyday acts of resistance and the nodes of solidarity we encounter throughout our collaborative works and friendship. \nWe will talk about how our racialized struggles are intersectional and stretch across borders\, genders\, queer identities\, ethnicities\, and class divisions. During the discussion\, we will draw examples of non-white Russians‘ experience of Russian imperialism/colonialism\, the lives of Muslim and Dalit people within Islamophobic and castiest structures of the far-right Hindu government in India\, and examples of imposed and proxy wars and occupation of the Arab countries as well as racism and violence against people of the Arab world throughout different geographies.\nWe will discuss how we can amplify each other voices in Western\, Russian\, white\, colonial\, Brahmanical power structures\, that present themselves in different forms but operated by the same logic\, from within which speaking on our own puts us in vulnerable positions and from within which we must unite voices to be heard. We intend to use excerpts from academic writings and books as entry points to discuss in an accessible and everyday language what they mean and speak to us. \nIn the second part of the event\, we invite everyone interested to share their experience of struggle\, resistance\, and solidarity as well as to bring questions and issues for further discussion.
URL:https://prinzessinnengarten-kollektiv.net/event/kitchen-talk-on-solidarity/
LOCATION:studio nagelneu\, Hermannstraße 103\, Berliin\, 12051\, Deutschland
CATEGORIES:studio nagelneu
ATTACH;FMTTYPE=image/jpeg:https://prinzessinnengarten-kollektiv.net/wp-content/uploads/2024/04/240428_solidatiry-ralk-Kopie.jpg
END:VEVENT
BEGIN:VEVENT
DTSTART;TZID=Europe/Berlin:20240429T150000
DTEND;TZID=Europe/Berlin:20240429T170000
DTSTAMP:20260420T155233
CREATED:20240419T110456Z
LAST-MODIFIED:20240419T110850Z
UID:7647-1714402800-1714410000@prinzessinnengarten-kollektiv.net
SUMMARY:Zirkus Treff in der Hasenheide
DESCRIPTION:Unsere Parkhausmeister*innen präsentieren \nZirkus Treff in der Hasenheide\n  \nmontags 15-17 Uhr \nLustig und bewegt in die Woche starten? Kein Problem! Hier könnt ihr zusammen jonglieren lernen\, in Bewegung kommen und artistisch den Frühling im Park genießen. Klein und Groß sind willkommen! \nHINWEISE: \nManche Workshops/Angebote bewegen sich durch den Park\, es kann also vorkommen\, dass ihr uns nach der Startuhrzeit nicht mehr an der gleichen Stelle findet. Ihr erkennt uns immer an den roten Westen mit „FairPlay im Park“ draufstehen \nDenkt an für das Wetter passende Kleidung.\nBei andauernden Regen fällt der Termin ersatzlos aus.\nAlle Angebote sind ohne Anmeldung und kostenlos. \nTREFFPUNKT: \nAm Beet an der alten Eiche\nWiese am Eingang Hasenheide (Straße)/Tierpark\nNähe U-Bhf Hermannplatz
URL:https://prinzessinnengarten-kollektiv.net/event/zirkus-treff-in-der-hasenheide-2/
CATEGORIES:Park
END:VEVENT
BEGIN:VEVENT
DTSTART;TZID=Europe/Berlin:20240429T183000
DTEND;TZID=Europe/Berlin:20240429T183000
DTSTAMP:20260420T155233
CREATED:20240423T120935Z
LAST-MODIFIED:20240423T120935Z
UID:7692-1714415400-1714415400@prinzessinnengarten-kollektiv.net
SUMMARY:Küfa – Küche für alle im studio nagelneu
DESCRIPTION:studio nagelneu presents \nKüfa – Küche für alle im studio nagelneu\n  \nMontag 29. April ab 18:30\nstudio nagelneu | Hermannstraße 103\, 12051 Berlin \nKommt vobei zum gemeinsamen Kochen und Essen mit der Nachbarschaft. Lasst uns die erste Küfa des Jahres feiern\, bei der wir draußen essen. \nFalls ihr Kontakte zu Foodsharing habt\, meldet euch gern bei uns! \nAuf Spendenbasis\, jeder kann essen 🙂 \n 
URL:https://prinzessinnengarten-kollektiv.net/event/kuefa-kueche-fuer-alle-im-studio-nagelneu-5/
LOCATION:studio nagelneu\, Hermannstraße 103\, Berliin\, 12051\, Deutschland
CATEGORIES:studio nagelneu
ATTACH;FMTTYPE=image/jpeg:https://prinzessinnengarten-kollektiv.net/wp-content/uploads/2024/04/kuefa29.04-01-Kopie-scaled.jpg
END:VEVENT
BEGIN:VEVENT
DTSTART;TZID=Europe/Berlin:20240430T153000
DTEND;TZID=Europe/Berlin:20240430T170000
DTSTAMP:20260420T155233
CREATED:20240419T111212Z
LAST-MODIFIED:20240419T111212Z
UID:7668-1714491000-1714496400@prinzessinnengarten-kollektiv.net
SUMMARY:Gärtnern & Werkeln in der Hasenheide
DESCRIPTION:Unsere Parkhausmeister*innen präsentieren \nGärtnern & Werkeln in der Hasenheide\ndienstags 15:30–17:00 \nWir sind vor Ort und werden gärtnern\, werkeln und aufräumen. Ihr könnt immer gerne mithelfen. Wir freuen uns über jede Unterstützung. Die Hasenheide braucht euch! \nHINWEISE: \nManche Workshops/Angebote bewegen sich durch den Park\, es kann also vorkommen\, dass ihr uns nach der Startuhrzeit nicht mehr an der gleichen Stelle findet. Ihr erkennt uns immer an den roten Westen mit „FairPlay im Park“ draufstehen \nDenkt an für das Wetter passende Kleidung.\nBei andauernden Regen fällt der Termin ersatzlos aus. \nAlle Angebote sind ohne Anmeldung und kostenlos. \nTREFFPUNKT: \nAm Beet an der alten Eiche\nWiese am Eingang Hasenheide (Straße)/Tierpark\nNähe U-Bhf Hermannplatz \n 
URL:https://prinzessinnengarten-kollektiv.net/event/gaertnern-werkeln-in-der-hasenheide-2/
CATEGORIES:Park
END:VEVENT
END:VCALENDAR