BEGIN:VCALENDAR
VERSION:2.0
PRODID:-//prinzessinnengarten kollektiv berlin - ECPv6.15.18//NONSGML v1.0//EN
CALSCALE:GREGORIAN
METHOD:PUBLISH
X-ORIGINAL-URL:https://prinzessinnengarten-kollektiv.net
X-WR-CALDESC:Veranstaltungen für prinzessinnengarten kollektiv berlin
REFRESH-INTERVAL;VALUE=DURATION:PT1H
X-Robots-Tag:noindex
X-PUBLISHED-TTL:PT1H
BEGIN:VTIMEZONE
TZID:Europe/Berlin
BEGIN:DAYLIGHT
TZOFFSETFROM:+0100
TZOFFSETTO:+0200
TZNAME:CEST
DTSTART:20210328T010000
END:DAYLIGHT
BEGIN:STANDARD
TZOFFSETFROM:+0200
TZOFFSETTO:+0100
TZNAME:CET
DTSTART:20211031T010000
END:STANDARD
BEGIN:DAYLIGHT
TZOFFSETFROM:+0100
TZOFFSETTO:+0200
TZNAME:CEST
DTSTART:20220327T010000
END:DAYLIGHT
BEGIN:STANDARD
TZOFFSETFROM:+0200
TZOFFSETTO:+0100
TZNAME:CET
DTSTART:20221030T010000
END:STANDARD
BEGIN:DAYLIGHT
TZOFFSETFROM:+0100
TZOFFSETTO:+0200
TZNAME:CEST
DTSTART:20230326T010000
END:DAYLIGHT
BEGIN:STANDARD
TZOFFSETFROM:+0200
TZOFFSETTO:+0100
TZNAME:CET
DTSTART:20231029T010000
END:STANDARD
END:VTIMEZONE
BEGIN:VEVENT
DTSTART;TZID=Europe/Berlin:20220303T190000
DTEND;TZID=Europe/Berlin:20220303T210000
DTSTAMP:20260425T123541
CREATED:20220218T093908Z
LAST-MODIFIED:20220413T090611Z
UID:2810-1646334000-1646341200@prinzessinnengarten-kollektiv.net
SUMMARY:Drawing Night Berlin
DESCRIPTION:On March 3rd we will host the #drawingnightsberlin again 🙌 \n⏰We´re starting at 19:00\n🏠 Location is Studio NagelNeu\n📧 Registration via email: drawingnightsberlin@gmail.com\nYou will receive all important informations via email. \nThere are only 13 spots available (2G+) \n🙏 we kindly ask for donations \n💗 This event is for everyone who is interested in drawing\, painting and other creative techniques. Every skill level is welcome! \nDas studio nagelneu\, ein ehemaliges Nagelstudio\, wird für die nächsten zwei Jahre zum öffentlichen Wohnzimmer für den Kiez. Initiiert vom Prinzessinnengarten Kollektiv Berlin und gestaltet vom Berliner Architekt:innen Kollektiv Team Dis+Ko wird der Raum zwischengenutzt und bietet Platz für Initiativen aus der Nachbarschaft\, Workshops\, Treffen und Veranstaltungen – für euch! \nWeitere Infos dazu findet ihr hier! \n  \nDiese Veranstaltung findet im Rahmen des Edible Cities Network statt
URL:https://prinzessinnengarten-kollektiv.net/event/drawing-night-berlin/
LOCATION:studio nagelneu\, Hermannstraße 103\, Berliin\, 12051\, Deutschland
CATEGORIES:edicitnet,studio nagelneu
ATTACH;FMTTYPE=image/jpeg:https://prinzessinnengarten-kollektiv.net/wp-content/uploads/2022/02/220303_drawing-nights.jpg
END:VEVENT
BEGIN:VEVENT
DTSTART;TZID=Europe/Berlin:20220317T200000
DTEND;TZID=Europe/Berlin:20220317T213000
DTSTAMP:20260425T123541
CREATED:20220125T122850Z
LAST-MODIFIED:20220207T095901Z
UID:1625-1647547200-1647552600@prinzessinnengarten-kollektiv.net
SUMMARY:WUNDERKAMMER II: Die Träume des Alexander von Humboldt
DESCRIPTION:Die Neuköllner Oper lädt ein zu WUNDERKAMMER II: Die Träume des Alexander von Humboldt – Eine Klang- und Geruchsreise nach Ägypten und Mexico \nTickets direkt bei der Neuköllner Oper hier. \nDer Welt einmal anders begegnen – mit zwei der „ältesten“ Körpersinne\, dem Hören und Riechen. Zu welchen Erfahrungen und Bildern trägt uns die mit dem Geruchssinn verwobene Musik? Welche Spiegelungen von „Welt“ und sich selbst entstehen\, wenn wir – als ein Angebot – die Augen schließen? \nInspiration und Reiseleiter für diese innere Exkursion sind Alexander von Humboldt und zwei seiner Erkundungsfahrten: eine erträumte und eine realisierte. 1799 hoffte Humboldt\, nach Ägypten kommen und die vorderasiatische Region erforschen zu können. Sein Traum zerschlug sich jedoch durch die Napoleonische Kriegspolitik. So musste er umdenken und gelangte schließlich nach Mittelamerika und Mexiko. Diese Destinationen stehen beispielhaft für das Erleben von Welt. Humboldt berichtet uns vom Zusammenhang von Mensch und Tier\, objektiver Welt und subjektivem Widerhall\, Natur und Kosmos. Sein offener\, empathischer Blick – der sich entschieden abgrenzt zum kolonialen Denken seiner Zeit – dient uns als Kompass für eine innere Reise über die Hör- und Geruchs-Sinne. Denn das hat der große Forschungsreisende nicht mitbringen können: Musik und Düfte. \nErmöglicht wird unsere Exkursion durch die Expertin für altägyptische Gerüche Dora Goldsmith\, die in Mexiko aufgewachsene Sängerin Ana Schwedhelm und die mexikanische Komponistin\, Sängerin und Performerin Diana Syrse\, die zu einer Klangreise entlang der historischen Reiseroute Humboldts einladen. \nMIT\nDiana Syrse (Komposition\, Gesang)\, Ana Schwedhelm (Gesang)\, Dora Goldsmith (Ägyptologin) \nKONZEPTION UND MODERATION\nBernhard Glocksin \nKONZEPTION UND RAUMGESTALTUNG\nSabrina Rossetto
URL:https://prinzessinnengarten-kollektiv.net/event/wunderkammer-ii-die-traeume-des-alexander-von-humboldt/
LOCATION:Kiezkapelle\, Hermannstraße 102\, Berlin\, 12051
END:VEVENT
BEGIN:VEVENT
DTSTART;TZID=Europe/Berlin:20220318T200000
DTEND;TZID=Europe/Berlin:20220318T213000
DTSTAMP:20260425T123541
CREATED:20220125T122913Z
LAST-MODIFIED:20220207T095847Z
UID:1628-1647633600-1647639000@prinzessinnengarten-kollektiv.net
SUMMARY:WUNDERKAMMER II: Die Träume des Alexander von Humboldt
DESCRIPTION:Die Neuköllner Oper lädt ein zu WUNDERKAMMER II: Die Träume des Alexander von Humboldt – Eine Klang- und Geruchsreise nach Ägypten und Mexico \nTickets direkt bei der Neuköllner Oper hier. \nDer Welt einmal anders begegnen – mit zwei der „ältesten“ Körpersinne\, dem Hören und Riechen. Zu welchen Erfahrungen und Bildern trägt uns die mit dem Geruchssinn verwobene Musik? Welche Spiegelungen von „Welt“ und sich selbst entstehen\, wenn wir – als ein Angebot – die Augen schließen? \nInspiration und Reiseleiter für diese innere Exkursion sind Alexander von Humboldt und zwei seiner Erkundungsfahrten: eine erträumte und eine realisierte. 1799 hoffte Humboldt\, nach Ägypten kommen und die vorderasiatische Region erforschen zu können. Sein Traum zerschlug sich jedoch durch die Napoleonische Kriegspolitik. So musste er umdenken und gelangte schließlich nach Mittelamerika und Mexiko. Diese Destinationen stehen beispielhaft für das Erleben von Welt. Humboldt berichtet uns vom Zusammenhang von Mensch und Tier\, objektiver Welt und subjektivem Widerhall\, Natur und Kosmos. Sein offener\, empathischer Blick – der sich entschieden abgrenzt zum kolonialen Denken seiner Zeit – dient uns als Kompass für eine innere Reise über die Hör- und Geruchs-Sinne. Denn das hat der große Forschungsreisende nicht mitbringen können: Musik und Düfte. \nErmöglicht wird unsere Exkursion durch die Expertin für altägyptische Gerüche Dora Goldsmith\, die in Mexiko aufgewachsene Sängerin Ana Schwedhelm und die mexikanische Komponistin\, Sängerin und Performerin Diana Syrse\, die zu einer Klangreise entlang der historischen Reiseroute Humboldts einladen. \nMIT\nDiana Syrse (Komposition\, Gesang)\, Ana Schwedhelm (Gesang)\, Dora Goldsmith (Ägyptologin) \nKONZEPTION UND MODERATION\nBernhard Glocksin \nKONZEPTION UND RAUMGESTALTUNG\nSabrina Rossetto
URL:https://prinzessinnengarten-kollektiv.net/event/wunderkammer-ii-die-traeume-des-alexander-von-humboldt-2-2/
LOCATION:Kiezkapelle\, Hermannstraße 102\, Berlin\, 12051
END:VEVENT
BEGIN:VEVENT
DTSTART;TZID=Europe/Berlin:20220319T200000
DTEND;TZID=Europe/Berlin:20220319T213000
DTSTAMP:20260425T123541
CREATED:20220125T122907Z
LAST-MODIFIED:20220207T095831Z
UID:1627-1647720000-1647725400@prinzessinnengarten-kollektiv.net
SUMMARY:WUNDERKAMMER II: Die Träume des Alexander von Humboldt
DESCRIPTION:Die Neuköllner Oper lädt ein zu WUNDERKAMMER II: Die Träume des Alexander von Humboldt – Eine Klang- und Geruchsreise nach Ägypten und Mexico \nTickets direkt bei der Neuköllner Oper hier. \nDer Welt einmal anders begegnen – mit zwei der „ältesten“ Körpersinne\, dem Hören und Riechen. Zu welchen Erfahrungen und Bildern trägt uns die mit dem Geruchssinn verwobene Musik? Welche Spiegelungen von „Welt“ und sich selbst entstehen\, wenn wir – als ein Angebot – die Augen schließen? \nInspiration und Reiseleiter für diese innere Exkursion sind Alexander von Humboldt und zwei seiner Erkundungsfahrten: eine erträumte und eine realisierte. 1799 hoffte Humboldt\, nach Ägypten kommen und die vorderasiatische Region erforschen zu können. Sein Traum zerschlug sich jedoch durch die Napoleonische Kriegspolitik. So musste er umdenken und gelangte schließlich nach Mittelamerika und Mexiko. Diese Destinationen stehen beispielhaft für das Erleben von Welt. Humboldt berichtet uns vom Zusammenhang von Mensch und Tier\, objektiver Welt und subjektivem Widerhall\, Natur und Kosmos. Sein offener\, empathischer Blick – der sich entschieden abgrenzt zum kolonialen Denken seiner Zeit – dient uns als Kompass für eine innere Reise über die Hör- und Geruchs-Sinne. Denn das hat der große Forschungsreisende nicht mitbringen können: Musik und Düfte. \nErmöglicht wird unsere Exkursion durch die Expertin für altägyptische Gerüche Dora Goldsmith\, die in Mexiko aufgewachsene Sängerin Ana Schwedhelm und die mexikanische Komponistin\, Sängerin und Performerin Diana Syrse\, die zu einer Klangreise entlang der historischen Reiseroute Humboldts einladen. \nMIT\nDiana Syrse (Komposition\, Gesang)\, Ana Schwedhelm (Gesang)\, Dora Goldsmith (Ägyptologin) \nKONZEPTION UND MODERATION\nBernhard Glocksin \nKONZEPTION UND RAUMGESTALTUNG\nSabrina Rossetto
URL:https://prinzessinnengarten-kollektiv.net/event/wunderkammer-ii-die-traeume-des-alexander-von-humboldt-2/
LOCATION:Kiezkapelle\, Hermannstraße 102\, Berlin\, 12051
ATTACH;FMTTYPE=image/jpeg:https://prinzessinnengarten-kollektiv.net/wp-content/uploads/2022/01/220301_wunderkammer-II.jpg
END:VEVENT
BEGIN:VEVENT
DTSTART;TZID=Europe/Berlin:20220326T160000
DTEND;TZID=Europe/Berlin:20220326T190000
DTSTAMP:20260425T123541
CREATED:20220112T084119Z
LAST-MODIFIED:20220413T090602Z
UID:1609-1648310400-1648321200@prinzessinnengarten-kollektiv.net
SUMMARY:keramiklub Workshop // Grundlagen [ausgebucht]
DESCRIPTION:keramiklub lädt alle ein\, die Interesse haben mit Ton zu arbeiten. Bei dem Workshop  geht es nicht darum\, die perfekte Schale zu töpfern\, sondern ein Gefühl für das Material  Ton zu bekommen\, mit ihm zu experimentieren\, der Fantasie und dem Spiel freien Lauf zu lassen. Der Workshop wird in zwei Termine aufgeteilt. Im ersten Termin lernt ihr das  Material Ton\, die Grundlagen des Töpferns und verschiedene Aufbautechniken kennen. Im  zweiten Termin setzen wir uns mit dem Glasieren auseinander. \nIm Keramik Grundlagen Kurs erfahrt ihr\, wann die Glasur Termine stattfinden (etwa einen Monat später)Samstag\, 22.01.2022 von 14.00 – 15.30 Uhr // Keramik Grundlagen [ausgebucht] \nSamstag\, 19.02.2022 von 16:00 – 19:00 Uhr // Keramik Grundlagen [ausgebucht]  \nSamstag\, 26.03.2022 von 16:00 – 19:00 Uhr // Keramik Grundlagen [ausgebucht] \nSamstag\, 23.04.2022 von 16:00 – 19:00 Uhr // Keramik Grundlagen \nAnmeldungen per Email an keramiklub@gmail.com \nDer Workshop findet unter 2G+ Bedingungen statt – bitte bringt entsprechende Nachweise  und einen tagesaktuellen Test von einer offiziellen Teststelle mit (schräg gegenüber\,  Hermannstr. 169\, gibt es eine Teststation “Testyou”). \n 
URL:https://prinzessinnengarten-kollektiv.net/event/keramik-klub-workshop-ausgebucht-3-2-2-2-2-2/
LOCATION:studio nagelneu\, Hermannstraße 103\, Berliin\, 12051\, Deutschland
CATEGORIES:edicitnet,studio nagelneu
ATTACH;FMTTYPE=image/jpeg:https://prinzessinnengarten-kollektiv.net/wp-content/uploads/2021/12/211218_keramik.jpg
END:VEVENT
BEGIN:VEVENT
DTSTART;TZID=Europe/Berlin:20220327T160000
DTEND;TZID=Europe/Berlin:20220327T210000
DTSTAMP:20260425T123541
CREATED:20220216T105427Z
LAST-MODIFIED:20220413T090556Z
UID:2515-1648396800-1648414800@prinzessinnengarten-kollektiv.net
SUMMARY:Workshop und Ausstellung über Krümel des Kapitalismus
DESCRIPTION:WORKSHOP und Ausstellung über Krümel des Kapitalismus.\nLachen und Weinen: Die Welt der Supermarktprospekte und unser Konsum. \nWORKSHOP and Exhibition about Crumbs of Capitalism\nLaugh and Cry: The World of Supermarket Brochures and our Consumption\n27.03.22\nWorkshop 16 – 19 Uhr\nAusstellung 19 – 21 UhrHast du Lust\, dich mal kritisch UND fröhlich mit unserem Konsum auseinanderzusetzen?Meinst geschnittenes Schweinefleisch zu einem Bärchen geformt\, dann gegart: Bärchenwurst ist ein gesellschaftliches Phänomen; für manche Menschen Gipfel der Geschmacklosigkeit – dennoch ein Kassenschlager. \nKostenlos\n(Mit Anmeldung bis zum 25. März)\nbaerchenwurst@mailbox.org\nInstagram _baerchenwurst_ \n  \nLanguages english/german \n  \nDas studio nagelneu\, ein ehemaliges Nagelstudio\, wird für die nächsten zwei Jahre zum öffentlichen Wohnzimmer für den Kiez. Initiiert vom Prinzessinnengarten Kollektiv Berlin und gestaltet vom Berliner Architekt:innen Kollektiv Team Dis+Ko wird der Raum zwischengenutzt und bietet Platz für Initiativen aus der Nachbarschaft\, Workshops\, Treffen und Veranstaltungen – für euch! \nDiese Veranstaltung findet im Rahmen des Edible Cities Network statt
URL:https://prinzessinnengarten-kollektiv.net/event/workshop-und-ausstellung-ueber-kruemel-des-kapitalismus/
LOCATION:studio nagelneu\, Hermannstraße 103\, Berliin\, 12051\, Deutschland
CATEGORIES:edicitnet,studio nagelneu
ATTACH;FMTTYPE=image/jpeg:https://prinzessinnengarten-kollektiv.net/wp-content/uploads/2022/02/220327_kruemel-des-kapitalismus.jpg
END:VEVENT
END:VCALENDAR