BEGIN:VCALENDAR
VERSION:2.0
PRODID:-//prinzessinnengarten kollektiv berlin - ECPv6.15.18//NONSGML v1.0//EN
CALSCALE:GREGORIAN
METHOD:PUBLISH
X-ORIGINAL-URL:https://prinzessinnengarten-kollektiv.net
X-WR-CALDESC:Veranstaltungen für prinzessinnengarten kollektiv berlin
REFRESH-INTERVAL;VALUE=DURATION:PT1H
X-Robots-Tag:noindex
X-PUBLISHED-TTL:PT1H
BEGIN:VTIMEZONE
TZID:Europe/Berlin
BEGIN:DAYLIGHT
TZOFFSETFROM:+0100
TZOFFSETTO:+0200
TZNAME:CEST
DTSTART:20200329T010000
END:DAYLIGHT
BEGIN:STANDARD
TZOFFSETFROM:+0200
TZOFFSETTO:+0100
TZNAME:CET
DTSTART:20201025T010000
END:STANDARD
BEGIN:DAYLIGHT
TZOFFSETFROM:+0100
TZOFFSETTO:+0200
TZNAME:CEST
DTSTART:20210328T010000
END:DAYLIGHT
BEGIN:STANDARD
TZOFFSETFROM:+0200
TZOFFSETTO:+0100
TZNAME:CET
DTSTART:20211031T010000
END:STANDARD
BEGIN:DAYLIGHT
TZOFFSETFROM:+0100
TZOFFSETTO:+0200
TZNAME:CEST
DTSTART:20220327T010000
END:DAYLIGHT
BEGIN:STANDARD
TZOFFSETFROM:+0200
TZOFFSETTO:+0100
TZNAME:CET
DTSTART:20221030T010000
END:STANDARD
END:VTIMEZONE
BEGIN:VEVENT
DTSTART;TZID=Europe/Berlin:20210603T120000
DTEND;TZID=Europe/Berlin:20210603T150000
DTSTAMP:20260423T135740
CREATED:20210602T083728Z
LAST-MODIFIED:20220513T090945Z
UID:802-1622721600-1622732400@prinzessinnengarten-kollektiv.net
SUMMARY:Baumscheiben-Pflanzaktion in der Hasenheide
DESCRIPTION:Es ist wieder soweit\, die Hasenheide soll noch grüner werden. Hier zu laden unsere Parkhausmeister:innen zur Aktion „Baumscheiben richtig begrünen“ ein.
URL:https://prinzessinnengarten-kollektiv.net/event/baumscheiben-pflanzaktion-in-der-hasenheide/
LOCATION:Jahn-Denkmal Hasenheide\, Jahn-Denkmal Hasenheide\, Hasenheide\, Berlin
CATEGORIES:Park
END:VEVENT
BEGIN:VEVENT
DTSTART;TZID=Europe/Berlin:20210605T110000
DTEND;TZID=Europe/Berlin:20210605T130000
DTSTAMP:20260423T135740
CREATED:20210204T114846Z
LAST-MODIFIED:20210521T090137Z
UID:588-1622890800-1622898000@prinzessinnengarten-kollektiv.net
SUMMARY:Kräuterwanderung mit Burkhard Bohne
DESCRIPTION:Der alte Friedhof\, die umliegenden Brachflächen und vor allem das riesige Tempelhofes Feld bieten abwechslungsreichen Raum für zahlreiche Wildkräuter\, aber auch für alte Bäume. Während der Tour entdecken wir zahlreiche Pflanzengesellschaften\, die sich hier angesiedelt haben und lernen\, wie wir Kräuter und auch Teile der Bäume für uns nutzen können. Selbst mitten in der Stadt können wir die Intelligenz der Natur sehr schnell erkennen.
URL:https://prinzessinnengarten-kollektiv.net/event/kraeuterwanderung-mit-burkhard-bohne/
LOCATION:Prinzessinnengarten Kollektiv Berlin\, Hermannstraße 99-105\, Berlin\, 12051\, Deutschland
END:VEVENT
BEGIN:VEVENT
DTSTART;TZID=Europe/Berlin:20210605T130000
DTEND;TZID=Europe/Berlin:20210605T150000
DTSTAMP:20260423T135740
CREATED:20210526T104543Z
LAST-MODIFIED:20210526T104543Z
UID:769-1622898000-1622905200@prinzessinnengarten-kollektiv.net
SUMMARY:Devil's Milk - Οutdoor Workshop by artist and researcher Bethan Hughes
DESCRIPTION:As part of the solo exhibition Hevea Act 2: Devil’s Milk by Bethan Hughes\, Centrum project space will offer a two-hour outdoor workshop where participants are invited to explore the botanical origins and material histories of rubber through a curated walk with the artist in the neighbourhood of Neukölln\, and a hands-on making session that will take place at Prinzessinnengarten
URL:https://prinzessinnengarten-kollektiv.net/event/devils-milk-%ce%bfutdoor-workshop-by-artist-and-researcher-bethan-hughes/
END:VEVENT
BEGIN:VEVENT
DTSTART;TZID=Europe/Berlin:20210605T140000
DTEND;TZID=Europe/Berlin:20210605T170000
DTSTAMP:20260423T135740
CREATED:20210526T095344Z
LAST-MODIFIED:20220513T090953Z
UID:763-1622901600-1622912400@prinzessinnengarten-kollektiv.net
SUMMARY:Parkfest Fair Play im Park
DESCRIPTION:Im Rahmen des Projektes „Fair Play im Park“ veranstalten wir zusammen mit dem SGA Neukölln\, bwgt\, dem Nachbarschaftsheim Neukölln\, Gangway und Fixpunkt ein Parkfest in der Hasenheide.
URL:https://prinzessinnengarten-kollektiv.net/event/parkfest-fair-play-im-park/
LOCATION:Hasenheide am Columbiadamm
CATEGORIES:Park
END:VEVENT
BEGIN:VEVENT
DTSTART;TZID=Europe/Berlin:20210605T160000
DTEND;TZID=Europe/Berlin:20210605T180000
DTSTAMP:20260423T135740
CREATED:20210204T110246Z
LAST-MODIFIED:20210521T090101Z
UID:579-1622908800-1622916000@prinzessinnengarten-kollektiv.net
SUMMARY:Kräuterworkshop mit Burkhard Bohne - Kräutergärtnern: so fängt es an
DESCRIPTION:Kein Platz und trotzdem Kräuter – das ist das Motto dieses Nachmittags. Kräuter wachsen überall und sind super in der Stadt. Wenn du Lust hast\, frische Kräuter selbst zu ziehen\, bist du hier genau richtig. Heute wollen wir säen\, Standorte und Bedingungen für Kräuter kennenlernen und es geht natürlich um die wichtigsten Fragen bei euch Zuhause: Was geht wo mit Kräutern und was muss ich tun.
URL:https://prinzessinnengarten-kollektiv.net/event/kraeutergaertnern-so-faengt-es-an/
LOCATION:Prinzessinnengarten Kollektiv Berlin\, Hermannstraße 99-105\, Berlin\, 12051\, Deutschland
END:VEVENT
BEGIN:VEVENT
DTSTART;TZID=Europe/Berlin:20210607T180000
DTEND;TZID=Europe/Berlin:20210607T200000
DTSTAMP:20260423T135740
CREATED:20210521T091608Z
LAST-MODIFIED:20210521T150241Z
UID:736-1623088800-1623096000@prinzessinnengarten-kollektiv.net
SUMMARY:Unkultiviert - Wildkräuterführung:Heimisches Superfood
DESCRIPTION:Was wächst alles an wildem Essbarem um uns herum? Wildpflanzen sind das regionalste\, saisonalste und nachhaltigste Lebensmittel\, das wir haben. Sie wachsen in unserer Umgebung\, wir müssen sie nur erkennen und pflücken! Sie sind supergesund und bieten zudem neue Geschmackserlebnisse in der Küche. Zudem sind gerade die Pflanzen von besonderer Heilkraft für uns\, die in unserer Umgebung wachsen. Sie sind unser heimisches Superfood! Bei einer Entdeckungstour über den Friedhof lernen wir jede Menge wildes Grün von unbekannten Seiten kennen.
URL:https://prinzessinnengarten-kollektiv.net/event/wildkraeuterfuehrung-heimisches-superfood/
LOCATION:Prinzessinnengarten Kollektiv Berlin\, Hermannstraße 99-105\, Berlin\, 12051\, Deutschland
END:VEVENT
BEGIN:VEVENT
DTSTART;TZID=Europe/Berlin:20210611T220000
DTEND;TZID=Europe/Berlin:20210611T233000
DTSTAMP:20260423T135740
CREATED:20210531T154210Z
LAST-MODIFIED:20210607T181250Z
UID:787-1623448800-1623454200@prinzessinnengarten-kollektiv.net
SUMMARY:OpenAir Gartenkino - Der Rausch (OmU)
DESCRIPTION:n Kooperation mit dem b-ware! Ladenkino präsentieren wir euch auch diesem Sommer wieder eine feine Auswahl von Filmen unter freiem Himmel. \n  \nDieses Mal im Freiluft Menue: \n  \nDer Rausch
URL:https://prinzessinnengarten-kollektiv.net/event/openair-gartenkino-der-rausch-omeu/
LOCATION:Prinzessinnengarten Kollektiv Berlin\, Hermannstraße 99-105\, Berlin\, 12051\, Deutschland
END:VEVENT
BEGIN:VEVENT
DTSTART;TZID=Europe/Berlin:20210612T160000
DTEND;TZID=Europe/Berlin:20210612T180000
DTSTAMP:20260423T135740
CREATED:20210204T110416Z
LAST-MODIFIED:20210204T110416Z
UID:581-1623513600-1623520800@prinzessinnengarten-kollektiv.net
SUMMARY:Kräuterworkshop mit Burkhard Bohne – Kräutervielfalt geht überall
DESCRIPTION:Im Juni ist es für Kräuter am schönsten\, denn alles wächst\, duftet und blüht. An diesem Nachmittag werden wir eine Menge Heil- und Küchenkräuter kennenlernen. Wir sehen\, wo sie am besten wachsen und können die ersten Blätter ernten. Natürlich erfahren wir\, wie wir sie am besten haltbar machen und lagern können. Natürlich gibt es viele Ernte- und Pflegetipps für euch zu Hause.
URL:https://prinzessinnengarten-kollektiv.net/event/kraeuterworkshop-mit-burkhard-bohne-kraeutervielfalt-geht-ueberall/
LOCATION:Prinzessinnengarten Kollektiv Berlin\, Hermannstraße 99-105\, Berlin\, 12051\, Deutschland
END:VEVENT
BEGIN:VEVENT
DTSTART;VALUE=DATE:20210618
DTEND;VALUE=DATE:20210622
DTSTAMP:20260423T135740
CREATED:20210523T100055Z
LAST-MODIFIED:20220514T083433Z
UID:747-1623974400-1624319999@prinzessinnengarten-kollektiv.net
SUMMARY:48 Stunden Neukölln: Bäume - die Luftkünstler unserer Stadt
DESCRIPTION:Mit unserem Beitrag zum Kunst- und Kulturfestival 48 Stunden Neukölln mit dem Jahresmotto „Luft“ nehmen wir das Thema „Baum“ als unerlässlichen Luftverbesserer und Lebensraumgestalter in den Fokus. \nMit freundlicher Unterstützung vom Projektfonds Urbane Praxis.
URL:https://prinzessinnengarten-kollektiv.net/event/48-stunden-neukoelln-baeume-die-luftkuenstler-unserer-stadt/
LOCATION:Prinzessinnengarten Kollektiv Berlin\, Hermannstraße 99-105\, Berlin\, 12051\, Deutschland
CATEGORIES:urbane praxis
ATTACH;FMTTYPE=image/jpeg:https://prinzessinnengarten-kollektiv.net/wp-content/uploads/2021/05/IMG_2702.jpg
END:VEVENT
BEGIN:VEVENT
DTSTART;TZID=Europe/Berlin:20210619T110000
DTEND;TZID=Europe/Berlin:20210619T150000
DTSTAMP:20260423T135740
CREATED:20210523T104804Z
LAST-MODIFIED:20220413T091224Z
UID:749-1624100400-1624114800@prinzessinnengarten-kollektiv.net
SUMMARY:Aktionstag 19. Juni 2021
DESCRIPTION:Unser buntes Programm für den Aktionstag im Juni: \nab 11 Uhr Input zu regenerativer Landwirtschaft & Gärtnern auf dem Gemüse-Acker\nab 11 Uhr Tee-Kräuter Ertne auf dem Acker\n11-13 Uhr Kräuter-Sirup auf der Umweltbildungswiese \nUm die Teilnahme für alle so sicher wie möglich zu gestalten\, beachtet bitte unsere aktuellen Hinweise zur Teilnahme an unseren Beteiligungsangeboten und meldet euch vorab via mitmachen@prinzessinnengarten.net unter Angabe eures gewünschten Einsatzbereiches an. \n  \nDiese Veranstaltung findet im Rahmen des Edible Cities Networks statt.
URL:https://prinzessinnengarten-kollektiv.net/event/749/
LOCATION:Prinzessinnengarten Kollektiv Berlin\, Hermannstraße 99-105\, Berlin\, 12051\, Deutschland
CATEGORIES:Aktionstag,edicitnet
ATTACH;FMTTYPE=image/jpeg:https://prinzessinnengarten-kollektiv.net/wp-content/uploads/2021/05/210417_acker_3.jpg
END:VEVENT
BEGIN:VEVENT
DTSTART;TZID=Europe/Berlin:20210619T120000
DTEND;TZID=Europe/Berlin:20210619T150000
DTSTAMP:20260423T135740
CREATED:20210523T113147Z
LAST-MODIFIED:20220413T091209Z
UID:761-1624104000-1624114800@prinzessinnengarten-kollektiv.net
SUMMARY:Kick-Off EdiCitNet
DESCRIPTION:Seit 2020 sind wir mit dem Prinzessinnengarten Teil des internationalen Modell-Projektes Edible Cities Network\, das Lösungsansätze für essbare Städte erprobt und herausfinden möchte\, wie diese Lösungen benachteiligte Quartiere stärken können. \n  \nBei diesem Kick-Off stellt sich das Projekt in seiner ganzen Vielfalt vor und informiert\, was bisher geschah\, was zukünftig geplant ist und wie wir alle die essbare Stadt gestalten können.
URL:https://prinzessinnengarten-kollektiv.net/event/kick-off-edicitnet/
LOCATION:Prinzessinnengarten Kollektiv Berlin\, Hermannstraße 99-105\, Berlin\, 12051\, Deutschland
CATEGORIES:edicitnet
END:VEVENT
BEGIN:VEVENT
DTSTART;TZID=Europe/Berlin:20210619T160000
DTEND;TZID=Europe/Berlin:20210619T163000
DTSTAMP:20260423T135740
CREATED:20210617T113143Z
LAST-MODIFIED:20220514T081114Z
UID:816-1624118400-1624120200@prinzessinnengarten-kollektiv.net
SUMMARY:Kinder Theater "Im Garten der Riesin"
DESCRIPTION:Ein Musikalisches Kindertheater\, voller Humor und Sensibilität\, eine Geschichte über Entdeckungen\, Verwandlungen und das Teilen. \nIm Garten von Frau Riesin haben sich die Kinder ausgebreitet und der Frühling macht Musik! Sie aber wütet im grünen „meins\, alles meins\, mein Garten ist mein Schatz“.\nWird die Riesin erkennen wie schön es ist zu teilen oder will sie ihren Garten nur für sich selbst behalten?
URL:https://prinzessinnengarten-kollektiv.net/event/kinder-theater-im-garten-der-riesin/
LOCATION:Prinzessinnengarten Kollektiv Berlin\, Hermannstraße 99-105\, Berlin\, 12051\, Deutschland
CATEGORIES:urbane praxis
ATTACH;FMTTYPE=image/jpeg:https://prinzessinnengarten-kollektiv.net/wp-content/uploads/2021/06/210619_im-garten-der-riesin-1-scaled.jpg
END:VEVENT
BEGIN:VEVENT
DTSTART;TZID=Europe/Berlin:20210620T170000
DTEND;TZID=Europe/Berlin:20210620T200000
DTSTAMP:20260423T135740
CREATED:20210608T080927Z
LAST-MODIFIED:20210608T081909Z
UID:808-1624208400-1624219200@prinzessinnengarten-kollektiv.net
SUMMARY:Bodenbildung in der Praxis - Open Soil Atlas
DESCRIPTION:Willst du Teil einer kollektiven Bodenkartierungs-Erfahrung sein? Willst du mehr über den Boden lernen\, wie man die Erde unter unseren Füßen testet und analysiert?\nUnser begeistertes und erfahrenes OPEN SOIL ATLAS-Team wird dich dabei anleiten und unterstützen\, den Boden in Berlin zu testen!
URL:https://prinzessinnengarten-kollektiv.net/event/bodenbildung-in-der-praxis-open-soil-atlas/
LOCATION:Prinzessinnengarten Kollektiv Berlin\, Hermannstraße 99-105\, Berlin\, 12051\, Deutschland
END:VEVENT
BEGIN:VEVENT
DTSTART;TZID=Europe/Berlin:20210621T140000
DTEND;TZID=Europe/Berlin:20210621T200000
DTSTAMP:20260423T135740
CREATED:20210615T084903Z
LAST-MODIFIED:20220513T091305Z
UID:813-1624284000-1624305600@prinzessinnengarten-kollektiv.net
SUMMARY:Fête de la Musique im Gutsgarten Hellersdorf
DESCRIPTION:Montag\, dem 21. Juni\, lädt der Hellersdorfer Gutsgarten zum ersten Mal zur Fête de la Musique ein.
URL:https://prinzessinnengarten-kollektiv.net/event/fete-de-la-musique-im-gutsgarten-hellersdorf/
LOCATION:GutsGarten Hellersdorf\, Alt-Hellersdorf 17\, Berlin\, 12626\, Deutschland
CATEGORIES:edicitnet,Gutsgarten
END:VEVENT
BEGIN:VEVENT
DTSTART;TZID=Europe/Berlin:20210625T220000
DTEND;TZID=Europe/Berlin:20210625T233000
DTSTAMP:20260423T135740
CREATED:20210531T153927Z
LAST-MODIFIED:20210531T154542Z
UID:785-1624658400-1624663800@prinzessinnengarten-kollektiv.net
SUMMARY:OpenAir Gartenkino - Bad Luck Banging or Loony Porn (OmeU)
DESCRIPTION:Bad Luck Banging or Loony Porn ist ein Komödie aus dem Jahr 2021 von Radu Jude mit Katia Pascariu\, Claudia Ieremia und Olimpia Malai. \n  \nDer Berlinale-Gewinner 2021\, die beißende rumänische Satire Bad Luck Banging or Loony Porn\, lässt eine Lehrerin um ihren Ruf und ihren Job kämpfen\, nachdem ein Sex-Tape von ihr öffentlich wird.
URL:https://prinzessinnengarten-kollektiv.net/event/openair-gartenkino-bad-luck-banging-or-loony-porn-omeu/
LOCATION:Prinzessinnengarten Kollektiv Berlin\, Hermannstraße 99-105\, Berlin\, 12051\, Deutschland
END:VEVENT
BEGIN:VEVENT
DTSTART;TZID=Europe/Berlin:20210627T160000
DTEND;TZID=Europe/Berlin:20210627T163000
DTSTAMP:20260423T135740
CREATED:20210617T113424Z
LAST-MODIFIED:20220514T081130Z
UID:819-1624809600-1624811400@prinzessinnengarten-kollektiv.net
SUMMARY:Kinder Theater "Im Garten der Riesin"
DESCRIPTION:Ein Musikalisches Kindertheater\, voller Humor und Sensibilität\, eine Geschichte über Entdeckungen\, Verwandlungen und das Teilen. \nIm Garten von Frau Riesin haben sich die Kinder ausgebreitet und der Frühling macht Musik! Sie aber wütet im grünen „meins\, alles meins\, mein Garten ist mein Schatz“.\nWird die Riesin erkennen wie schön es ist zu teilen oder will sie ihren Garten nur für sich selbst behalten?\nMittels Objekttheater\, Volkslieder\, Musik\, Schauspiel und Rhythmus lassen wir eine altbekannte Geschichte neu entstehen.
URL:https://prinzessinnengarten-kollektiv.net/event/kinder-theater-im-garten-der-riesin-2/
LOCATION:Prinzessinnengarten Kollektiv Berlin\, Hermannstraße 99-105\, Berlin\, 12051\, Deutschland
CATEGORIES:urbane praxis
ATTACH;FMTTYPE=image/jpeg:https://prinzessinnengarten-kollektiv.net/wp-content/uploads/2021/06/210619_im-garten-der-riesin-1-scaled.jpg
END:VEVENT
END:VCALENDAR