BEGIN:VCALENDAR
VERSION:2.0
PRODID:-//prinzessinnengarten kollektiv berlin - ECPv6.15.18//NONSGML v1.0//EN
CALSCALE:GREGORIAN
METHOD:PUBLISH
X-WR-CALNAME:prinzessinnengarten kollektiv berlin
X-ORIGINAL-URL:https://prinzessinnengarten-kollektiv.net
X-WR-CALDESC:Veranstaltungen für prinzessinnengarten kollektiv berlin
REFRESH-INTERVAL;VALUE=DURATION:PT1H
X-Robots-Tag:noindex
X-PUBLISHED-TTL:PT1H
BEGIN:VTIMEZONE
TZID:Europe/Berlin
BEGIN:DAYLIGHT
TZOFFSETFROM:+0100
TZOFFSETTO:+0200
TZNAME:CEST
DTSTART:20250330T010000
END:DAYLIGHT
BEGIN:STANDARD
TZOFFSETFROM:+0200
TZOFFSETTO:+0100
TZNAME:CET
DTSTART:20251026T010000
END:STANDARD
BEGIN:DAYLIGHT
TZOFFSETFROM:+0100
TZOFFSETTO:+0200
TZNAME:CEST
DTSTART:20260329T010000
END:DAYLIGHT
BEGIN:STANDARD
TZOFFSETFROM:+0200
TZOFFSETTO:+0100
TZNAME:CET
DTSTART:20261025T010000
END:STANDARD
BEGIN:DAYLIGHT
TZOFFSETFROM:+0100
TZOFFSETTO:+0200
TZNAME:CEST
DTSTART:20270328T010000
END:DAYLIGHT
BEGIN:STANDARD
TZOFFSETFROM:+0200
TZOFFSETTO:+0100
TZNAME:CET
DTSTART:20271031T010000
END:STANDARD
END:VTIMEZONE
BEGIN:VEVENT
DTSTART;TZID=Europe/Berlin:20260425T150000
DTEND;TZID=Europe/Berlin:20260425T180000
DTSTAMP:20260425T024749
CREATED:20260331T071409Z
LAST-MODIFIED:20260331T071409Z
UID:10551-1777129200-1777140000@prinzessinnengarten-kollektiv.net
SUMMARY:The Best of Both Worlds - Collage & Lino Print Workshop
DESCRIPTION:studio nagelneu presents \nThe Best of Both Worlds – Collage & Lino Print Workshop\nSaturday April 25th 15-18 h\nstudio nagelneu | Hermannstraße 102\, 12051 Berlin \n“THE BEST OF BOTH WORLDS” is a hands-on workshop taking place on April 25th at studio nagelneu\, where you’ll explore two creative techniques — collage and lino printing — and combine them into one final piece. Guided by two artists\, Amanda & Emma\, you’ll experiment with both intuitive layering and more intentional carving\, with no experience needed. The workshop will be held in English and runs from 15:00 to 18:00 (registration required). \nFrom 18:00 onwards\, the space opens up for a relaxed hangout where everyone is welcome to join\, see the artworks\, have a drink\, and enjoy the atmosphere together. \nRegistration & more info: https://forms.gle/684z1hdouyfvdBUr8\nWorkshop fee: 15€ standard | 10€ low-income
URL:https://prinzessinnengarten-kollektiv.net/event/collage-lino-print-workshop/
LOCATION:studio nagelneu\, Hermannstraße 103\, Berliin\, 12051\, Deutschland
CATEGORIES:studio nagelneu
ATTACH;FMTTYPE=image/jpeg:https://prinzessinnengarten-kollektiv.net/wp-content/uploads/2026/03/2604_Workshop_Amanda_Emma-1.jpg
END:VEVENT
END:VCALENDAR