BEGIN:VCALENDAR
VERSION:2.0
PRODID:-//prinzessinnengarten kollektiv berlin - ECPv6.15.18//NONSGML v1.0//EN
CALSCALE:GREGORIAN
METHOD:PUBLISH
X-WR-CALNAME:prinzessinnengarten kollektiv berlin
X-ORIGINAL-URL:https://prinzessinnengarten-kollektiv.net
X-WR-CALDESC:Veranstaltungen für prinzessinnengarten kollektiv berlin
REFRESH-INTERVAL;VALUE=DURATION:PT1H
X-Robots-Tag:noindex
X-PUBLISHED-TTL:PT1H
BEGIN:VTIMEZONE
TZID:Europe/Berlin
BEGIN:DAYLIGHT
TZOFFSETFROM:+0100
TZOFFSETTO:+0200
TZNAME:CEST
DTSTART:20250330T010000
END:DAYLIGHT
BEGIN:STANDARD
TZOFFSETFROM:+0200
TZOFFSETTO:+0100
TZNAME:CET
DTSTART:20251026T010000
END:STANDARD
BEGIN:DAYLIGHT
TZOFFSETFROM:+0100
TZOFFSETTO:+0200
TZNAME:CEST
DTSTART:20260329T010000
END:DAYLIGHT
BEGIN:STANDARD
TZOFFSETFROM:+0200
TZOFFSETTO:+0100
TZNAME:CET
DTSTART:20261025T010000
END:STANDARD
BEGIN:DAYLIGHT
TZOFFSETFROM:+0100
TZOFFSETTO:+0200
TZNAME:CEST
DTSTART:20270328T010000
END:DAYLIGHT
BEGIN:STANDARD
TZOFFSETFROM:+0200
TZOFFSETTO:+0100
TZNAME:CET
DTSTART:20271031T010000
END:STANDARD
END:VTIMEZONE
BEGIN:VEVENT
DTSTART;TZID=Europe/Berlin:20260421T190000
DTEND;TZID=Europe/Berlin:20260421T210000
DTSTAMP:20260421T020342
CREATED:20260331T070027Z
LAST-MODIFIED:20260407T122238Z
UID:10544-1776798000-1776805200@prinzessinnengarten-kollektiv.net
SUMMARY:Threadquarters – Textile Interventions for Digital Democracy
DESCRIPTION:studio nagelneu presents \nThreadquarters – Textile Interventions for Digital Democracy\nDienstag\, 21. April 19-21 Uhr\nstudio nagelneu | Hermannstraße 102\, 12051 Berlin \n  \nHow can we foster democratic conversation in an age of online radicalisation\, polarisation\, and shrinking public discourse? In this workshop\, we aim to translate digital phenomena such as memes\, slogans\, symbols\, or viral trends into tangible\, analogue encounters that encourage reflection\, dialogue\, and critical thinking. \nThis workshop serves as a test case to explore the practicality and impact of Threadquarters’ methods\, while further developing them based on these insights. We warmly invite anyone interested in artistically led strategies that foster reflection\, dialogue\, and critical thinking to join us. \nSign-up via threadsandtits@gmail.com \nAbout Threadquarters: Threadquarters\, initiated by Katharina Spitz and Threads & Tits\, is an artistic research project investigating how playful\, artistic and textile-based approaches can strengthen agency for democratic discource amidst online radicalisation. \nWebsite: threadquarters.org \n 
URL:https://prinzessinnengarten-kollektiv.net/event/threadquarters-textile-interventions-for-digital-democracy/
CATEGORIES:studio nagelneu
ATTACH;FMTTYPE=image/jpeg:https://prinzessinnengarten-kollektiv.net/wp-content/uploads/2026/03/2604_threads.jpg
END:VEVENT
END:VCALENDAR