BEGIN:VCALENDAR
VERSION:2.0
PRODID:-//prinzessinnengarten kollektiv berlin - ECPv6.15.18//NONSGML v1.0//EN
CALSCALE:GREGORIAN
METHOD:PUBLISH
X-ORIGINAL-URL:https://prinzessinnengarten-kollektiv.net
X-WR-CALDESC:Veranstaltungen für prinzessinnengarten kollektiv berlin
REFRESH-INTERVAL;VALUE=DURATION:PT1H
X-Robots-Tag:noindex
X-PUBLISHED-TTL:PT1H
BEGIN:VTIMEZONE
TZID:Europe/Berlin
BEGIN:DAYLIGHT
TZOFFSETFROM:+0100
TZOFFSETTO:+0200
TZNAME:CEST
DTSTART:20240331T010000
END:DAYLIGHT
BEGIN:STANDARD
TZOFFSETFROM:+0200
TZOFFSETTO:+0100
TZNAME:CET
DTSTART:20241027T010000
END:STANDARD
BEGIN:DAYLIGHT
TZOFFSETFROM:+0100
TZOFFSETTO:+0200
TZNAME:CEST
DTSTART:20250330T010000
END:DAYLIGHT
BEGIN:STANDARD
TZOFFSETFROM:+0200
TZOFFSETTO:+0100
TZNAME:CET
DTSTART:20251026T010000
END:STANDARD
BEGIN:DAYLIGHT
TZOFFSETFROM:+0100
TZOFFSETTO:+0200
TZNAME:CEST
DTSTART:20260329T010000
END:DAYLIGHT
BEGIN:STANDARD
TZOFFSETFROM:+0200
TZOFFSETTO:+0100
TZNAME:CET
DTSTART:20261025T010000
END:STANDARD
END:VTIMEZONE
BEGIN:VEVENT
DTSTART;TZID=Europe/Berlin:20251114T173000
DTEND;TZID=Europe/Berlin:20251114T200000
DTSTAMP:20260420T142742
CREATED:20250924T150759Z
LAST-MODIFIED:20250924T150759Z
UID:10243-1763141400-1763150400@prinzessinnengarten-kollektiv.net
SUMMARY:KÜFA – So schmeckt Hermannstraße
DESCRIPTION:studio nagelneu presents \nKÜFA – So schmeckt Hermannstraße\nJoin us for our revised monthly KÜFA – So schmeckt Hermannstraße. \nFriday\, 14. November 17:30\nstudio nagelneu | Hermannstraße 102\, 12051 Berlin \nIn collaboration with local community organizers interkular\, we’re hosting a monthly communal meal that’s free and open to all. Every 2nd Friday of the month. \nWe’ll start cooking at 17:30 – feel free to join then\, or come by around 18:30 to eat together. \nA shared meal\, open to everyone. \nIf you want to help organize the event with us feel free to reach out at nagelneu@prinzessinnengarten.net \n|||| Deutsch |||| \nKommt zu unserer überarbeiteten monatlichen KÜFA – So schmeckt Hermannstraße.\nGemeinsam mit den lokalen Community-Organisator*innen von interkular laden wir zu einem kostenlosen\, offenen Gemeinschaftsessen ein. \nAb 17:30 Uhr wird gekocht – kommt gerne dazu.\nOder kommt gegen 18:30 Uhr vorbei\, um gemeinsam zu essen. \nEin gemeinsames Essen\, offen für alle.\nEine Kooperation zwischen der Mobilen Stadtteilarbeit (MoSt) Kiezbegegnung – interkular und Studio Nagelneue – Prinzessinnengarten\, im Rahmen des Formats „So schmeckt Nachbarschaft“
URL:https://prinzessinnengarten-kollektiv.net/event/kuefa-so-schmeckt-hermannstrasse-2/
LOCATION:studio nagelneu\, Hermannstraße 103\, Berliin\, 12051\, Deutschland
CATEGORIES:studio nagelneu
ATTACH;FMTTYPE=image/jpeg:https://prinzessinnengarten-kollektiv.net/wp-content/uploads/2025/07/250805_schmeckt-hmstr.jpg
END:VEVENT
END:VCALENDAR