BEGIN:VCALENDAR
VERSION:2.0
PRODID:-//prinzessinnengarten kollektiv berlin - ECPv6.15.18//NONSGML v1.0//EN
CALSCALE:GREGORIAN
METHOD:PUBLISH
X-WR-CALNAME:prinzessinnengarten kollektiv berlin
X-ORIGINAL-URL:https://prinzessinnengarten-kollektiv.net
X-WR-CALDESC:Veranstaltungen für prinzessinnengarten kollektiv berlin
REFRESH-INTERVAL;VALUE=DURATION:PT1H
X-Robots-Tag:noindex
X-PUBLISHED-TTL:PT1H
BEGIN:VTIMEZONE
TZID:Europe/Berlin
BEGIN:DAYLIGHT
TZOFFSETFROM:+0100
TZOFFSETTO:+0200
TZNAME:CEST
DTSTART:20240331T010000
END:DAYLIGHT
BEGIN:STANDARD
TZOFFSETFROM:+0200
TZOFFSETTO:+0100
TZNAME:CET
DTSTART:20241027T010000
END:STANDARD
BEGIN:DAYLIGHT
TZOFFSETFROM:+0100
TZOFFSETTO:+0200
TZNAME:CEST
DTSTART:20250330T010000
END:DAYLIGHT
BEGIN:STANDARD
TZOFFSETFROM:+0200
TZOFFSETTO:+0100
TZNAME:CET
DTSTART:20251026T010000
END:STANDARD
BEGIN:DAYLIGHT
TZOFFSETFROM:+0100
TZOFFSETTO:+0200
TZNAME:CEST
DTSTART:20260329T010000
END:DAYLIGHT
BEGIN:STANDARD
TZOFFSETFROM:+0200
TZOFFSETTO:+0100
TZNAME:CET
DTSTART:20261025T010000
END:STANDARD
END:VTIMEZONE
BEGIN:VEVENT
DTSTART;TZID=Europe/Berlin:20251014T160000
DTEND;TZID=Europe/Berlin:20251014T174500
DTSTAMP:20260420T154539
CREATED:20250825T143607Z
LAST-MODIFIED:20250825T143832Z
UID:10181-1760457600-1760463900@prinzessinnengarten-kollektiv.net
SUMMARY:Transitional Momentum #2 Attunement with plants | Einstimmen mit Pflanzen
DESCRIPTION:Transitional Momentum #2 Attunement with plants\ndeutsch weiter unten \nWe will engage in big and small movements for traveling through phases of socio-ecological change. We will connect with the seasons‘ colors and see what kind of creativity emerges when we collaborate with more-than-humans from the plant realm. \nThe sessions are a combination of simple guided bodywork\, intuitive herbalism\, verbal exchange\, drawing and sometimes eco-print.\nNo previous movement experience is required. \nTuesdays 16:00 – 17:45\n 2.9. | 16.9. | 23.9. | 7.10. | 14.10. \nMeeting point: On the meadow opposite the meadow with raised beds. There will be a sign as well \nThe sessions are donation based. A suggested donation between 4 – 15€ is welcome. \nFor further questions and registration email to transitional.momentum@gmail.com \nA registration email is not mandatory\, but helps to anticipate the size of the group. \nIn case of rain\, we might shift to an indoor space in Friedrichshain\, please be in touch via email.\nCome in comfortable clothes\, bring a blanket to sit on and your notebook 🙂 \nThe sessions will be held in english or german\, depending on the participants. \nFrederike works as a shiatsu practitioner\, dancer and gardener in Berlin and creates immersive formats at the intersection of these fields. \n\nTransitional Momentum #2 – Einstimmen mit Pflanzen\nWir werden große und kleine Bewegungen erkunden\, um Phasen des sozio-ökologischen Wandels zu navigieren. Wir werden uns von den Farben der Jahreszeit inspirieren lassen und schauen\, welche Kreativität entsteht\, wenn wir mir Pflanzen kollaborieren. \nDie Sessions sind eine Kombination aus simplen Körperübungen\, intuitiver Kräuterkunde\, verbalem Austausch\, Zeichnen und manchmal Eco-print. \nEs ist keinerlei Bewegungserfahrung notwendig\, um teilzunehmen. \ndienstags 16:00 – 17:45\n 2.9. | 16.9. | 23.9. | 7.10. | 14.10. \nDie Teilnahme ist auf Spendenbasis zwischen 4 – 15€. \nTreffpunkt: Auf der großen Wiese gegenüber der Hochbeet Wiese. Es wird ein Schild geben. \nFür weitere Fragen und Anmeldung könnt ihr mich unter transitional.momentum@gmail.com erreichen. Eine vorherige Anmeldung ist nicht zwingend notwendig\, aber hilft\, um einzuschätzen wie groß die Gruppe sein wird. \nFalls es stark regnen sollte\, werden wir eventuell auf einen Raum in Friedrichshain ausweichen.\nSeid gerne per email in Kontakt. \nBitte kommt in bequemer Kleidung\, bring ein Tuch oder eine Decke zum drauf sitzen mit und euer Notizheft 🙂 \nDie Sessions finden auf deutsch oder englisch statt\, nach Bedarf der Gruppe. \nFrederike Doffin ist Shiatsu Praktizierende\, Tänzerin und Gärtnerin. Sie verwebt diese Bereiche zu immersiven Formaten. \nIch freue mich auf euch\,\nFrederike
URL:https://prinzessinnengarten-kollektiv.net/event/transitional-momentum-2-attunement-with-plants-einstimmen-mit-pflanzen-2/
LOCATION:Prinzessinnengarten Kollektiv Berlin\, Hermannstraße 99-105\, Berlin\, 12051\, Deutschland
ATTACH;FMTTYPE=image/jpeg:https://prinzessinnengarten-kollektiv.net/wp-content/uploads/2025/08/250901_tanzen-mit-pflanzen.jpeg
END:VEVENT
BEGIN:VEVENT
DTSTART;TZID=Europe/Berlin:20251014T180000
DTEND;TZID=Europe/Berlin:20251014T203000
DTSTAMP:20260420T154539
CREATED:20250930T072756Z
LAST-MODIFIED:20250930T072756Z
UID:10274-1760464800-1760473800@prinzessinnengarten-kollektiv.net
SUMMARY:COOK\, EAT UND DEUTSCH SPRECHEN
DESCRIPTION:studio nagelneu presents \nCOOK\, EAT UND DEUTSCH SPRECHEN\nBi weekly on Tuesdays 18:00 – 20:30\nstudio nagelneu | Hermannstraße 102\, 12051 Berlin \nTuesday October 14th\nTuesday October 28th\nTuesday November 11th\nTuesday November 25th \nSo many of us are trying to learn German but are constantly speaking in English. This event is for people who want to practice speaking German\, at all levels. \nThis is not about saying things perfectly\, rather it is an opportunity to make the best of what we have and practice making us understood and understanding others in German.\nThe idea\, each session we will cook a meal from one of our cultures and learn the ingredients and any stories we want to share about the food\, in German.\nOtherwise we just hang out and really try to stick to using the German language and sometimes make a fool of ourselves. \nThis format is flexible we can amend it to our needs. \nPlease sign up\, and regular attending is recommended but not necessary.\nsign up via nagelneu@prinzessinnengarten.net\, first come first serve\, max 20 people. \nIt will be donation based to cover food expenses and support the space\n5-15 Euro nach Selbsteinschätzung
URL:https://prinzessinnengarten-kollektiv.net/event/cook-eat-und-deutsch-sprechen-16/
LOCATION:studio nagelneu\, Hermannstraße 103\, Berliin\, 12051\, Deutschland
CATEGORIES:studio nagelneu
ATTACH;FMTTYPE=image/jpeg:https://prinzessinnengarten-kollektiv.net/wp-content/uploads/2025/09/cook-eat-04.jpg
END:VEVENT
END:VCALENDAR