BEGIN:VCALENDAR
VERSION:2.0
PRODID:-//prinzessinnengarten kollektiv berlin - ECPv6.15.18//NONSGML v1.0//EN
CALSCALE:GREGORIAN
METHOD:PUBLISH
X-ORIGINAL-URL:https://prinzessinnengarten-kollektiv.net
X-WR-CALDESC:Veranstaltungen für prinzessinnengarten kollektiv berlin
REFRESH-INTERVAL;VALUE=DURATION:PT1H
X-Robots-Tag:noindex
X-PUBLISHED-TTL:PT1H
BEGIN:VTIMEZONE
TZID:Europe/Berlin
BEGIN:DAYLIGHT
TZOFFSETFROM:+0100
TZOFFSETTO:+0200
TZNAME:CEST
DTSTART:20240331T010000
END:DAYLIGHT
BEGIN:STANDARD
TZOFFSETFROM:+0200
TZOFFSETTO:+0100
TZNAME:CET
DTSTART:20241027T010000
END:STANDARD
BEGIN:DAYLIGHT
TZOFFSETFROM:+0100
TZOFFSETTO:+0200
TZNAME:CEST
DTSTART:20250330T010000
END:DAYLIGHT
BEGIN:STANDARD
TZOFFSETFROM:+0200
TZOFFSETTO:+0100
TZNAME:CET
DTSTART:20251026T010000
END:STANDARD
BEGIN:DAYLIGHT
TZOFFSETFROM:+0100
TZOFFSETTO:+0200
TZNAME:CEST
DTSTART:20260329T010000
END:DAYLIGHT
BEGIN:STANDARD
TZOFFSETFROM:+0200
TZOFFSETTO:+0100
TZNAME:CET
DTSTART:20261025T010000
END:STANDARD
END:VTIMEZONE
BEGIN:VEVENT
DTSTART;TZID=Europe/Berlin:20251008T153000
DTEND;TZID=Europe/Berlin:20251008T170000
DTSTAMP:20260420T154638
CREATED:20250924T153630Z
LAST-MODIFIED:20250924T153630Z
UID:10259-1759937400-1759942800@prinzessinnengarten-kollektiv.net
SUMMARY:Stadtnatur Beobachtungsspaziergang in der Gropiusstadt
DESCRIPTION:Unsere Parkhausmeister*innen präsentieren \nStadtnatur Beobachtungsspaziergang in der Gropiusstadt\nWir laden alle interessierten Menschen ein mit uns die Stadtnatur im Grünzug Britz Buckow Rudow zu erkunden. Welche Bäume\, Sträucher\, Kräuter wachsen hier\, welche Tiere sind unterwegs und hinterlassen ihre Spuren? \nMittwoch 8. Oktober 15:30\nTreffpunkt am Steinbeet\, im Grünzug Britz Buckow Rudow zwischen U-Britz Süd und Johannisthaler Chaussee \nDer Spaziergang ist ein Angebot für gemeinsames Beobachten und Erforschen\, wir laden euch ein gemeinsam mit uns zu staunen\, unser Wissen zu teilen und zu vertiefen. \nDenkt an für das Wetter passende Kleidung.\nBei andauernden Regen fällt der Termin ersatzlos aus. \nAlle Angebote sind ohne Anmeldung und kostenlos
URL:https://prinzessinnengarten-kollektiv.net/event/stadtnatur-beobachtungsspaziergang-in-der-gropiusstadt-8/
CATEGORIES:Park
END:VEVENT
END:VCALENDAR