BEGIN:VCALENDAR
VERSION:2.0
PRODID:-//prinzessinnengarten kollektiv berlin - ECPv6.15.18//NONSGML v1.0//EN
CALSCALE:GREGORIAN
METHOD:PUBLISH
X-WR-CALNAME:prinzessinnengarten kollektiv berlin
X-ORIGINAL-URL:https://prinzessinnengarten-kollektiv.net
X-WR-CALDESC:Veranstaltungen für prinzessinnengarten kollektiv berlin
REFRESH-INTERVAL;VALUE=DURATION:PT1H
X-Robots-Tag:noindex
X-PUBLISHED-TTL:PT1H
BEGIN:VTIMEZONE
TZID:Europe/Berlin
BEGIN:DAYLIGHT
TZOFFSETFROM:+0100
TZOFFSETTO:+0200
TZNAME:CEST
DTSTART:20240331T010000
END:DAYLIGHT
BEGIN:STANDARD
TZOFFSETFROM:+0200
TZOFFSETTO:+0100
TZNAME:CET
DTSTART:20241027T010000
END:STANDARD
BEGIN:DAYLIGHT
TZOFFSETFROM:+0100
TZOFFSETTO:+0200
TZNAME:CEST
DTSTART:20250330T010000
END:DAYLIGHT
BEGIN:STANDARD
TZOFFSETFROM:+0200
TZOFFSETTO:+0100
TZNAME:CET
DTSTART:20251026T010000
END:STANDARD
BEGIN:DAYLIGHT
TZOFFSETFROM:+0100
TZOFFSETTO:+0200
TZNAME:CEST
DTSTART:20260329T010000
END:DAYLIGHT
BEGIN:STANDARD
TZOFFSETFROM:+0200
TZOFFSETTO:+0100
TZNAME:CET
DTSTART:20261025T010000
END:STANDARD
END:VTIMEZONE
BEGIN:VEVENT
DTSTART;TZID=Europe/Berlin:20251005T120000
DTEND;TZID=Europe/Berlin:20251005T170000
DTSTAMP:20260420T154541
CREATED:20250924T152215Z
LAST-MODIFIED:20250924T152215Z
UID:10250-1759665600-1759683600@prinzessinnengarten-kollektiv.net
SUMMARY:Exhibition "Trotzstadt"
DESCRIPTION:studio nagelneu presents \nExhibition „Trotzstadt“\nBe warmly invited to the first studio exhibition of Trotzstadt! Join the artists for frames\, talks\, drinks\, and tunes by @aydin_one \, @chasey.negro\, @onemorerizla and @soliguera_ \nVernissage\nSaturday October 4th 6pm \nOpen\nSunday October 5th 12 – 5 pm \nLocation\nstudio_nagelneu | Hermannstraße 102\, 12051 Berlin \nArtists\nClaire Krack @claire.krack\nFemke Luers @femke_luers\nJulie Felten @juliefelten.art\nSarah Schümperli @sarahschuemperli \nExhibition concept\nLilli Mlynarczyk (@lilliifeeeee)& Sarah Schümperli (@sarahschuemperli) \nCuration\nSarah Schümperli (@sarahschuemperli) & Julie Felten (@juliefelten.art) \nDesign\nSarah Schümperli (@sarahschuemperli) \nAll the best and hope to see you very soon <3 \n \n 
URL:https://prinzessinnengarten-kollektiv.net/event/exhibition-trotzstadt/
LOCATION:studio nagelneu\, Hermannstraße 103\, Berliin\, 12051\, Deutschland
CATEGORIES:studio nagelneu
ATTACH;FMTTYPE=image/jpeg:https://prinzessinnengarten-kollektiv.net/wp-content/uploads/2025/09/251004_trotzstadt-1.jpg
END:VEVENT
END:VCALENDAR