BEGIN:VCALENDAR
VERSION:2.0
PRODID:-//prinzessinnengarten kollektiv berlin - ECPv6.15.18//NONSGML v1.0//EN
CALSCALE:GREGORIAN
METHOD:PUBLISH
X-ORIGINAL-URL:https://prinzessinnengarten-kollektiv.net
X-WR-CALDESC:Veranstaltungen für prinzessinnengarten kollektiv berlin
REFRESH-INTERVAL;VALUE=DURATION:PT1H
X-Robots-Tag:noindex
X-PUBLISHED-TTL:PT1H
BEGIN:VTIMEZONE
TZID:Europe/Berlin
BEGIN:DAYLIGHT
TZOFFSETFROM:+0100
TZOFFSETTO:+0200
TZNAME:CEST
DTSTART:20240331T010000
END:DAYLIGHT
BEGIN:STANDARD
TZOFFSETFROM:+0200
TZOFFSETTO:+0100
TZNAME:CET
DTSTART:20241027T010000
END:STANDARD
BEGIN:DAYLIGHT
TZOFFSETFROM:+0100
TZOFFSETTO:+0200
TZNAME:CEST
DTSTART:20250330T010000
END:DAYLIGHT
BEGIN:STANDARD
TZOFFSETFROM:+0200
TZOFFSETTO:+0100
TZNAME:CET
DTSTART:20251026T010000
END:STANDARD
BEGIN:DAYLIGHT
TZOFFSETFROM:+0100
TZOFFSETTO:+0200
TZNAME:CEST
DTSTART:20260329T010000
END:DAYLIGHT
BEGIN:STANDARD
TZOFFSETFROM:+0200
TZOFFSETTO:+0100
TZNAME:CET
DTSTART:20261025T010000
END:STANDARD
END:VTIMEZONE
BEGIN:VEVENT
DTSTART;TZID=Europe/Berlin:20250521T153000
DTEND;TZID=Europe/Berlin:20250521T173000
DTSTAMP:20260422T120411
CREATED:20250428T072914Z
LAST-MODIFIED:20250428T072914Z
UID:9738-1747841400-1747848600@prinzessinnengarten-kollektiv.net
SUMMARY:Sensing Hasenheide
DESCRIPTION:Unsere Parkhausmeister*innen präsentieren \nSensing Hasenheide\nmittwochs 15:30-17:30\nWiese zwischen Eingang Karlsgartenstraße und Hasenschenke \nWie sieht ein Insekt? Wie fühlt sich Stadt-Natur für Pflanzen an?\nIn Sensing Hasenheide wechseln wir die Perspektive und erforschen die Hasenheide mit allen Sinnen. Sehen\, Hören\, Schmecken\, Fühlen\, Riechen – jede Woche ein neuer Fokus\, mit künstlerischen\, spielerischen und forschenden Zugängen.\n\n🌱 07.05. – Sehen\nBeim Slow Looking schärfen wir unseren Blick für Details: Welche Pflanzenformen\, Farben oder Lebensräume sehen wir? Was fällt ins Auge – und was übersehen wir oft?\n\n🐦 14.05. – Hören\nWelche Klänge hat ein Park? Wir hören genau hin\, erkennen Vogelstimmen und Geräusche der Stadtnatur – und kreieren gemeinsam Soundscapes.\n\n🌼 21.05. – Schmecken\nWelche Bäume und Sträucher sind essbar? Wir lernen Wildpflanzen kennen\, verkosten sie und brauen Limonade.\n\n🌳 28.05. – Fühlen\nTasten\, sammeln\, fühlen: Wir erkunden verschiedene Texturen im Park und bilden daraus unsere eigenen Stadtnatur-Kreaturen.\n\n\nIhr erkennt uns immer an den roten „FairPlay im Park“ Westen \nDenkt an für das Wetter passende Kleidung.\nBei andauernden Regen fällt der Termin ersatzlos aus. \nAlle Angebote sind ohne Anmeldung und kostenlos.
URL:https://prinzessinnengarten-kollektiv.net/event/sensing-hasenheide-3/
CATEGORIES:Park
END:VEVENT
END:VCALENDAR