BEGIN:VCALENDAR
VERSION:2.0
PRODID:-//prinzessinnengarten kollektiv berlin - ECPv6.15.18//NONSGML v1.0//EN
CALSCALE:GREGORIAN
METHOD:PUBLISH
X-WR-CALNAME:prinzessinnengarten kollektiv berlin
X-ORIGINAL-URL:https://prinzessinnengarten-kollektiv.net
X-WR-CALDESC:Veranstaltungen für prinzessinnengarten kollektiv berlin
REFRESH-INTERVAL;VALUE=DURATION:PT1H
X-Robots-Tag:noindex
X-PUBLISHED-TTL:PT1H
BEGIN:VTIMEZONE
TZID:Europe/Berlin
BEGIN:DAYLIGHT
TZOFFSETFROM:+0100
TZOFFSETTO:+0200
TZNAME:CEST
DTSTART:20240331T010000
END:DAYLIGHT
BEGIN:STANDARD
TZOFFSETFROM:+0200
TZOFFSETTO:+0100
TZNAME:CET
DTSTART:20241027T010000
END:STANDARD
BEGIN:DAYLIGHT
TZOFFSETFROM:+0100
TZOFFSETTO:+0200
TZNAME:CEST
DTSTART:20250330T010000
END:DAYLIGHT
BEGIN:STANDARD
TZOFFSETFROM:+0200
TZOFFSETTO:+0100
TZNAME:CET
DTSTART:20251026T010000
END:STANDARD
BEGIN:DAYLIGHT
TZOFFSETFROM:+0100
TZOFFSETTO:+0200
TZNAME:CEST
DTSTART:20260329T010000
END:DAYLIGHT
BEGIN:STANDARD
TZOFFSETFROM:+0200
TZOFFSETTO:+0100
TZNAME:CET
DTSTART:20261025T010000
END:STANDARD
END:VTIMEZONE
BEGIN:VEVENT
DTSTART;TZID=Europe/Berlin:20250517T140000
DTEND;TZID=Europe/Berlin:20250517T160000
DTSTAMP:20260420T235555
CREATED:20250428T074213Z
LAST-MODIFIED:20250428T074213Z
UID:9762-1747490400-1747497600@prinzessinnengarten-kollektiv.net
SUMMARY:Parksprechstunde in der Hasenheide
DESCRIPTION:Unsere Parkhausmeister*innen präsentieren \nParksprechstunde in der Hasenheide\nSamstag 17. Mai 14:00 – 15:30\nWiese am Eingang Columbiabad \nBei Kaffee und Kuchen haben wir ein offenes Ohr für Euch\, eure Wünsche\, Anliegen und Probleme zum Park. Lasst uns zusammen die Sonner in der Hasenheide genießen. \nWir freuen uns auf euren Besuch! \nDenkt an für das Wetter passende Kleidung.\nBei andauernden Regen fällt der Termin ersatzlos aus.
URL:https://prinzessinnengarten-kollektiv.net/event/parksprechstunde-in-der-hasenheide-4/
CATEGORIES:Park
END:VEVENT
END:VCALENDAR