BEGIN:VCALENDAR
VERSION:2.0
PRODID:-//prinzessinnengarten kollektiv berlin - ECPv6.15.18//NONSGML v1.0//EN
CALSCALE:GREGORIAN
METHOD:PUBLISH
X-ORIGINAL-URL:https://prinzessinnengarten-kollektiv.net
X-WR-CALDESC:Veranstaltungen für prinzessinnengarten kollektiv berlin
REFRESH-INTERVAL;VALUE=DURATION:PT1H
X-Robots-Tag:noindex
X-PUBLISHED-TTL:PT1H
BEGIN:VTIMEZONE
TZID:Europe/Berlin
BEGIN:DAYLIGHT
TZOFFSETFROM:+0100
TZOFFSETTO:+0200
TZNAME:CEST
DTSTART:20240331T010000
END:DAYLIGHT
BEGIN:STANDARD
TZOFFSETFROM:+0200
TZOFFSETTO:+0100
TZNAME:CET
DTSTART:20241027T010000
END:STANDARD
BEGIN:DAYLIGHT
TZOFFSETFROM:+0100
TZOFFSETTO:+0200
TZNAME:CEST
DTSTART:20250330T010000
END:DAYLIGHT
BEGIN:STANDARD
TZOFFSETFROM:+0200
TZOFFSETTO:+0100
TZNAME:CET
DTSTART:20251026T010000
END:STANDARD
BEGIN:DAYLIGHT
TZOFFSETFROM:+0100
TZOFFSETTO:+0200
TZNAME:CEST
DTSTART:20260329T010000
END:DAYLIGHT
BEGIN:STANDARD
TZOFFSETFROM:+0200
TZOFFSETTO:+0100
TZNAME:CET
DTSTART:20261025T010000
END:STANDARD
END:VTIMEZONE
BEGIN:VEVENT
DTSTART;TZID=Europe/Berlin:20250418T140000
DTEND;TZID=Europe/Berlin:20250418T150000
DTSTAMP:20260421T033258
CREATED:20250326T121540Z
LAST-MODIFIED:20250326T121540Z
UID:9503-1744984800-1744988400@prinzessinnengarten-kollektiv.net
SUMMARY:Spring Workshop: Planting & Collage Inspired by The Tiny Seed
DESCRIPTION:studio nagelneu presents \nSpring Workshop: Planting & Collage Inspired by The Tiny Seed\nJoin us in celebrating the season of growth! \nFriday 18th April 14-15h\nstudio nagelneu | Hermannstraße 103\, 12051 Berlin \nTickets: 25€/1 child and 1 caregiver \nPurchase tickets via Eventbrite: https://www.eventbrite.com/e/flower-feier-a-celebration-of-spring-for-ages-3-6-tickets-1287489578989?aff=oddtdtcreator\nWhat’s in store: 🎨 Eric Carle-Inspired Collage Craft – Inspired by our read aloud of the The Tiny Seed\, children will explore textures and colors through an open-ended collage activity using recycled and found materials. \n🌾 Sensory Seed Play – Children will explore different types of seeds through sensory bins filled with a variety of seeds and materials to examine them! \n🌱 Wildflower seed pods – Children will create colorful pods out of recycled paper\, water\, and native wildflower seeds. These can be taken home and planted to encourage biodiversity in Berlin. \nWhat’s included and what to expect: Your ticket purchase includes entry and participation for 1 child (age 3-6) and 1 caregiver. We will provide all craft and sensory materials as well as a caring and nurturing environment for safe and supported learning. We suggest you feed your child a small snack before the session\, but will have some dry goods (rice crackers\, raisins) on site just in case. We will also be providing coffee and tea for caregivers to enjoy while their children learn. We ask parents stay on site in case their child is struggling to join or having big feelings\, but otherwise we invite adults in attendance to sit back\, relax\, and meet other parents. There is a toilet available for patrons but no changing table. You will receive a welcome packet upon ticket purchase with more detailed information about the event as well as consent forms. \nWho we are: Meggie and Raela are your teachers with Friendship in the Feld\, an early childhood development program providing play-based educational workshops for children. We are two early childhood educators with more than 20 years of combined experience with young children. Through sensory experiences\, art exploration and child-led play\, we aim to support social-emotional learning and help develop community and school readiness skills. \nIf the price is an issue please feel free to reach out! We have 2 discounted soli tickets available. \nLooking forward to growing with you!
URL:https://prinzessinnengarten-kollektiv.net/event/spring-workshop-planting-collage-inspired-by-the-tiny-seed/
LOCATION:studio nagelneu\, Hermannstraße 103\, Berliin\, 12051\, Deutschland
CATEGORIES:studio nagelneu
ATTACH;FMTTYPE=image/png:https://prinzessinnengarten-kollektiv.net/wp-content/uploads/2025/03/Nagelneu-Website-Banner.png
END:VEVENT
END:VCALENDAR