BEGIN:VCALENDAR
VERSION:2.0
PRODID:-//prinzessinnengarten kollektiv berlin - ECPv6.15.18//NONSGML v1.0//EN
CALSCALE:GREGORIAN
METHOD:PUBLISH
X-ORIGINAL-URL:https://prinzessinnengarten-kollektiv.net
X-WR-CALDESC:Veranstaltungen für prinzessinnengarten kollektiv berlin
REFRESH-INTERVAL;VALUE=DURATION:PT1H
X-Robots-Tag:noindex
X-PUBLISHED-TTL:PT1H
BEGIN:VTIMEZONE
TZID:Europe/Berlin
BEGIN:DAYLIGHT
TZOFFSETFROM:+0100
TZOFFSETTO:+0200
TZNAME:CEST
DTSTART:20240331T010000
END:DAYLIGHT
BEGIN:STANDARD
TZOFFSETFROM:+0200
TZOFFSETTO:+0100
TZNAME:CET
DTSTART:20241027T010000
END:STANDARD
BEGIN:DAYLIGHT
TZOFFSETFROM:+0100
TZOFFSETTO:+0200
TZNAME:CEST
DTSTART:20250330T010000
END:DAYLIGHT
BEGIN:STANDARD
TZOFFSETFROM:+0200
TZOFFSETTO:+0100
TZNAME:CET
DTSTART:20251026T010000
END:STANDARD
BEGIN:DAYLIGHT
TZOFFSETFROM:+0100
TZOFFSETTO:+0200
TZNAME:CEST
DTSTART:20260329T010000
END:DAYLIGHT
BEGIN:STANDARD
TZOFFSETFROM:+0200
TZOFFSETTO:+0100
TZNAME:CET
DTSTART:20261025T010000
END:STANDARD
END:VTIMEZONE
BEGIN:VEVENT
DTSTART;TZID=Europe/Berlin:20250413T120000
DTEND;TZID=Europe/Berlin:20250413T170000
DTSTAMP:20260421T033147
CREATED:20250327T081259Z
LAST-MODIFIED:20250327T081315Z
UID:9507-1744545600-1744563600@prinzessinnengarten-kollektiv.net
SUMMARY:Wet Felt Workshop
DESCRIPTION:studio nagelneu presents \nWet Felt Workshop\nSunday April 13th 12-17h\nSunday April 20th 12-17h\nstudio nagelneu | Hermannstraße 103\, 12051 Berlin \nIn this workshop\, you will discover how to turn wool fibbers into a personalized piece of fabric. In the first session you will learn about the wet felt method\, its properties and history. You will then discover on a step by step tutorial the layering\, washing and shrinking processes of the hairs. During the other two sessions you will be able to make your own pieces of fabric (they can be abstract\, illustrative\, with a specific pattern\, etc.) and be guided to turn them into a personal project you bring back home! \nThe felt can take the shape of a decorative/art piece\, a cloth\, a tote bag\, a cushion cover\, an accessory … whatever your creativity feels! The idea is to have fun and experiment\, and to feel empowered by making something from scratch 🙂 !!! 🪡💫🖼️🧣🧶 \nInscriptions\, info and payment details at : melissa.antier@ensapc.fr 🌱
URL:https://prinzessinnengarten-kollektiv.net/event/wet-felt-workshop-7/
LOCATION:studio nagelneu\, Hermannstraße 103\, Berliin\, 12051\, Deutschland
CATEGORIES:studio nagelneu
ATTACH;FMTTYPE=image/jpeg:https://prinzessinnengarten-kollektiv.net/wp-content/uploads/2025/03/wet-felt.jpg
END:VEVENT
END:VCALENDAR