BEGIN:VCALENDAR
VERSION:2.0
PRODID:-//prinzessinnengarten kollektiv berlin - ECPv6.15.18//NONSGML v1.0//EN
CALSCALE:GREGORIAN
METHOD:PUBLISH
X-ORIGINAL-URL:https://prinzessinnengarten-kollektiv.net
X-WR-CALDESC:Veranstaltungen für prinzessinnengarten kollektiv berlin
REFRESH-INTERVAL;VALUE=DURATION:PT1H
X-Robots-Tag:noindex
X-PUBLISHED-TTL:PT1H
BEGIN:VTIMEZONE
TZID:Europe/Berlin
BEGIN:DAYLIGHT
TZOFFSETFROM:+0100
TZOFFSETTO:+0200
TZNAME:CEST
DTSTART:20240331T010000
END:DAYLIGHT
BEGIN:STANDARD
TZOFFSETFROM:+0200
TZOFFSETTO:+0100
TZNAME:CET
DTSTART:20241027T010000
END:STANDARD
BEGIN:DAYLIGHT
TZOFFSETFROM:+0100
TZOFFSETTO:+0200
TZNAME:CEST
DTSTART:20250330T010000
END:DAYLIGHT
BEGIN:STANDARD
TZOFFSETFROM:+0200
TZOFFSETTO:+0100
TZNAME:CET
DTSTART:20251026T010000
END:STANDARD
BEGIN:DAYLIGHT
TZOFFSETFROM:+0100
TZOFFSETTO:+0200
TZNAME:CEST
DTSTART:20260329T010000
END:DAYLIGHT
BEGIN:STANDARD
TZOFFSETFROM:+0200
TZOFFSETTO:+0100
TZNAME:CET
DTSTART:20261025T010000
END:STANDARD
END:VTIMEZONE
BEGIN:VEVENT
DTSTART;TZID=Europe/Berlin:20250405T140000
DTEND;TZID=Europe/Berlin:20250405T153000
DTSTAMP:20260421T033135
CREATED:20250331T121540Z
LAST-MODIFIED:20250331T121540Z
UID:9564-1743861600-1743867000@prinzessinnengarten-kollektiv.net
SUMMARY:Parksprechstunde in der Hasenheide
DESCRIPTION:Unsere Parkhausmeister*innen präsentieren \nParksprechstunde in der Hasenheide\nSamstag 5. April 14:00 – 15:30\nWiese am Eingang Columbiabad \nBei Kaffee und Kuchen haben wir ein offenes Ohr für Euch\, eure Wünsche\, Anliegen und Probleme zum Park. Lasst uns zusammen die Sonner in der Hasenheide genießen. \nWir freuen uns auf euren Besuch! \nDenkt an für das Wetter passende Kleidung.\nBei andauernden Regen fällt der Termin ersatzlos aus. \nAlle Angebote sind ohne Anmeldung und kostenlos.
URL:https://prinzessinnengarten-kollektiv.net/event/parksprechstunde-in-der-hasenheide-2/
CATEGORIES:Park
END:VEVENT
BEGIN:VEVENT
DTSTART;TZID=Europe/Berlin:20250405T190000
DTEND;TZID=Europe/Berlin:20250405T220000
DTSTAMP:20260421T033135
CREATED:20250328T161431Z
LAST-MODIFIED:20250401T074706Z
UID:9520-1743879600-1743890400@prinzessinnengarten-kollektiv.net
SUMMARY:Veggie-Vegan High Street Treats
DESCRIPTION:studio nagelneu presents \nVeggie-Vegan High Street Treats\nGet ready for the third edition of Birds of a Feather! \nOn April 5th\, we’re bringing you a unique fine dining pop-up experience focusing on Indian street snacks packed with exploding flavors and textures! \nSaturday April 5th 19h & 21h\nstudio nagelneu | Hermannstraße 103\, 12051 Berlin \nWe’ve put together a menu with a few unexpected dishes\, things you might not have tried this way before.\nSharing good food\, discovering new flavors\, and enjoying it all around new and old friends\, that’s all it is about! \nReserve your spot now on our Instagram @boaf_berlin\, and see you soon 😉 \nAll proceeds go to studio_nagelneu and Soli Cook which cooks for people in need every Monday
URL:https://prinzessinnengarten-kollektiv.net/event/veggie-vegan-high-street-treats/
CATEGORIES:studio nagelneu
ATTACH;FMTTYPE=image/jpeg:https://prinzessinnengarten-kollektiv.net/wp-content/uploads/2025/03/boaf-3-High-Street-Treats-Kopie.jpg
END:VEVENT
END:VCALENDAR