BEGIN:VCALENDAR
VERSION:2.0
PRODID:-//prinzessinnengarten kollektiv berlin - ECPv6.15.18//NONSGML v1.0//EN
CALSCALE:GREGORIAN
METHOD:PUBLISH
X-WR-CALNAME:prinzessinnengarten kollektiv berlin
X-ORIGINAL-URL:https://prinzessinnengarten-kollektiv.net
X-WR-CALDESC:Veranstaltungen für prinzessinnengarten kollektiv berlin
REFRESH-INTERVAL;VALUE=DURATION:PT1H
X-Robots-Tag:noindex
X-PUBLISHED-TTL:PT1H
BEGIN:VTIMEZONE
TZID:Europe/Berlin
BEGIN:DAYLIGHT
TZOFFSETFROM:+0100
TZOFFSETTO:+0200
TZNAME:CEST
DTSTART:20240331T010000
END:DAYLIGHT
BEGIN:STANDARD
TZOFFSETFROM:+0200
TZOFFSETTO:+0100
TZNAME:CET
DTSTART:20241027T010000
END:STANDARD
BEGIN:DAYLIGHT
TZOFFSETFROM:+0100
TZOFFSETTO:+0200
TZNAME:CEST
DTSTART:20250330T010000
END:DAYLIGHT
BEGIN:STANDARD
TZOFFSETFROM:+0200
TZOFFSETTO:+0100
TZNAME:CET
DTSTART:20251026T010000
END:STANDARD
BEGIN:DAYLIGHT
TZOFFSETFROM:+0100
TZOFFSETTO:+0200
TZNAME:CEST
DTSTART:20260329T010000
END:DAYLIGHT
BEGIN:STANDARD
TZOFFSETFROM:+0200
TZOFFSETTO:+0100
TZNAME:CET
DTSTART:20261025T010000
END:STANDARD
END:VTIMEZONE
BEGIN:VEVENT
DTSTART;TZID=Europe/Berlin:20250321T160000
DTEND;TZID=Europe/Berlin:20250321T190000
DTSTAMP:20260421T045945
CREATED:20250226T141339Z
LAST-MODIFIED:20250226T141339Z
UID:9386-1742572800-1742583600@prinzessinnengarten-kollektiv.net
SUMMARY:Kleidertausch - Clothes Exchange
DESCRIPTION:studio nagelneu presents \nKleidertausch – Clothes Exchange\nJoin us every fourth Sunday of the month at Studio Nagelneu for a fun-filled afternoon of creativity and community 🌸 \nFriday March 21st 16-19h\nstudio nagelneu | Hermannstraße 103\, 12051 Berlin \nThe idea: bring clothes you no longer wear\, and find something that suits you better.\nBringing clothes is not necessary to participate. \nPlease bring clothes you think others will enjoy and not entire suitcases 😉 \nSee you✨ \n  \n 
URL:https://prinzessinnengarten-kollektiv.net/event/kleidertausch-clothes-exchange/
LOCATION:studio nagelneu\, Hermannstraße 103\, Berliin\, 12051\, Deutschland
CATEGORIES:studio nagelneu
ATTACH;FMTTYPE=image/png:https://prinzessinnengarten-kollektiv.net/wp-content/uploads/2025/02/kleidertauschhhmarch-02.png
END:VEVENT
END:VCALENDAR