BEGIN:VCALENDAR
VERSION:2.0
PRODID:-//prinzessinnengarten kollektiv berlin - ECPv6.15.18//NONSGML v1.0//EN
CALSCALE:GREGORIAN
METHOD:PUBLISH
X-ORIGINAL-URL:https://prinzessinnengarten-kollektiv.net
X-WR-CALDESC:Veranstaltungen für prinzessinnengarten kollektiv berlin
REFRESH-INTERVAL;VALUE=DURATION:PT1H
X-Robots-Tag:noindex
X-PUBLISHED-TTL:PT1H
BEGIN:VTIMEZONE
TZID:Europe/Berlin
BEGIN:DAYLIGHT
TZOFFSETFROM:+0100
TZOFFSETTO:+0200
TZNAME:CEST
DTSTART:20240331T010000
END:DAYLIGHT
BEGIN:STANDARD
TZOFFSETFROM:+0200
TZOFFSETTO:+0100
TZNAME:CET
DTSTART:20241027T010000
END:STANDARD
BEGIN:DAYLIGHT
TZOFFSETFROM:+0100
TZOFFSETTO:+0200
TZNAME:CEST
DTSTART:20250330T010000
END:DAYLIGHT
BEGIN:STANDARD
TZOFFSETFROM:+0200
TZOFFSETTO:+0100
TZNAME:CET
DTSTART:20251026T010000
END:STANDARD
BEGIN:DAYLIGHT
TZOFFSETFROM:+0100
TZOFFSETTO:+0200
TZNAME:CEST
DTSTART:20260329T010000
END:DAYLIGHT
BEGIN:STANDARD
TZOFFSETFROM:+0200
TZOFFSETTO:+0100
TZNAME:CET
DTSTART:20261025T010000
END:STANDARD
END:VTIMEZONE
BEGIN:VEVENT
DTSTART;TZID=Europe/Berlin:20250318T180000
DTEND;TZID=Europe/Berlin:20250318T203000
DTSTAMP:20260421T052021
CREATED:20250221T100731Z
LAST-MODIFIED:20250221T100731Z
UID:9325-1742320800-1742329800@prinzessinnengarten-kollektiv.net
SUMMARY:COOK\, EAT UND DEUTSCH SPRECHEN
DESCRIPTION:studio nagelneu presents \nCOOK\, EAT UND DEUTSCH SPRECHEN\na new trial workshop. \nBi weekly on Tuesdays 18:00 – 20:30\nstudio nagelneu | Hermannstraße 103\, 12051 Berlin \nTuesday 4.3.25\nTuesday 18.3.25\nTuesday 1.4.25\nTuesday15.4.25 \nSo many of us are trying to learn German but are constantly speaking in English. This event is for people who want to practice speaking German\, at all levels. \nThis is not about saying things perfectly\, rather it is an opportunity to make the best of what we have and practice making us understood and understanding others in German.\nThe idea\, each session we will cook a meal from one of our cultures and learn the ingredients and any stories we want to share about the food\, in German.\nOtherwise we just hang out and really try to stick to using the German language and sometimes make a fool of ourselves. \nThe first workshop we will be cooking gnocchi. \nThis format is flexible we can amend it to our needs. \nPlease sign up\, and best would be if people commit to all four workshops.\nsign up via nagelneu@prinzessinnengarten.net\, first come first serve\, max 20 people. \nIt will be donation based to cover food expenses and support the space\n5-15 Euro nach Selbsteinschätzung
URL:https://prinzessinnengarten-kollektiv.net/event/cook-eat-und-deutsch-sprechen-2/
LOCATION:studio nagelneu\, Hermannstraße 103\, Berliin\, 12051\, Deutschland
CATEGORIES:studio nagelneu
ATTACH;FMTTYPE=image/jpeg:https://prinzessinnengarten-kollektiv.net/wp-content/uploads/2025/02/250304_eat-und-deutsch.jpg
END:VEVENT
END:VCALENDAR