BEGIN:VCALENDAR
VERSION:2.0
PRODID:-//prinzessinnengarten kollektiv berlin - ECPv6.15.18//NONSGML v1.0//EN
CALSCALE:GREGORIAN
METHOD:PUBLISH
X-WR-CALNAME:prinzessinnengarten kollektiv berlin
X-ORIGINAL-URL:https://prinzessinnengarten-kollektiv.net
X-WR-CALDESC:Veranstaltungen für prinzessinnengarten kollektiv berlin
REFRESH-INTERVAL;VALUE=DURATION:PT1H
X-Robots-Tag:noindex
X-PUBLISHED-TTL:PT1H
BEGIN:VTIMEZONE
TZID:Europe/Berlin
BEGIN:DAYLIGHT
TZOFFSETFROM:+0100
TZOFFSETTO:+0200
TZNAME:CEST
DTSTART:20230326T010000
END:DAYLIGHT
BEGIN:STANDARD
TZOFFSETFROM:+0200
TZOFFSETTO:+0100
TZNAME:CET
DTSTART:20231029T010000
END:STANDARD
BEGIN:DAYLIGHT
TZOFFSETFROM:+0100
TZOFFSETTO:+0200
TZNAME:CEST
DTSTART:20240331T010000
END:DAYLIGHT
BEGIN:STANDARD
TZOFFSETFROM:+0200
TZOFFSETTO:+0100
TZNAME:CET
DTSTART:20241027T010000
END:STANDARD
BEGIN:DAYLIGHT
TZOFFSETFROM:+0100
TZOFFSETTO:+0200
TZNAME:CEST
DTSTART:20250330T010000
END:DAYLIGHT
BEGIN:STANDARD
TZOFFSETFROM:+0200
TZOFFSETTO:+0100
TZNAME:CET
DTSTART:20251026T010000
END:STANDARD
END:VTIMEZONE
BEGIN:VEVENT
DTSTART;TZID=Europe/Berlin:20241216T180000
DTEND;TZID=Europe/Berlin:20241216T210000
DTSTAMP:20260421T104148
CREATED:20241127T135817Z
LAST-MODIFIED:20241127T135817Z
UID:8691-1734372000-1734382800@prinzessinnengarten-kollektiv.net
SUMMARY:KÜFA - Küche für alle im studio nagelneu & Warthe73
DESCRIPTION:studio nagelneu presents \nKÜFA – Küche für alle\nCook & Eat together || KÜFA 🍜 \nMontag 16. Dezember ab 18 h\nstudio nagelneu | Hermannstraße 103\, 12051 Berlin \nenglish below\n\nWir bringen 2 communities zusammen und lernen 2 Räume kennen.\nWir treffen und kochen zusammen im studio_nagelneu und gehen dann in die Warthe73\, um dort gemeinsam zu essen.\nKomm mit Hunger!\nAuf Spendenbasis\, alle essen mit 🦋 \nWe’re bringing 2 communities together and getting to know 2 community spaces.\nWe will meet and cook at studio_nagelneu and eat together at Warthe73. Bring yourself and come hungry.\nDonation based\, all eat 🦋 \nAlso\, we are celebrating a new cute stove in studio_nagelneu 🔥🔥
URL:https://prinzessinnengarten-kollektiv.net/event/kuefa-kueche-fuer-alle-im-studio-nagelneu-warthe73/
LOCATION:studio nagelneu\, Hermannstraße 103\, Berliin\, 12051\, Deutschland
CATEGORIES:studio nagelneu
ATTACH;FMTTYPE=image/jpeg:https://prinzessinnengarten-kollektiv.net/wp-content/uploads/2024/11/kuefa16.12-01-scaled.jpg
END:VEVENT
END:VCALENDAR