BEGIN:VCALENDAR
VERSION:2.0
PRODID:-//prinzessinnengarten kollektiv berlin - ECPv6.15.18//NONSGML v1.0//EN
CALSCALE:GREGORIAN
METHOD:PUBLISH
X-WR-CALNAME:prinzessinnengarten kollektiv berlin
X-ORIGINAL-URL:https://prinzessinnengarten-kollektiv.net
X-WR-CALDESC:Veranstaltungen für prinzessinnengarten kollektiv berlin
REFRESH-INTERVAL;VALUE=DURATION:PT1H
X-Robots-Tag:noindex
X-PUBLISHED-TTL:PT1H
BEGIN:VTIMEZONE
TZID:Europe/Berlin
BEGIN:DAYLIGHT
TZOFFSETFROM:+0100
TZOFFSETTO:+0200
TZNAME:CEST
DTSTART:20230326T010000
END:DAYLIGHT
BEGIN:STANDARD
TZOFFSETFROM:+0200
TZOFFSETTO:+0100
TZNAME:CET
DTSTART:20231029T010000
END:STANDARD
BEGIN:DAYLIGHT
TZOFFSETFROM:+0100
TZOFFSETTO:+0200
TZNAME:CEST
DTSTART:20240331T010000
END:DAYLIGHT
BEGIN:STANDARD
TZOFFSETFROM:+0200
TZOFFSETTO:+0100
TZNAME:CET
DTSTART:20241027T010000
END:STANDARD
BEGIN:DAYLIGHT
TZOFFSETFROM:+0100
TZOFFSETTO:+0200
TZNAME:CEST
DTSTART:20250330T010000
END:DAYLIGHT
BEGIN:STANDARD
TZOFFSETFROM:+0200
TZOFFSETTO:+0100
TZNAME:CET
DTSTART:20251026T010000
END:STANDARD
END:VTIMEZONE
BEGIN:VEVENT
DTSTART;TZID=Europe/Berlin:20241130T140000
DTEND;TZID=Europe/Berlin:20241130T190000
DTSTAMP:20260421T103813
CREATED:20241028T155902Z
LAST-MODIFIED:20241127T161613Z
UID:8568-1732975200-1732993200@prinzessinnengarten-kollektiv.net
SUMMARY:Kiez[Kunst]Markt 2024
DESCRIPTION:Der Kiez[Kunst]Markt ist eine niedrigschwellige Alternative zum Konsumzwang in der Adventszeit für alle. \nMit Produkten und kostenlosen Workshops von Kunsthandwerker*innen\, Aktivist*innen und Initiativen aus dem Kiez zum Stöbern und Herstellen von kleinen Geschenken für Freund*innen\, Familie oder euch selbst. \nDas Highlight in diesem Jahr: Soli-Tattoos ind er Kiezkapelle (Details siehe unten) \nAußerdem warten wärmende Getränke und Snacks sowie ein buntes Bühnenprogramm auf euch! \nSamstag\, 30. November 14-19 Uhr\nSonntag\, 1. Dezember 14-18 Uhr\nim Gastraum des Gartencafés\n \n  \n\n\n\n\n\n\n\n\nKunsthandwerk und Kostbarkeiten\n✨Postkarten\, Tee & Gartenprodukte vom Prinzessinnengarten\n✨Chili-Produkte\n✨Keramik von Juuli (nur So)\n✨Prints & Pins von KiKi / Kiyono Saito (nur So)\n✨Linoldruck & mehr von Die Frauen\, die Druck machen / Schillerwerkstatt\n✨ Keramik von Yusa \n✨ Printdesign und plastikfreie Street Fashion von Sonja Schön\n✨ Buchbindewerke (nur Sa)\n✨ Schmuck on Calemi\n✨ Prints\, Sticker & Kunst von Itch Scratch\n✨ Nachbarschaftsbegebnungen mit Interkular \nu.v.m. \n\n\n\n\n\n\n\n\nWorkshops\n🌱 Linoldruck mit Die Frauen\, die Druck machen / Schillerwerkstatt\n🌱 Postkarten gestalten mit KiKi / Kiyono Saito (nur So)\n🌱 Kränze & Gestecke binden\n🌱 Weihnachtsdeko aus Naturmaterialien\n🌱 Upcycling Schlüsselanhänger mit Sonja Schön\n🌱 Antifaschistische Plätzchen mit Team Dis+Ko\n🌱 Siebdruck mit Interkular\nu.v.m. \n\n\n\n\n\n\n\n\nBühnenprogramm\nSamstag\, 30. November\n \n🎉 16 Uhr Cat Music\n🎉 17 Uhr MC Waldschrat\n🎉 18 Uht Miha und Sina \nSonntag\, 1. Dezember \n🎉 16:30 Uhr The DienstagChoir\n🎉 17:30 Uhr Benjamin Barrit \n  \n\nSoli-Tattoos in der Kiezkapelle\nIhr braucht ’ne Pause von kalten Draußen und dem Markt-Gestöber? Dann zieht euch in die Kapelle zurück und lasst euch tättowieren! Ein Auswahl talentierter Süßmäuse steht für euch bereit und tättowoert euch gegen Spende! \nSamstag ab 15 Uhr\n✨ @maiafriend\n✨ @hania.handpoke\n✨ @blue.lemon.tattoo\n✨ @anna_maschine \nSonntag ab 15 Uhr\n✨ @theatowiert\n✨ @qara.tats\n✨ @softtoy_999\n✨ @katutatuu \n\n\n\n\n\n\n\n\nAufwärm-Programm in der Kiezkapelle\n✨ Kleidertausch\n✨ Teeküche\n✨ Kinderbetreuung
URL:https://prinzessinnengarten-kollektiv.net/event/kiezkunstmarkt-2024/
LOCATION:Prinzessinnengarten Kollektiv Berlin\, Hermannstraße 99-105\, Berlin\, 12051\, Deutschland
ATTACH;FMTTYPE=image/jpeg:https://prinzessinnengarten-kollektiv.net/wp-content/uploads/2024/10/KiezKunstMarkt-_web.jpg
END:VEVENT
END:VCALENDAR