BEGIN:VCALENDAR
VERSION:2.0
PRODID:-//prinzessinnengarten kollektiv berlin - ECPv6.15.18//NONSGML v1.0//EN
CALSCALE:GREGORIAN
METHOD:PUBLISH
X-WR-CALNAME:prinzessinnengarten kollektiv berlin
X-ORIGINAL-URL:https://prinzessinnengarten-kollektiv.net
X-WR-CALDESC:Veranstaltungen für prinzessinnengarten kollektiv berlin
REFRESH-INTERVAL;VALUE=DURATION:PT1H
X-Robots-Tag:noindex
X-PUBLISHED-TTL:PT1H
BEGIN:VTIMEZONE
TZID:Europe/Berlin
BEGIN:DAYLIGHT
TZOFFSETFROM:+0100
TZOFFSETTO:+0200
TZNAME:CEST
DTSTART:20230326T010000
END:DAYLIGHT
BEGIN:STANDARD
TZOFFSETFROM:+0200
TZOFFSETTO:+0100
TZNAME:CET
DTSTART:20231029T010000
END:STANDARD
BEGIN:DAYLIGHT
TZOFFSETFROM:+0100
TZOFFSETTO:+0200
TZNAME:CEST
DTSTART:20240331T010000
END:DAYLIGHT
BEGIN:STANDARD
TZOFFSETFROM:+0200
TZOFFSETTO:+0100
TZNAME:CET
DTSTART:20241027T010000
END:STANDARD
BEGIN:DAYLIGHT
TZOFFSETFROM:+0100
TZOFFSETTO:+0200
TZNAME:CEST
DTSTART:20250330T010000
END:DAYLIGHT
BEGIN:STANDARD
TZOFFSETFROM:+0200
TZOFFSETTO:+0100
TZNAME:CET
DTSTART:20251026T010000
END:STANDARD
END:VTIMEZONE
BEGIN:VEVENT
DTSTART;TZID=Europe/Berlin:20241122T150000
DTEND;TZID=Europe/Berlin:20241122T170000
DTSTAMP:20260423T105733
CREATED:20241028T100112Z
LAST-MODIFIED:20241028T100112Z
UID:8562-1732287600-1732294800@prinzessinnengarten-kollektiv.net
SUMMARY:Walgeister basteln mit Ton im Park am Buschkrug
DESCRIPTION:Unsere Parkhausmeister*innen präsentieren \nWalgeister basteln mit Ton im Park am Buschkrug\nFreitag 22. November  15-17 Uhr\nPark am Buschkrug | Treffpunk am Café\n \nPark-Geister und andere Waldgestalten – Arbeiten mit Modeliermasse.\nBringt Fantasie und Lust zum gestalten mit.\nIhr erkennt uns immer an den roten „FairPlay im Park“ Westen \nDenkt an für das Wetter passende Kleidung.\nBei andauernden Regen fällt der Termin ersatzlos aus. \nAlle Angebote sind ohne Anmeldung und kostenlos.
URL:https://prinzessinnengarten-kollektiv.net/event/walgeister-basteln-mit-ton-im-park-am-buschkrug/
CATEGORIES:Park
END:VEVENT
BEGIN:VEVENT
DTSTART;TZID=Europe/Berlin:20241122T160000
DTEND;TZID=Europe/Berlin:20241122T190000
DTSTAMP:20260423T105734
CREATED:20241022T120059Z
LAST-MODIFIED:20241022T120319Z
UID:8518-1732291200-1732302000@prinzessinnengarten-kollektiv.net
SUMMARY:Upcycling Workshop - Stencil Spray & Handpainting Techniques
DESCRIPTION:studio nagelneu presents \nUpcycling Workshop – Stencil Spray & Handpainting Techniques\nClothes Upcycling Workshops with warrior babe \nClothes are not just abaout fashion – they are a uniform (of love and war)\, a way of taking space\, a way pf calming yourself as a being belonging to the collective & owning your own idividuality. \nIn this upcycling course you will explore different classes how to tell stories\, our own\, amd how to express them through different techniques applied to the textile medium. \nAs a team\, we will put together a fashion exhibition at the end of our course where we will share our work with the world. \nThe idea behind this course is to take part in the whole process – from storytelinig til the exhibition – but you can also take individual classes (see details about the individual classes below). \nSunday 27. October 16-19h – BLEACHING\nFriday 8. November 16-19h – EMBROIDERY & HAND STICHING\nFriday 22. November 16-19h – STENCIL SPRAY & HANDPAINTING TECHNIQUES\nFriday 6. December 16-19h – TEXTILE ALTERATIONS\nSaturday 12. December – FINAL EXHIBITION\nstudio nagelneu | Hermannstraße 103\, 12051 Berlin \n1 class – 45€\nAll classes 150€\nThe recommended fee is 45€/class but if you want to attend and don’t have the money send me a message \nTo sign up message info@warriorbabe.club \nBLEACHING\nBleaching & dying / creating sheapes and patterns / discharged ink printing \nEMBROIDERY & HAND STICHING\nall about transforming fabric using needle and thread / learn a variety of hand stiching techniques / Dreating new\, beatiful & intricate designs \nSTENCIL SPRAY & HANDPAINTING TECHNIQUES\ncreate ways to transform fabrics using stenciling\, spray\, hand painting\, stamping techniques / creating vibrant & unique designs \nTEXTILE ALTERATIONS\nexploring creative fabric manipulation techniques / sanding & sifting\, ripping and more / transforming fabrics with unique textures and unconventional methodas giving them new life and character \n \n  \n  \n 
URL:https://prinzessinnengarten-kollektiv.net/event/upcycling-workshop-stencil-spray-handpainting-techniques/
LOCATION:studio nagelneu\, Hermannstraße 103\, Berliin\, 12051\, Deutschland
CATEGORIES:studio nagelneu
ATTACH;FMTTYPE=image/jpeg:https://prinzessinnengarten-kollektiv.net/wp-content/uploads/2024/10/1-Kopie.jpg
END:VEVENT
BEGIN:VEVENT
DTSTART;TZID=Europe/Berlin:20241122T170000
DTEND;TZID=Europe/Berlin:20241122T210000
DTSTAMP:20260423T105734
CREATED:20240815T094317Z
LAST-MODIFIED:20241113T155533Z
UID:8225-1732294800-1732309200@prinzessinnengarten-kollektiv.net
SUMMARY:Trauerraum - Offener Ort zum Erinnern an unsere Toten\, Trauern und Gemeinschaft
DESCRIPTION:transitioning death / was wir mitbringen präsentiert \nTrauerraum\nFreitag 22. November 2024 17 – 21 Uhr\nSamstag 23. November 2024 14 – 21 Uhr\nKiezkapelle | Hermannstraße 99-105\, 12051 Berlin \n\nOffener Ort zum Erinnern an unsere Toten\, Trauern und für Gemeinschaft\nIm Trauerraum können wir unserer Toten erinnern und ihnen gedenken. Eingeladen sind alle Menschen mit und ohne Religion oder spirituellem Glauben. Bringt Erinnerungen an eure Toten und\, wenn ihr möchtet\, Gaben  (Bilder\, Fotos\, Objekte\, alles was ihr möchtet) für sie mit. Mit Raum für Ruhe\, Austausch und Begegnung entsteht ein Ort für kollektives und individuelles Trauern. Es wird eine Suppe geben. Gerne könnt ihr auch Speisen\, die euch an einem Trauerort wichtig sind\, mitbringen. \n\n  \nGrief Space\nFriday\, November 22nd\, 2024 5-9pm\nSaturday\, November 23rd\, 2024 2-9pm\nKiezkapelle | Hermannstraße 99-105\, 12051 Berlin \nAn open place to remember our dead\, mourn\, and be in community.\nIn the grief space\, we can remember and commemorate our deceased. Everyone\, regardless of religion or spiritual belief\, is welcome. Bring memories of your loved ones and\, if you wish\, offerings (pictures\, photos\, objects\, anything you want) for them. With space for quiet\, exchange\, and connection\, it can become a place for collective and individual mourning. There will be soup. You are also welcome to bring food that is important to you in such moment. \n  \nMatem Odası\n22 Kasım 2024\, Cuma\, 17:00-21:00 arası ve \n23 Kasım 2024\, Cumartesi\, 14:00-21:00 arası. \nKaybettiklerimizi anmaya\, matem tutmaya ve bir arada olmaya açık mekan.\nMatem Odası’nda kaybettiklerimizi yad edip\, anılarına birlikte sahip çıkabiliriz. Mekana dini veya manevi inancı olsun ya da olmasın\, herkes davetlidir. Kayıplarınızla ilgili hatıralarınızı ve isterseniz onlardan kalanları (resimleri\, fotoğrafları\, eşyaları\, artık ne isterseniz) yanınızda getirin. Huzur\, paylaşma ve buluşma yeri olarak düşünülen bu alan\, birey olarak ya da topluluk halinde matem tutmak için yaratılmış bir mekandır.\nMekanda çorba ikramı olacaktır. Buna ek olarak siz de matem ortamına uygun olacağını düşündüğünüz yiyecekleri birlikte getirebilirsiniz \n  \nТраурная комната\nПятница\, 22 ноября 2024 г.\, с 17:00 до 21:00\nсуббота\, 23 ноября 2024 г.\, с 14:00 до 21:00 \n\nОткрытое место\, чтобы вспомнить наших погибших\, скорбеть и для сообщества\nВ траурной комнате мы можем вспоминать и вспоминать наших умерших. Приглашаются все люди с религией или духовными убеждениями и без них. Принесите воспоминания о своих умерших и\, если хотите\, поминки (картины\, фотографии\, предметы – все\, что захотите) для них. Создается пространство для покоя\, обмена и встреч\, место для коллективного и индивидуального траура. Будет суп. Вы также можете принести с собой на место траура важную для вас еду. \n  \n  \nالجمعة 22.11.2024 من 17 إلى 21 مساءً\nوالسبت 23.11.2024 من 14 إلى 21 مساءً \nغرفة الحداد – مكان مفتوح لتذكر موتانا وللحزن وللمجتمع \nفي „غرفة الحداد“ يمكننا أن نتذكّر ونذْكر أحبائنا الذين ماتوا. كل الناس مدعوون، بالدين وبدون دين  \nأو معتقد روحي. أحضر ذكريات موتاك وإذا كنت ترغب في ذلك هدايا لهم كصور ولوحات أو أشياء شخصية أو أي شيء تريده. مع وجود مساحة للسلام للهُدُوءٌ والتبادل واللقاء يتم إنشاء مكان للحداد الجماعي والفردي. سيكون هناك شوربة يمكنك إحضار الطعام الذي يهمك إلى مكان الحداد. \n  \n  \nП’ятниця\, 22.11.2024\, 17:00-21:00\nсубота\, 23.11.2024\, 14:00-21:00  \nПростір для скорботи Відкрите місце для вшанування наших померлих\, жалоби та для єдності.\nУ просторі скорботи ми можемо згадувати та вшановувати наших померлих. Запрошуються всі люди\, як з релігійними\, так і без релігійних або духовних переконань. Принесіть спогади про ваших померлих і\, якщо бажаєте\, дари (картини\, фотографії\, предмети\, або все що вважаєте за потрібне) для них. З місцем для заспокоєння\, обміну та зустрічей з’явиться місце для колективної та індивідуальної скорботи. Буде запропоновано суп. Ви також можете принести страви\, які важливі для вас на місці скорботи. \n  \n۲۱ \nشنبه ۲۳ نوامبر ۲۰۲۴ ساعت ۱۴ تا ۲۱  \nفضای سوگواری \nمکانی باز برای یاد از دست‌رفتگان، سوگواری و همراهی جمعی  \nدر مراسم سوگواری می‌خواهیم یاد و خاطره از دست‌رفتگان خود را گرامی بداریم. از همه افراد با و بدون دین و اعتقادات معنوی برای شرکت در این فضا دعوت می‌کنیم. خاطرات از دست‌رفتگان خود و در صورت تمایل می‌توانید هدایایی (همچون تصاویر، عکس، اشیا یا هر چیزی که تمایل دارید) برای آنها همراه خود بیاورید. با فضایی آرامش‌بخش و با اشتراک و تبادل با یکدیگر امکان سوگواری فردی و جمعی مهیا می‌شود. سوپ آماده خواهد بود و همچنین می‌توانید غذاهایی را که برای این مراسم برایتان مهم است با خود بیاورید. \n  \n           \n    \n   \n  \n  \n  \n  \n  \n  \n\n\n\n\nGefördert von \n \nIn Kooperation mit Flamingo e.V. \, Kiezkapelle und anstiftung
URL:https://prinzessinnengarten-kollektiv.net/event/trauerraum-offener-ort-zum-erinnern-an-unsere-toten-trauern-und-gemeinschaft/
LOCATION:Kiezkapelle\, Hermannstraße 102\, Berlin\, 12051
CATEGORIES:transitioning death
ATTACH;FMTTYPE=image/jpeg:https://prinzessinnengarten-kollektiv.net/wp-content/uploads/2024/08/DRUCK_TD_Trauerraum_DinA6_24-11-11-0001-Kopie.jpg
END:VEVENT
END:VCALENDAR