BEGIN:VCALENDAR
VERSION:2.0
PRODID:-//prinzessinnengarten kollektiv berlin - ECPv6.15.18//NONSGML v1.0//EN
CALSCALE:GREGORIAN
METHOD:PUBLISH
X-ORIGINAL-URL:https://prinzessinnengarten-kollektiv.net
X-WR-CALDESC:Veranstaltungen für prinzessinnengarten kollektiv berlin
REFRESH-INTERVAL;VALUE=DURATION:PT1H
X-Robots-Tag:noindex
X-PUBLISHED-TTL:PT1H
BEGIN:VTIMEZONE
TZID:Europe/Berlin
BEGIN:DAYLIGHT
TZOFFSETFROM:+0100
TZOFFSETTO:+0200
TZNAME:CEST
DTSTART:20230326T010000
END:DAYLIGHT
BEGIN:STANDARD
TZOFFSETFROM:+0200
TZOFFSETTO:+0100
TZNAME:CET
DTSTART:20231029T010000
END:STANDARD
BEGIN:DAYLIGHT
TZOFFSETFROM:+0100
TZOFFSETTO:+0200
TZNAME:CEST
DTSTART:20240331T010000
END:DAYLIGHT
BEGIN:STANDARD
TZOFFSETFROM:+0200
TZOFFSETTO:+0100
TZNAME:CET
DTSTART:20241027T010000
END:STANDARD
BEGIN:DAYLIGHT
TZOFFSETFROM:+0100
TZOFFSETTO:+0200
TZNAME:CEST
DTSTART:20250330T010000
END:DAYLIGHT
BEGIN:STANDARD
TZOFFSETFROM:+0200
TZOFFSETTO:+0100
TZNAME:CET
DTSTART:20251026T010000
END:STANDARD
END:VTIMEZONE
BEGIN:VEVENT
DTSTART;TZID=Europe/Berlin:20241119T190000
DTEND;TZID=Europe/Berlin:20241119T220000
DTSTAMP:20260421T114935
CREATED:20241028T092208Z
LAST-MODIFIED:20241104T141434Z
UID:8548-1732042800-1732053600@prinzessinnengarten-kollektiv.net
SUMMARY:Get Cozy - Knitting Workshop
DESCRIPTION:studio nagelneu presents \nGet Cozy – Knitting Workshop\n🧣Knit your cozy accessory – Unwind\, make and connect! \nWe all know\, winters in Berlin can be tough. So let`s get together and learn how to knit your perfect accessory that will comfort you or will be a cute Christmas present to your loved ones. \nTuesday 19. November 19-22h\nstudio nagelneu | Hermannstraße 103\, 12051 Berlin \nWhether you’re a beginner or have some experience\, this workshop will guide you through the fundamentals of knitting. You’ll learn basic stitches\, create a pattern for your own scarf\, and start  your project to take home! Whether you wanna knitting a long straight scarf\, a triangular shawl or a neckerchief\, we will develop your project together. Plus\, it’s a fantastic chance to meet like-minded people who share your passion for handmade crafts. \nWorkshop Details:\nCost: 45€\nSkill level: 👶 Beginner & 😎 intermediate \nWhat to Bring: All materials 🧶 will be provided\, so just bring yourself and a little enthusiasm! \nWhy You Should Join:\nRelax and de-stress while working with your hands\nLearn new skills from an experienced instructor\nTake home a pattern and your project that you’ve made yourself\nMeet new people and connect with others in a fun\, supportive atmosphere \nAre you ready to get creative\, learn something new\, and enjoy a relaxing break from the daily hustle? Then this knitting workshop is the perfect opportunity to unwind while crafting something beautiful with your own hands. Space is limited\, so be sure to secure your spot. \n👇 Sign up here:\nhttps://tally.so/r/w4oW6Y \nFeel free to contact me with any questions lisa@studiolido.earth. Let’s knit together! \n   \n  \n 
URL:https://prinzessinnengarten-kollektiv.net/event/get-cozy-knitting-workshop/
LOCATION:studio nagelneu\, Hermannstraße 103\, Berliin\, 12051\, Deutschland
CATEGORIES:studio nagelneu
ATTACH;FMTTYPE=image/png:https://prinzessinnengarten-kollektiv.net/wp-content/uploads/2024/10/studio-lido-assets-cms-header-lets-get-cozy.png
END:VEVENT
END:VCALENDAR