BEGIN:VCALENDAR
VERSION:2.0
PRODID:-//prinzessinnengarten kollektiv berlin - ECPv6.15.18//NONSGML v1.0//EN
CALSCALE:GREGORIAN
METHOD:PUBLISH
X-WR-CALNAME:prinzessinnengarten kollektiv berlin
X-ORIGINAL-URL:https://prinzessinnengarten-kollektiv.net
X-WR-CALDESC:Veranstaltungen für prinzessinnengarten kollektiv berlin
REFRESH-INTERVAL;VALUE=DURATION:PT1H
X-Robots-Tag:noindex
X-PUBLISHED-TTL:PT1H
BEGIN:VTIMEZONE
TZID:Europe/Berlin
BEGIN:DAYLIGHT
TZOFFSETFROM:+0100
TZOFFSETTO:+0200
TZNAME:CEST
DTSTART:20210328T010000
END:DAYLIGHT
BEGIN:STANDARD
TZOFFSETFROM:+0200
TZOFFSETTO:+0100
TZNAME:CET
DTSTART:20211031T010000
END:STANDARD
BEGIN:DAYLIGHT
TZOFFSETFROM:+0100
TZOFFSETTO:+0200
TZNAME:CEST
DTSTART:20220327T010000
END:DAYLIGHT
BEGIN:STANDARD
TZOFFSETFROM:+0200
TZOFFSETTO:+0100
TZNAME:CET
DTSTART:20221030T010000
END:STANDARD
BEGIN:DAYLIGHT
TZOFFSETFROM:+0100
TZOFFSETTO:+0200
TZNAME:CEST
DTSTART:20230326T010000
END:DAYLIGHT
BEGIN:STANDARD
TZOFFSETFROM:+0200
TZOFFSETTO:+0100
TZNAME:CET
DTSTART:20231029T010000
END:STANDARD
END:VTIMEZONE
BEGIN:VEVENT
DTSTART;TZID=Europe/Berlin:20220616T093000
DTEND;TZID=Europe/Berlin:20220616T170000
DTSTAMP:20260425T220822
CREATED:20220614T081520Z
LAST-MODIFIED:20220614T081520Z
UID:4191-1655371800-1655398800@prinzessinnengarten-kollektiv.net
SUMMARY:Fortsetzung: Workshop Grauwasserkläranlage im Gutsgarten
DESCRIPTION:Gemeinsam mit Nolde & Partner und euch haben wir am 19.5. eine Grauwasserkläranlage im Gutsgarten Hellersdorf gebaut.\nDamit können wir unser Küchenabwasser in bestens Gießwasser verwandeln. Nun geht es weiter! \nIhr seit herzlich eingeladen mit zu bauen und dabei zu lernen wie so eine Anlage funktioniert! \nDonnerstag\, 16. Juni ab 9:30 Uhr \nWer erst später Zeit hat\, kann auch nachkommen. \n  \n  \n \nDiese Veranstaltung findet im Rahmen des Edible Cities Network statt
URL:https://prinzessinnengarten-kollektiv.net/event/fortsetzung-workshop-grauwasserklaeranlage-im-gutsgarten/
LOCATION:GutsGarten Hellersdorf\, Alt-Hellersdorf 17\, Berlin\, 12626\, Deutschland
CATEGORIES:edicitnet,Gutsgarten
ATTACH;FMTTYPE=image/jpeg:https://prinzessinnengarten-kollektiv.net/wp-content/uploads/2022/04/220501_grauwasser-scaled.jpg
END:VEVENT
BEGIN:VEVENT
DTSTART;TZID=Europe/Berlin:20220616T170000
DTEND;TZID=Europe/Berlin:20220616T190000
DTSTAMP:20260425T220822
CREATED:20220530T160453Z
LAST-MODIFIED:20220614T062840Z
UID:4110-1655398800-1655406000@prinzessinnengarten-kollektiv.net
SUMMARY:Zirkus-Vorstellung von ConTact in der Hasenheide
DESCRIPTION:Unsere Parkhausmeister*innen präsentieren \nZirkus-Vorstellung von ConTact in der Hasenheide\nConTakt zeigt das ist ein zeitgenössisches Zirkusstück  „Foley“\, das von exquisiter Live-Musik begleitet wird.\n\nDonnerstag\, 16. Juni  17 Uhr\nin der Hasenheide\n\n\n\nAkrobatik Zirkus ConTakt \nhttps://contakt-circus.com\n\nConTakt ist ein zeitgenössisches Zirkusstück\, das von exquisiter Live-Musik begleitet wird. Beatboxing und Instrumente verschmelzen mit  den Bewegungen und Interaktionen der sechs DarstellerInnen. Das Stück  verbindet Tanz\, Theater mit Boden-\, Partner- und Gruppenakrobatik.\nInstrumente (Saxophon\, Mundharmonika\, Klarinette) werden von Klovis und den AkrobatInnen live mit einer Loop-Station aufgenommen und direkt zu\nelektronischen Beats gemischt.\nDie Musik ist dabei viel mehr als nur Begleitung: Sie agiert wie eine eigenständige Persönlichkeit auf der Bühne. Die Darsteller lassen sich\nvon ihr nicht nur leiten\, sondern treten mit ihr in Beziehnung\, fechten Konflikte aus und bemächtigen sich im Laufe des Stückes ihrer immer\nmehr. Die Grenzen zwischen Akrobaten und Musikern verschwimmen.PRESSE: \n“Das kurzweilige Programm wird vom genialen Musiker Kolvis begleitet\, welcher beatboxend die Schritte\, waghalsigen Sprünge und Atemzüge der\nsechs Artist*innen vertont\, in Loops verpackt und in einen maßgeschneiderten Soundtrack verwebt. Die Grazer Truppe braucht den\ninternationalen Vergleich nicht zu scheuen.” Rezension von Wolfgang Kühnelton Haubentaucher.at \n“Die kraftvolle\, zumeist balancebasierte Akrobatik vollzieht sich in ausgewogenem\, ästhetisch ansprechenden Fluss.Die dafür notwendige Aufmerksamkeit und exaktest getimte Verantwortung füreinander\, ist es\, die neben der Anerkennung der technischen Leistung\nvor allem begeistert\, ja geradezu berührt in ihrer wortlosen Übereinstimmung\, ihrer feinen Kommunikation der Blicke.” Rezension von\nEveline Koberg von tanz.at \n„Live vor Ort sorgt ein Live-Musiker für die perfekte Soundkulisse\, vom Beatboxing\, über genau auf die Bewegungen der Akrobaten abgestimmte\nGeräusche\, bis hin zu atmosphärischen Instrumentaleinlagen. Aus der Interaktion untereinander und mit dem Publikum ergab sich ein stimmiges Ganzes\, das immer wieder überraschen und für Lacher sorgen konnte.” Rezension von Fabian Kleindienst grazer.at \nTRAILER: \nhttps://youtu.be/X7jBMTmQjVQ \n\n\nKurzfristige Änderungen werden hier bekannt gegeben
URL:https://prinzessinnengarten-kollektiv.net/event/zirkus-vorstellung-von-contact-in-der-hasenheide/
CATEGORIES:Park
ATTACH;FMTTYPE=image/jpeg:https://prinzessinnengarten-kollektiv.net/wp-content/uploads/2022/05/Contact-Show_Go╠erlitzer-Park_164.jpg
END:VEVENT
END:VCALENDAR