BEGIN:VCALENDAR
VERSION:2.0
PRODID:-//prinzessinnengarten kollektiv berlin - ECPv6.15.18//NONSGML v1.0//EN
CALSCALE:GREGORIAN
METHOD:PUBLISH
X-ORIGINAL-URL:https://prinzessinnengarten-kollektiv.net
X-WR-CALDESC:Veranstaltungen für prinzessinnengarten kollektiv berlin
REFRESH-INTERVAL;VALUE=DURATION:PT1H
X-Robots-Tag:noindex
X-PUBLISHED-TTL:PT1H
BEGIN:VTIMEZONE
TZID:Europe/Berlin
BEGIN:DAYLIGHT
TZOFFSETFROM:+0100
TZOFFSETTO:+0200
TZNAME:CEST
DTSTART:20210328T010000
END:DAYLIGHT
BEGIN:STANDARD
TZOFFSETFROM:+0200
TZOFFSETTO:+0100
TZNAME:CET
DTSTART:20211031T010000
END:STANDARD
BEGIN:DAYLIGHT
TZOFFSETFROM:+0100
TZOFFSETTO:+0200
TZNAME:CEST
DTSTART:20220327T010000
END:DAYLIGHT
BEGIN:STANDARD
TZOFFSETFROM:+0200
TZOFFSETTO:+0100
TZNAME:CET
DTSTART:20221030T010000
END:STANDARD
BEGIN:DAYLIGHT
TZOFFSETFROM:+0100
TZOFFSETTO:+0200
TZNAME:CEST
DTSTART:20230326T010000
END:DAYLIGHT
BEGIN:STANDARD
TZOFFSETFROM:+0200
TZOFFSETTO:+0100
TZNAME:CET
DTSTART:20231029T010000
END:STANDARD
END:VTIMEZONE
BEGIN:VEVENT
DTSTART;TZID=Europe/Berlin:20220611T120000
DTEND;TZID=Europe/Berlin:20220611T150000
DTSTAMP:20260425T221251
CREATED:20220331T085806Z
LAST-MODIFIED:20220609T153309Z
UID:3767-1654948800-1654959600@prinzessinnengarten-kollektiv.net
SUMMARY:Aktionstag 11. Juni 2022
DESCRIPTION:Wir laden euch herzlich zu unerem Aktionstag im Juni 2022 ein! \nSamstag\, 11. Juni 12-15 Uhr \n\nOffene Führung zum Friedhofswandel (Treffpunkt am Hofladen)\nTeekräuterernte (Acker)\nWorkshop: Upcycling-Pflanztöpfe (Hochbeetwiese)\nWurmkistenbau (Hochbeetwiese)\nOffener Brotbackofen zum Selbstbacken – bringt euren eigenen Teig mit (Pizzaofen) -> bitte bringt schon bis 11 Uhr euren Teig\, damit im Anschluss der Ofen verschlossen werden kann!\n\n  \n \nDiese Veranstaltung findet im Rahmen des Edible Cities Network statt
URL:https://prinzessinnengarten-kollektiv.net/event/aktionstag-11-juni-2022/
LOCATION:Prinzessinnengarten Kollektiv Berlin\, Hermannstraße 99-105\, Berlin\, 12051\, Deutschland
CATEGORIES:Aktionstag,edicitnet
ATTACH;FMTTYPE=image/jpeg:https://prinzessinnengarten-kollektiv.net/wp-content/uploads/2021/06/210621_Aktionstag.jpg
END:VEVENT
BEGIN:VEVENT
DTSTART;TZID=Europe/Berlin:20220611T140000
DTEND;TZID=Europe/Berlin:20220611T170000
DTSTAMP:20260425T221251
CREATED:20220530T155839Z
LAST-MODIFIED:20220530T155839Z
UID:4104-1654956000-1654966800@prinzessinnengarten-kollektiv.net
SUMMARY:Parkfest "Fairplay im Park" im Park am Buschkrug
DESCRIPTION:Unsere Parkhausmeister*innen präsentieren \nParkfest „Fairplay im Park“ im Park am Buschkrug \nWir feiern als gesamtes Team „Fairplay im Park“ und präsentieren unseres Angebot begleitet von leckerem Kuchen und Kaffee. \n\nWir – die Parkhausmeister*innen\, zusammen mit Bewegt e.V.\, Fixpunkt\, Nachbarschaftsheim und Gangway laden zum feierlichem Zusammenkommen mit Spielangebot\, Stadt-gärtnerischem Workshop am Saatgutrad und Information zu Park- und Stadtnaturangeboten in Neukölln. \n\nSamstag\, 11. Juni 14-17 Uhr\n\nTreffpunkt: Park am Buschkrug U7 Blaschkowallee auf der Wiese an der „Dracula-Rutsche“
URL:https://prinzessinnengarten-kollektiv.net/event/parkfest-fairplay-im-park-im-park-am-buschkrug/
CATEGORIES:Park
END:VEVENT
BEGIN:VEVENT
DTSTART;TZID=Europe/Berlin:20220611T150000
DTEND;TZID=Europe/Berlin:20220611T163000
DTSTAMP:20260425T221251
CREATED:20220331T090902Z
LAST-MODIFIED:20220530T152423Z
UID:3778-1654959600-1654965000@prinzessinnengarten-kollektiv.net
SUMMARY:Langer Tag der Stadtnatur: Biodiversitätsführung
DESCRIPTION:Zum langen Tag der Stadtnatur erkunden wir gemeinsam die Artenvielfalt auf dem Gelände des Neuen St. Jacobi Friedhofs in Berlin-Neukölln. 1865 auf ehemaligem Ackerland angelegt\, ist das Gelände ein über 150 Jahre lang gewachsener Naturraum\, der einen großen Beitrag zur Artenvielfalt der Berliner Stadtnatur beiträgt. Die Führung vermittelt die Reichweite dieser Biodiversität und zeigt\, was wir tun können\, diese zu erhalten. \nAnmeldungen bitte direkt über die Stiftung Naturschutz hier.
URL:https://prinzessinnengarten-kollektiv.net/event/langer-tag-der-stadtnatur-biodiversitaetsfuehrung/
LOCATION:Prinzessinnengarten Kollektiv Berlin\, Hermannstraße 99-105\, Berlin\, 12051\, Deutschland
ATTACH;FMTTYPE=image/jpeg:https://prinzessinnengarten-kollektiv.net/wp-content/uploads/2022/03/200806_bot-spaziergang.jpg
END:VEVENT
BEGIN:VEVENT
DTSTART;TZID=Europe/Berlin:20220611T160000
DTEND;TZID=Europe/Berlin:20220611T190000
DTSTAMP:20260425T221251
CREATED:20220408T135705Z
LAST-MODIFIED:20220425T151535Z
UID:3823-1654963200-1654974000@prinzessinnengarten-kollektiv.net
SUMMARY:keramiklub Workshop // Grundlagen [ausgebucht]
DESCRIPTION:keramiklub lädt alle ein\, die Interesse haben mit Ton zu arbeiten. Bei dem Workshop  geht es nicht darum\, die perfekte Schale zu töpfern\, sondern ein Gefühl für das Material  Ton zu bekommen\, mit ihm zu experimentieren\, der Fantasie und dem Spiel freien Lauf zu lassen. Der Workshop wird in zwei Termine aufgeteilt. Im ersten Termin lernt ihr das  Material Ton\, die Grundlagen des Töpferns und verschiedene Aufbautechniken kennen. Im  zweiten Termin setzen wir uns mit dem Glasieren auseinander. \nIm Keramik Grundlagen Kurs erfahrt ihr\, wann die Glasur Termine stattfinden (etwa einen Monat später) \nAnmeldungen per Email an keramiklub@gmail.com
URL:https://prinzessinnengarten-kollektiv.net/event/keramiklub-workshop-grundlagen-2/
LOCATION:studio nagelneu\, Hermannstraße 103\, Berliin\, 12051\, Deutschland
CATEGORIES:edicitnet,studio nagelneu
ATTACH;FMTTYPE=image/jpeg:https://prinzessinnengarten-kollektiv.net/wp-content/uploads/2021/12/211218_keramik.jpg
END:VEVENT
BEGIN:VEVENT
DTSTART;TZID=Europe/Berlin:20220611T163000
DTEND;TZID=Europe/Berlin:20220611T180000
DTSTAMP:20260425T221251
CREATED:20220530T152811Z
LAST-MODIFIED:20220530T152811Z
UID:4097-1654965000-1654970400@prinzessinnengarten-kollektiv.net
SUMMARY:Langer Tag der Stadtnatur: Wesensgemäße Bienenhaltung
DESCRIPTION:Die wesensgemäße Bienenhaltung ist seit der Gründung des Prinzessinnengartens 2009 – und jetzt auch mit dem Umzug in den St. Jacobi Friedhof – Teil des Gartenlebens. Die Imker der Mellifera Regionalgruppe Berlin zeigen und erläutern diese ganzheitliche Betriebsweise\, die Vielzahl an unterschiedlichen Behausungen und Stöcken\, weshalb Bienen ihre Waben im Naturbau errichten und schwärmen dürfen\, sie auf eigenem Honig überwintern und nur die Überschüsse geerntet werden. \nAnhand unserer Klotzbeuten erfahren Sie mehr über Waldbienenhaltung\, der sogenannten Zeidlerei. Diese weckt in letzter Zeit viel Interesse und Begeisterung bei Imkern und bringt die Honigbiene als Wildtier in den Fokus. Es wird auch Honig aus der Wabe zu testen geben\, je nachdem\, wie viel die Bienen im Umkreis von 3 Kilometern gefunden haben! \nAnmeldungen bitte direkt über die Stiftung Naturschutz hier.
URL:https://prinzessinnengarten-kollektiv.net/event/langer-tag-der-stadtnatur-wesensgemaesse-bienenhaltung/
LOCATION:Prinzessinnengarten Kollektiv Berlin\, Hermannstraße 99-105\, Berlin\, 12051\, Deutschland
ATTACH;FMTTYPE=image/jpeg:https://prinzessinnengarten-kollektiv.net/wp-content/uploads/2021/12/211231_bienen-mellifera.jpg
END:VEVENT
END:VCALENDAR