BEGIN:VCALENDAR
VERSION:2.0
PRODID:-//prinzessinnengarten kollektiv berlin - ECPv6.15.18//NONSGML v1.0//EN
CALSCALE:GREGORIAN
METHOD:PUBLISH
X-ORIGINAL-URL:https://prinzessinnengarten-kollektiv.net
X-WR-CALDESC:Veranstaltungen für prinzessinnengarten kollektiv berlin
REFRESH-INTERVAL;VALUE=DURATION:PT1H
X-Robots-Tag:noindex
X-PUBLISHED-TTL:PT1H
BEGIN:VTIMEZONE
TZID:Europe/Berlin
BEGIN:DAYLIGHT
TZOFFSETFROM:+0100
TZOFFSETTO:+0200
TZNAME:CEST
DTSTART:20210328T010000
END:DAYLIGHT
BEGIN:STANDARD
TZOFFSETFROM:+0200
TZOFFSETTO:+0100
TZNAME:CET
DTSTART:20211031T010000
END:STANDARD
BEGIN:DAYLIGHT
TZOFFSETFROM:+0100
TZOFFSETTO:+0200
TZNAME:CEST
DTSTART:20220327T010000
END:DAYLIGHT
BEGIN:STANDARD
TZOFFSETFROM:+0200
TZOFFSETTO:+0100
TZNAME:CET
DTSTART:20221030T010000
END:STANDARD
BEGIN:DAYLIGHT
TZOFFSETFROM:+0100
TZOFFSETTO:+0200
TZNAME:CEST
DTSTART:20230326T010000
END:DAYLIGHT
BEGIN:STANDARD
TZOFFSETFROM:+0200
TZOFFSETTO:+0100
TZNAME:CET
DTSTART:20231029T010000
END:STANDARD
END:VTIMEZONE
BEGIN:VEVENT
DTSTART;TZID=Europe/Berlin:20220609T093000
DTEND;TZID=Europe/Berlin:20220609T130000
DTSTAMP:20260425T221434
CREATED:20220530T155615Z
LAST-MODIFIED:20220530T155615Z
UID:4102-1654767000-1654779600@prinzessinnengarten-kollektiv.net
SUMMARY:Nachbarschaftstreffen: "Was wünsche ich mir für die Parks in der Groupiusstadt?"
DESCRIPTION:Unsere Parkhausmeister*innen präsentieren \nNachbarschaftstreffen: „Was wünsche ich mir für die Parks in der Groupiusstadt?“\nWir – die Parkhausmeister*innen möchten euch – Besucher*innen der Parks in der Groupiusstadt Hallo sagen und zusammen mit euch neue Ideen für den Park herausfinden. Was liegt euch besonders am Herzen? Welche Aktivitäten machen euch im Park besonders viel Spaß und was sind die Probleme die euch in eurem Stadtteil begegnen? \n\nDonnerstag\, 9. Juni 9:30 – 13:00\n\nEin offenes Zusammenkommen für Interessierte jedes Alters. Wir sammeln eure Ideen und präsentieren das Angebot von Parkhausmeister*innen sowie unseren Partnern im Projekt „Fair Play im Park“. \n\n\nTreffpunkt: Rosengarten im Grünzug Britz-Buckow-Rudow. Haltet Ausschau nach unserem grünem Auto. 
URL:https://prinzessinnengarten-kollektiv.net/event/nachbarschaftstreffen-was-wuensche-ich-mir-fuer-die-parks-in-der-groupiusstadt/
CATEGORIES:Park
END:VEVENT
END:VCALENDAR