BEGIN:VCALENDAR
VERSION:2.0
PRODID:-//prinzessinnengarten kollektiv berlin - ECPv6.15.18//NONSGML v1.0//EN
CALSCALE:GREGORIAN
METHOD:PUBLISH
X-WR-CALNAME:prinzessinnengarten kollektiv berlin
X-ORIGINAL-URL:https://prinzessinnengarten-kollektiv.net
X-WR-CALDESC:Veranstaltungen für prinzessinnengarten kollektiv berlin
REFRESH-INTERVAL;VALUE=DURATION:PT1H
X-Robots-Tag:noindex
X-PUBLISHED-TTL:PT1H
BEGIN:VTIMEZONE
TZID:Europe/Berlin
BEGIN:DAYLIGHT
TZOFFSETFROM:+0100
TZOFFSETTO:+0200
TZNAME:CEST
DTSTART:20210328T010000
END:DAYLIGHT
BEGIN:STANDARD
TZOFFSETFROM:+0200
TZOFFSETTO:+0100
TZNAME:CET
DTSTART:20211031T010000
END:STANDARD
BEGIN:DAYLIGHT
TZOFFSETFROM:+0100
TZOFFSETTO:+0200
TZNAME:CEST
DTSTART:20220327T010000
END:DAYLIGHT
BEGIN:STANDARD
TZOFFSETFROM:+0200
TZOFFSETTO:+0100
TZNAME:CET
DTSTART:20221030T010000
END:STANDARD
BEGIN:DAYLIGHT
TZOFFSETFROM:+0100
TZOFFSETTO:+0200
TZNAME:CEST
DTSTART:20230326T010000
END:DAYLIGHT
BEGIN:STANDARD
TZOFFSETFROM:+0200
TZOFFSETTO:+0100
TZNAME:CET
DTSTART:20231029T010000
END:STANDARD
END:VTIMEZONE
BEGIN:VEVENT
DTSTART;TZID=Europe/Berlin:20220603T190000
DTEND;TZID=Europe/Berlin:20220603T220000
DTSTAMP:20260425T170353
CREATED:20220530T083422Z
LAST-MODIFIED:20220602T105535Z
UID:4080-1654282800-1654293600@prinzessinnengarten-kollektiv.net
SUMMARY:[Kultur]Freitag mit Jan B. und der Hinterhalt
DESCRIPTION:Im Rahmen unseres Sommerprogramms präsentieren wir euch freitags ein kulturelles Programm begleitet von unserem Angebot am Pizza-Ofen und Bar! \nDiesmal mit von der Partie \nJan B. und der Hinterhalt\nJan B. ist ein Sänger\, Gitarrist und Songwriter aus Berlin Neukölln\, der seine Beobachtungen des modernen Wahnsinns in mitreißenden Rocksongs mitteilt. Die eingängigen Melodien und cleveren Texte in deutscher Sprache erinnern bisweilen an eine andere berühmte Berliner Band aus dem Deutschpunkbereich mit Ä am Anfang. \nDamit hier keine Verwechslungsgefahr entsteht lässt er sich von seiner Band\, dem Hinterhalt\, namentlich Armin Wegscheider (git/voc)\, Sungur Bentürk (drums/voc) und Phileas Hohlweck (Bass) unterstützen\, die Jans eingängige Kompositionen musikalisch vielseitig umspielen. \nSo ergibt sich ein abwechslungsreiches musikalisches Spektrum von rasantem Punkrock bis zu dramatischen Spaghettiwestern-Klängen\, von Ska bis zu Chanson. Dazu Texte\, die Geschichten über analoge Sehnsucht\, digitale Überfälle\, vom kleinen Mann\, vernetzten Idioten oder arbeitsmüden Tagträumern erzählen. \nhttps://derhinterhalt.de/ \nAnmeldung\nBitte meldet euch vorab via event@prinzessinnengarten.net an!\nDas Programm startet zur angegebenen Uhrzeit – bitte seid zeitnah vor Ort – das Gelände wird 20 Uhr (gemäß der Friedhofsöffnungszeiten) abgeschlossen. Der anschließende Auslass wird von uns organisiert. \nDie Teilnahme an der Veranstaltung ist kostenlos – die Künstler*innen freuen sich über eine Spende! \nWeitere Veranstaltungen im Rahmen unserer [Kultur]Freitage findet ihr hier.
URL:https://prinzessinnengarten-kollektiv.net/event/kulturfreitag-mit-jan-b-und-der-hinterhalt/
LOCATION:Prinzessinnengarten Kollektiv Berlin\, Hermannstraße 99-105\, Berlin\, 12051\, Deutschland
CATEGORIES:[Kultur]Freitag
ATTACH;FMTTYPE=image/jpeg:https://prinzessinnengarten-kollektiv.net/wp-content/uploads/2022/05/220603_JanBHinterhalt.jpg
END:VEVENT
END:VCALENDAR