BEGIN:VCALENDAR
VERSION:2.0
PRODID:-//prinzessinnengarten kollektiv berlin - ECPv6.15.18//NONSGML v1.0//EN
CALSCALE:GREGORIAN
METHOD:PUBLISH
X-ORIGINAL-URL:https://prinzessinnengarten-kollektiv.net
X-WR-CALDESC:Veranstaltungen für prinzessinnengarten kollektiv berlin
REFRESH-INTERVAL;VALUE=DURATION:PT1H
X-Robots-Tag:noindex
X-PUBLISHED-TTL:PT1H
BEGIN:VTIMEZONE
TZID:Europe/Berlin
BEGIN:DAYLIGHT
TZOFFSETFROM:+0100
TZOFFSETTO:+0200
TZNAME:CEST
DTSTART:20210328T010000
END:DAYLIGHT
BEGIN:STANDARD
TZOFFSETFROM:+0200
TZOFFSETTO:+0100
TZNAME:CET
DTSTART:20211031T010000
END:STANDARD
BEGIN:DAYLIGHT
TZOFFSETFROM:+0100
TZOFFSETTO:+0200
TZNAME:CEST
DTSTART:20220327T010000
END:DAYLIGHT
BEGIN:STANDARD
TZOFFSETFROM:+0200
TZOFFSETTO:+0100
TZNAME:CET
DTSTART:20221030T010000
END:STANDARD
BEGIN:DAYLIGHT
TZOFFSETFROM:+0100
TZOFFSETTO:+0200
TZNAME:CEST
DTSTART:20230326T010000
END:DAYLIGHT
BEGIN:STANDARD
TZOFFSETFROM:+0200
TZOFFSETTO:+0100
TZNAME:CET
DTSTART:20231029T010000
END:STANDARD
END:VTIMEZONE
BEGIN:VEVENT
DTSTART;TZID=Europe/Berlin:20220530T100000
DTEND;TZID=Europe/Berlin:20220530T130000
DTSTAMP:20260425T170654
CREATED:20220427T135644Z
LAST-MODIFIED:20220427T135644Z
UID:3878-1653904800-1653915600@prinzessinnengarten-kollektiv.net
SUMMARY:Wildnispädagogik Wokshop in der Hasenheide
DESCRIPTION:Unsere Parkhausmeister*innen präsentieren \nWildnispädagogik Wokshop in der Hasenheide\n\n\nIn diesem Wildnisworkshop dreht sich alles um das Element Feuer. Gemeinsam wollen wir uns mit\nder uralten Kunst beschäftigen ein Feuer mit dem zu entfachen\, was wir in der Natur vorfinden\nkönnen. Es geht einerseits um Verbindung mit dem Element und andererseits um praktische\nSurvivaltechniken zu lernen. (HINWEIS: Wir werden die Glut kurz zur Flamme anpusten aber da\nwir uns auf einem innerstädtischen Park befinden kein Lagerfeuer brennen haben!)\n\nMitbringen\n• Wenn Ihr ein Messer (mit stehender oder feststellbarer Kilnge) habt\, bringt das gerne mit.\n• Eine Unterlage zum drauf knien\, wenn vorhanden\, ist sinnvoll.\n• Essen und Trinken\, könnt ihr euch auch gerne selber etwas mitbringen.\n\nTeilnehmerzahl: 10 max. \nAltersgruppe: Alle Altersgruppen (Kinder in Begleitung mit Eltern\, bei Absprache willkommen)\n\nVoranmeldung;\nEmail oder Handy an Christoph Both-Asmus: +49 157 88404612 / treewalkerproject@gmail.com\n\nWetter:\nNur bei sehr\, sehr\, sehr schlechtem Wetter sagen wir den Workshop bis um 13 Uhr via SMS ab.\n\nTreffpunkt: Hasenheide Eingang Jahndenkmal/Hindutempel
URL:https://prinzessinnengarten-kollektiv.net/event/wildnispaedagogik-wokshop-in-der-hasenheide/
LOCATION:Jahn-Denkmal Hasenheide\, Jahn-Denkmal Hasenheide\, Hasenheide\, Berlin
CATEGORIES:Park
ATTACH;FMTTYPE=image/jpeg:https://prinzessinnengarten-kollektiv.net/wp-content/uploads/2022/04/IMG_20201016_155820-scaled.jpg
END:VEVENT
END:VCALENDAR