BEGIN:VCALENDAR
VERSION:2.0
PRODID:-//prinzessinnengarten kollektiv berlin - ECPv6.15.18//NONSGML v1.0//EN
CALSCALE:GREGORIAN
METHOD:PUBLISH
X-ORIGINAL-URL:https://prinzessinnengarten-kollektiv.net
X-WR-CALDESC:Veranstaltungen für prinzessinnengarten kollektiv berlin
REFRESH-INTERVAL;VALUE=DURATION:PT1H
X-Robots-Tag:noindex
X-PUBLISHED-TTL:PT1H
BEGIN:VTIMEZONE
TZID:Europe/Berlin
BEGIN:DAYLIGHT
TZOFFSETFROM:+0100
TZOFFSETTO:+0200
TZNAME:CEST
DTSTART:20210328T010000
END:DAYLIGHT
BEGIN:STANDARD
TZOFFSETFROM:+0200
TZOFFSETTO:+0100
TZNAME:CET
DTSTART:20211031T010000
END:STANDARD
BEGIN:DAYLIGHT
TZOFFSETFROM:+0100
TZOFFSETTO:+0200
TZNAME:CEST
DTSTART:20220327T010000
END:DAYLIGHT
BEGIN:STANDARD
TZOFFSETFROM:+0200
TZOFFSETTO:+0100
TZNAME:CET
DTSTART:20221030T010000
END:STANDARD
BEGIN:DAYLIGHT
TZOFFSETFROM:+0100
TZOFFSETTO:+0200
TZNAME:CEST
DTSTART:20230326T010000
END:DAYLIGHT
BEGIN:STANDARD
TZOFFSETFROM:+0200
TZOFFSETTO:+0100
TZNAME:CET
DTSTART:20231029T010000
END:STANDARD
END:VTIMEZONE
BEGIN:VEVENT
DTSTART;TZID=Europe/Berlin:20220528T110000
DTEND;TZID=Europe/Berlin:20220528T130000
DTSTAMP:20260425T170654
CREATED:20220519T081543Z
LAST-MODIFIED:20220519T081543Z
UID:4060-1653735600-1653742800@prinzessinnengarten-kollektiv.net
SUMMARY:Clean-Up im Park am Buschkrug/Akazienwäldchen
DESCRIPTION:Unsere Parkhausmeister*innen präsentieren: \nWir räumen gemeinsam das Akazienwäldchen auf!\n\nSamstag\, 28. Mai 11-13 Uhr\n\n Der Fokus liegt darauf\, die Wiese ggü. des Standesamtes vom Flittermüll zu befreien.\n Gemeinsam wollen wir auch nach Wegen suchen\, wie dafür gesorgt werden kann die Wiese nachhaltig vor Hochzeitsmüll zu schützen\, z.B Schilder gestalten\, die für die Situation sensibilisieren.\n\nHandschuhe\, Zangen\, Rechen etc. bringen wir mit\, ebenso wie Kaffee\, Tee und Kekse und Kuchen \n\n Treffpunkt: 11h an den Tischtennisplatten nahes Bistro im Park am Buschkrug.\n NachzüglerInnen kommen einfach direkt rüber ins Akazienwäldchen 
URL:https://prinzessinnengarten-kollektiv.net/event/clean-up-im-park-am-buschkrug-akazienwaeldchen/
LOCATION:Park am Buschrug\, Buschkrugallee 110\, 12359 Berlin\, Berlin\, 12359\, Deutschland
CATEGORIES:Park
END:VEVENT
END:VCALENDAR