BEGIN:VCALENDAR
VERSION:2.0
PRODID:-//prinzessinnengarten kollektiv berlin - ECPv6.15.18//NONSGML v1.0//EN
CALSCALE:GREGORIAN
METHOD:PUBLISH
X-ORIGINAL-URL:https://prinzessinnengarten-kollektiv.net
X-WR-CALDESC:Veranstaltungen für prinzessinnengarten kollektiv berlin
REFRESH-INTERVAL;VALUE=DURATION:PT1H
X-Robots-Tag:noindex
X-PUBLISHED-TTL:PT1H
BEGIN:VTIMEZONE
TZID:Europe/Berlin
BEGIN:DAYLIGHT
TZOFFSETFROM:+0100
TZOFFSETTO:+0200
TZNAME:CEST
DTSTART:20210328T010000
END:DAYLIGHT
BEGIN:STANDARD
TZOFFSETFROM:+0200
TZOFFSETTO:+0100
TZNAME:CET
DTSTART:20211031T010000
END:STANDARD
BEGIN:DAYLIGHT
TZOFFSETFROM:+0100
TZOFFSETTO:+0200
TZNAME:CEST
DTSTART:20220327T010000
END:DAYLIGHT
BEGIN:STANDARD
TZOFFSETFROM:+0200
TZOFFSETTO:+0100
TZNAME:CET
DTSTART:20221030T010000
END:STANDARD
BEGIN:DAYLIGHT
TZOFFSETFROM:+0100
TZOFFSETTO:+0200
TZNAME:CEST
DTSTART:20230326T010000
END:DAYLIGHT
BEGIN:STANDARD
TZOFFSETFROM:+0200
TZOFFSETTO:+0100
TZNAME:CET
DTSTART:20231029T010000
END:STANDARD
END:VTIMEZONE
BEGIN:VEVENT
DTSTART;TZID=Europe/Berlin:20220521T140000
DTEND;TZID=Europe/Berlin:20220521T180000
DTSTAMP:20260425T171015
CREATED:20220513T152259Z
LAST-MODIFIED:20221216T114626Z
UID:4000-1653141600-1653156000@prinzessinnengarten-kollektiv.net
SUMMARY:Workshop Upcyclethat
DESCRIPTION:Next ‘Upcyclethat’ Workshop on the 21st of May at studio nagelneu we will be repairing\, reinventing\, weaving\, sharing and eating of course !!! \nCome join @thephatsquad and @ninaloxton and sign up by email upcyclethatthing@gmail.com 🌸🌸🌸 looking forward to seeing your lovely faces !!
URL:https://prinzessinnengarten-kollektiv.net/event/workshop-upcyclethat/
LOCATION:studio nagelneu\, Hermannstraße 103\, Berliin\, 12051\, Deutschland
CATEGORIES:edicitnet,studio nagelneu
ATTACH;FMTTYPE=image/jpeg:https://prinzessinnengarten-kollektiv.net/wp-content/uploads/2022/05/220520_upcycle.jpg
END:VEVENT
BEGIN:VEVENT
DTSTART;TZID=Europe/Berlin:20220521T160000
DTEND;TZID=Europe/Berlin:20220521T180000
DTSTAMP:20260425T171015
CREATED:20220207T083912Z
LAST-MODIFIED:20220207T083912Z
UID:1904-1653148800-1653156000@prinzessinnengarten-kollektiv.net
SUMMARY:Kräuterworkshop mit Burkhard Bohne - Tipps und Tricks für Stadtgärtner*innen
DESCRIPTION:Kein Platz und trotzdem Kräuter – das ist das Motto dieses Nachmittags. Kräuter wachsen überall und natürlich auch in der Stadt. Wenn du Lust auf einen Kräutergarten zu Hause hast\, bist du hier genau richtig. Wir wollen lernen\, was nachhaltig gärtnern bedeutet\, Standorte kennenlernen\, Kräuter säen und es geht um wichtige Fragen für das Gärtnern bei euch Zuhause: Wo wachsen meine Kräuter am besten und wie bleiben sie gesund. \nTermin: Samstag\, der 21. Mai 2022\, 16.00-18.00 Uhr\nTeilnahmegebühr: 19\,00 € \nAnmeldungen bitte direkt bei Burkhard Bohne über diesen Link.
URL:https://prinzessinnengarten-kollektiv.net/event/kraeuterworkshop-mit-burkhard-bohne-tipps-und-tricks-fuer-stadtgaertnerinnen/
LOCATION:Prinzessinnengarten Kollektiv Berlin\, Hermannstraße 99-105\, Berlin\, 12051\, Deutschland
ATTACH;FMTTYPE=image/jpeg:https://prinzessinnengarten-kollektiv.net/wp-content/uploads/2022/02/220521_kraeuter.jpg
END:VEVENT
END:VCALENDAR