BEGIN:VCALENDAR
VERSION:2.0
PRODID:-//prinzessinnengarten kollektiv berlin - ECPv6.15.18//NONSGML v1.0//EN
CALSCALE:GREGORIAN
METHOD:PUBLISH
X-ORIGINAL-URL:https://prinzessinnengarten-kollektiv.net
X-WR-CALDESC:Veranstaltungen für prinzessinnengarten kollektiv berlin
REFRESH-INTERVAL;VALUE=DURATION:PT1H
X-Robots-Tag:noindex
X-PUBLISHED-TTL:PT1H
BEGIN:VTIMEZONE
TZID:Europe/Berlin
BEGIN:DAYLIGHT
TZOFFSETFROM:+0100
TZOFFSETTO:+0200
TZNAME:CEST
DTSTART:20210328T010000
END:DAYLIGHT
BEGIN:STANDARD
TZOFFSETFROM:+0200
TZOFFSETTO:+0100
TZNAME:CET
DTSTART:20211031T010000
END:STANDARD
BEGIN:DAYLIGHT
TZOFFSETFROM:+0100
TZOFFSETTO:+0200
TZNAME:CEST
DTSTART:20220327T010000
END:DAYLIGHT
BEGIN:STANDARD
TZOFFSETFROM:+0200
TZOFFSETTO:+0100
TZNAME:CET
DTSTART:20221030T010000
END:STANDARD
BEGIN:DAYLIGHT
TZOFFSETFROM:+0100
TZOFFSETTO:+0200
TZNAME:CEST
DTSTART:20230326T010000
END:DAYLIGHT
BEGIN:STANDARD
TZOFFSETFROM:+0200
TZOFFSETTO:+0100
TZNAME:CET
DTSTART:20231029T010000
END:STANDARD
END:VTIMEZONE
BEGIN:VEVENT
DTSTART;TZID=Europe/Berlin:20220517T093000
DTEND;TZID=Europe/Berlin:20220517T130000
DTSTAMP:20260425T170609
CREATED:20220427T140745Z
LAST-MODIFIED:20220427T140745Z
UID:3888-1652779800-1652792400@prinzessinnengarten-kollektiv.net
SUMMARY:Pflanzentausch am Steingarten im Grünzug Britz-Buckow-Rudow
DESCRIPTION:Unsere Parkhausmeister*innen präsentieren \nPflanzentausch am Steingarten\n\n\nWie jeden Dienstag treffen wir uns und gärtnern mit der Nachbarschaft am Steingarten im Grünzug Britz-Buckow-Rudow\, südlich von der U-Bahnstation Britz-Süd. \n\n\n\n\nAm 17. Mai vermehren wir Staudensetzlinge\, topfen sie und bieten sie zum Tausch oder zum Mitnehmen an. Gemeinsam pflegen wir die Beete im Park und plaudern über Stadtnatur und Besonderheiten in unserer Nachbarschaft. Schaut vorbei und bringt gerne die eine oder andere Pflanze mit! Es findet sich bestimmt ein Platz im Beet.\n\n\n\nTreffpunkt: Steingarten im Grünzug Britz-Buckow-Rudow\, südlich der U-Bahnstation Britz-Süd. Haltet Ausschau nach unserem grünem Auto. 
URL:https://prinzessinnengarten-kollektiv.net/event/pflanzentausch-am-steingarten-im-gruenzug-britz-buckow-rudow-2/
LOCATION:Steingarten im Grünzug Britz-Buckow-Rudow\, Britz-Süd
CATEGORIES:Park
ATTACH;FMTTYPE=image/jpeg:https://prinzessinnengarten-kollektiv.net/wp-content/uploads/2022/04/Pflanzentausch-Steingarten.jpeg
END:VEVENT
END:VCALENDAR