BEGIN:VCALENDAR
VERSION:2.0
PRODID:-//prinzessinnengarten kollektiv berlin - ECPv6.15.18//NONSGML v1.0//EN
CALSCALE:GREGORIAN
METHOD:PUBLISH
X-WR-CALNAME:prinzessinnengarten kollektiv berlin
X-ORIGINAL-URL:https://prinzessinnengarten-kollektiv.net
X-WR-CALDESC:Veranstaltungen für prinzessinnengarten kollektiv berlin
REFRESH-INTERVAL;VALUE=DURATION:PT1H
X-Robots-Tag:noindex
X-PUBLISHED-TTL:PT1H
BEGIN:VTIMEZONE
TZID:Europe/Berlin
BEGIN:DAYLIGHT
TZOFFSETFROM:+0100
TZOFFSETTO:+0200
TZNAME:CEST
DTSTART:20210328T010000
END:DAYLIGHT
BEGIN:STANDARD
TZOFFSETFROM:+0200
TZOFFSETTO:+0100
TZNAME:CET
DTSTART:20211031T010000
END:STANDARD
BEGIN:DAYLIGHT
TZOFFSETFROM:+0100
TZOFFSETTO:+0200
TZNAME:CEST
DTSTART:20220327T010000
END:DAYLIGHT
BEGIN:STANDARD
TZOFFSETFROM:+0200
TZOFFSETTO:+0100
TZNAME:CET
DTSTART:20221030T010000
END:STANDARD
BEGIN:DAYLIGHT
TZOFFSETFROM:+0100
TZOFFSETTO:+0200
TZNAME:CEST
DTSTART:20230326T010000
END:DAYLIGHT
BEGIN:STANDARD
TZOFFSETFROM:+0200
TZOFFSETTO:+0100
TZNAME:CET
DTSTART:20231029T010000
END:STANDARD
END:VTIMEZONE
BEGIN:VEVENT
DTSTART;TZID=Europe/Berlin:20220516T093000
DTEND;TZID=Europe/Berlin:20220516T130000
DTSTAMP:20260425T170513
CREATED:20220427T140926Z
LAST-MODIFIED:20220427T140926Z
UID:3891-1652693400-1652706000@prinzessinnengarten-kollektiv.net
SUMMARY:Einsatz für Hunde - Gestaltet mit uns den Hundeauslauf in der Hasenheide
DESCRIPTION:Unsere Parkhausmeister*innen präsentieren \n  \nEinsatz für Hunde – Gestaltet mit uns den Hundeauslauf in der Hasenheide\n\n\nHallo alle Hundebesitzer*inen! \nWir wollen den Hundeauslauf in der Hasenheide aufhübschen: Dafür säen wir Wildblumen aus und setzen eine „Stock-Bibliothek“ auf – eine gekennzeichnete Stelle mit vielen Stöcken\, damit alle Hunde sich mehr an unserem Park erfreuen können. Bringt eure Ideen für den Hundaulauf und lasst uns zusammen schöne Gestaltung des Ortes überlegen. Wir freuen uns auf euch! \n\n\nTreffpunkt: Haupteingang Hundeauslauf vor dem grünem Auto
URL:https://prinzessinnengarten-kollektiv.net/event/einsatz-fuer-hunde-gestaltet-mit-uns-den-hundeauslauf-in-der-hasenheide/
CATEGORIES:Park
END:VEVENT
END:VCALENDAR