BEGIN:VCALENDAR
VERSION:2.0
PRODID:-//prinzessinnengarten kollektiv berlin - ECPv6.15.18//NONSGML v1.0//EN
CALSCALE:GREGORIAN
METHOD:PUBLISH
X-ORIGINAL-URL:https://prinzessinnengarten-kollektiv.net
X-WR-CALDESC:Veranstaltungen für prinzessinnengarten kollektiv berlin
REFRESH-INTERVAL;VALUE=DURATION:PT1H
X-Robots-Tag:noindex
X-PUBLISHED-TTL:PT1H
BEGIN:VTIMEZONE
TZID:Europe/Berlin
BEGIN:DAYLIGHT
TZOFFSETFROM:+0100
TZOFFSETTO:+0200
TZNAME:CEST
DTSTART:20210328T010000
END:DAYLIGHT
BEGIN:STANDARD
TZOFFSETFROM:+0200
TZOFFSETTO:+0100
TZNAME:CET
DTSTART:20211031T010000
END:STANDARD
BEGIN:DAYLIGHT
TZOFFSETFROM:+0100
TZOFFSETTO:+0200
TZNAME:CEST
DTSTART:20220327T010000
END:DAYLIGHT
BEGIN:STANDARD
TZOFFSETFROM:+0200
TZOFFSETTO:+0100
TZNAME:CET
DTSTART:20221030T010000
END:STANDARD
BEGIN:DAYLIGHT
TZOFFSETFROM:+0100
TZOFFSETTO:+0200
TZNAME:CEST
DTSTART:20230326T010000
END:DAYLIGHT
BEGIN:STANDARD
TZOFFSETFROM:+0200
TZOFFSETTO:+0100
TZNAME:CET
DTSTART:20231029T010000
END:STANDARD
END:VTIMEZONE
BEGIN:VEVENT
DTSTART;TZID=Europe/Berlin:20220515T150000
DTEND;TZID=Europe/Berlin:20220515T173000
DTSTAMP:20260425T170207
CREATED:20220427T154425Z
LAST-MODIFIED:20221216T114634Z
UID:3919-1652626800-1652635800@prinzessinnengarten-kollektiv.net
SUMMARY::ZeitFalten: Flechthandwerk / craft of vessel making
DESCRIPTION:deutsche Version unten\n\n:ZeitFalten: \nWeaving Connections with interdisciplinary duo eYe As A collecTive\n(EAAC)\n\nSeries of 4 Sunday Weaving Circles\n\n\nWe invite small groups of participants to join a weaving circle learning the craft of vessel making from raffia. Raffia is a plant fiber from the raffia palm tree originating from the tropical regions of Africa. It is now a popular weaving material exported to many parts of the world for its soft malleability. EAAC first learnt raffia weaving through the Tjanpi Desert Weavers (Mparntwe\, Australia) online tutorials at the start of the pandemic in 2020.\n\nWe wish to open this practice as a pretext to softly exchange around the interconnectedness of different threads such as how raffia came to be in our  hands in Germany\, the traditions we each do/don’t carry and also considering the natural materials/plant collaborators that grow around us.  Our conversations will foremost be led by the material and sharing space together.\n\nSessions are open to any level. We will give a little introduction and provide you with raffia\, needles and warm tea with herbs from around the\nneighborhood.1st session: Interconnectedness / Movements of Material Matter\nMay 15\, 2022\n15h00 – 17h30 \n\n\n2nd session: Belonging\nJuly 3\, 2022\n15h00 – 17h30\n\n3rd / 4th Sessions –TBA–\n\nTo register\, please write to eyeasacollective@gmail.com\nSessions are limited to 10 participants maxEach session is a contained circle of 2.5hrs of shared exchange starting at 3pm. No drop in. \n\n\nSuggested donations for material and space: 5-10€\nParts of the donation will go to the Tjanpi Desert Weavers of Mparntwe\, Australia.Please bring a negative covid test not older than 24h.\nMore about eAaC: https://www.eyeasacollective.xyz \n\n\nDE\n:ZeitFalten:\nVerbindungen flechten mit dem interdisziplinärem Duo eYe As A collecTive (EAAC)\nReihe aus 4 Flechtkreisen\n\nWir laden kleine Gruppen von Teilnehmer*innen ein\, gemeinsam das Flechthandwerk mit Raffia zu erlernen. Raffia ist eine Pflanzenfaser\, die von der Raffiapalme stammt\, die in den tropischen Regionen Afrikas beheimatet ist. Heute ist es ein beliebtes Flechtmaterial\, das wegen seiner weichen Formbarkeit in viele Teile der Welt exportiert wird. EAAC erlernte die Arbeit mit Raffia erstmals 2020 zu Beginn der Pandemie durch die Online-Tutorials der Tjanpi Desert Weavers (Mparntwe\, Australien). Wir möchten diese Praxis für einen sanften Austausch über die Verflechtung verschiedener Fäden nutzen\, z.B. darüber\, wie der Bast in unsere Hände in Deutschland kam\, welche Traditionen wir alle haben und welche nicht\, und auch über die natürlichen Materialien/Pflanzen\, die um uns herum wachsen. Unsere Gespräche werden in erster Linie durch das Material und den gemeinsamen Raum geführt.\n\n\nDie Sitzungen sind für jedes Niveau offen. Wir geben eine kleine Einführung und versorgen Sie mit Bast\, Nadeln und warmem Tee mit Kräutern aus der Nachbarschaft.\n\n1. Treffen: Verflechtung / Bewegungen bewegten Materials\n15. Mai\, 2022\n15h00 – 17h30 \n2. Treffen: Zugehörigkeit\n3. Juli\, 2022\n15h00 – 17h30 \n3. und 4. Treffen: Datum noch offen \nRegistrierung unter: eyeasacollective@gmail.com \nMax. Teilnehmer*innen: 10 \nJedes Treffen ist als 2\,5 stündiger Austausch geplant\, der pünktlich um 15h beginnt. Kein Drop In. \nEmpfohlene Spende für Raum und Material: 5-10€\nEin Teil der Spenden geht an die Tjanpi Desert Weavers in Mparntwe\n(Alice springs)\, Australien.\nhttps://tjanpi.com.au\nNegativer Corona Test der letzten 24H\nMehr über eAaC: https://www.eyeasacollective.xyz
URL:https://prinzessinnengarten-kollektiv.net/event/zeitfalten-flechthandwerk-craft-of-vessel-making/
LOCATION:studio nagelneu\, Hermannstraße 103\, Berliin\, 12051\, Deutschland
CATEGORIES:edicitnet,studio nagelneu
ATTACH;FMTTYPE=image/jpeg:https://prinzessinnengarten-kollektiv.net/wp-content/uploads/2022/04/220515_zeitfalten-scaled.jpg
END:VEVENT
END:VCALENDAR