BEGIN:VCALENDAR
VERSION:2.0
PRODID:-//prinzessinnengarten kollektiv berlin - ECPv6.15.18//NONSGML v1.0//EN
CALSCALE:GREGORIAN
METHOD:PUBLISH
X-ORIGINAL-URL:https://prinzessinnengarten-kollektiv.net
X-WR-CALDESC:Veranstaltungen für prinzessinnengarten kollektiv berlin
REFRESH-INTERVAL;VALUE=DURATION:PT1H
X-Robots-Tag:noindex
X-PUBLISHED-TTL:PT1H
BEGIN:VTIMEZONE
TZID:Europe/Berlin
BEGIN:DAYLIGHT
TZOFFSETFROM:+0100
TZOFFSETTO:+0200
TZNAME:CEST
DTSTART:20210328T010000
END:DAYLIGHT
BEGIN:STANDARD
TZOFFSETFROM:+0200
TZOFFSETTO:+0100
TZNAME:CET
DTSTART:20211031T010000
END:STANDARD
BEGIN:DAYLIGHT
TZOFFSETFROM:+0100
TZOFFSETTO:+0200
TZNAME:CEST
DTSTART:20220327T010000
END:DAYLIGHT
BEGIN:STANDARD
TZOFFSETFROM:+0200
TZOFFSETTO:+0100
TZNAME:CET
DTSTART:20221030T010000
END:STANDARD
BEGIN:DAYLIGHT
TZOFFSETFROM:+0100
TZOFFSETTO:+0200
TZNAME:CEST
DTSTART:20230326T010000
END:DAYLIGHT
BEGIN:STANDARD
TZOFFSETFROM:+0200
TZOFFSETTO:+0100
TZNAME:CET
DTSTART:20231029T010000
END:STANDARD
END:VTIMEZONE
BEGIN:VEVENT
DTSTART;TZID=Europe/Berlin:20220514T120000
DTEND;TZID=Europe/Berlin:20220514T150000
DTSTAMP:20260425T170955
CREATED:20220331T085620Z
LAST-MODIFIED:20220513T102916Z
UID:3765-1652529600-1652540400@prinzessinnengarten-kollektiv.net
SUMMARY:Aktionstag 14. Mai 2022
DESCRIPTION:Wir laden euch herzlich zu unserem Aktionstag im Mai 2022 ein! \nSamstag\, 14. Mai 12-15 Uhr \n12-13 Uhr Offene Führung zum Wandel der Friedhofsfläche (Hofladen)\n12-15 Uhr Pflanzaktion auf der Hochbeetwiese\n12-15 Uhr Bepflanzung des Experimentalstreifens (Gemüseacker)\n12-15 Uhr Teekräuter-Anbau (Gemüseacker)\n12-15 Uhr Pilzworkshop (Hochbeetwiese)*\n12-15 Uhr Anlegen eines klimaangepassten Modellgartens (Umweltbildungswiese)\n12-15 Uhr Aufbau einer Anzuchtstation für Soldatenfliegen*\n13-14 Uhr Präsentation & Aktivierung des Aquaponik-Turms (Gemüseacker) \nKommt zahlreich – wir freuen uns auf euch! \n  \n*Detailinfos zu Einzelangeboten: \n\nPilzworkshop\nGegenstand des Workshops wird die Beimpfung der entwurzelten Birke mit Austernseitlingen\, Reishi und Igelstachelbart sein. Der Workshop ist offen\, jederzeit könnt Ihr dazustoßen und uns unterstützen. Die grundlegenden Kenntnisse und Arbeitsschritte werden im Zuge dessen vermittelt.\nAnzucht Soldatenfliegen\nWir bauen gemeinsam eine Anzuchtstation für Soldatenfliegen. Diese werden im Laufe der Siason Dünger produzieren und sich vielfältiig nutzbar – bei der Aktion werdet ihr noch mehr darüber erfahren!\n\n  \n \nDiese Veranstaltung findet im Rahmen des Edible Cities Network statt
URL:https://prinzessinnengarten-kollektiv.net/event/aktionstag-14-mai-2022/
LOCATION:Prinzessinnengarten Kollektiv Berlin\, Hermannstraße 99-105\, Berlin\, 12051\, Deutschland
CATEGORIES:Aktionstag,edicitnet
ATTACH;FMTTYPE=image/jpeg:https://prinzessinnengarten-kollektiv.net/wp-content/uploads/2021/04/210515_aktionstag.jpg
END:VEVENT
BEGIN:VEVENT
DTSTART;TZID=Europe/Berlin:20220514T130000
DTEND;TZID=Europe/Berlin:20220514T150000
DTSTAMP:20260425T170955
CREATED:20220425T152838Z
LAST-MODIFIED:20221216T114649Z
UID:3856-1652533200-1652540400@prinzessinnengarten-kollektiv.net
SUMMARY:Kleidertausch / Clothes Swap @ studio nagelneu
DESCRIPTION:Kleider Tausch am 14.05. von 13 bis 15 Uhr\n\n\nBringt Kleidung mit\, die ihr nicht mehr verwendet\, und findet neues\, das euch besser gefällt!.\nEs gibt so viele Klamotten auf diesem Planeten\, lasst uns gegen einen neuen Stil tauschen\, anstatt mehr Ressourcen zu verbrauchen. \nParallel dazu findet ab 12:00 Uhr unser Aktionstag im Garten statt! \n\n//////////////////////////////////////////////////////////////////////////////////////////////////////////////////////////////\n\nCome bring clothes you no longer use and find some which serve you better.\nThere are so many clothes on this planet\, let’s swap for a new style instead of consuming more resources. \nParallely there will be more activities happening during our action day in the garden starting at 12:00 \nSee you there 🙂
URL:https://prinzessinnengarten-kollektiv.net/event/kleidertausch-clothes-swap-studio-nagelneu/
LOCATION:studio nagelneu\, Hermannstraße 103\, Berliin\, 12051\, Deutschland
CATEGORIES:edicitnet,studio nagelneu
ATTACH;FMTTYPE=image/jpeg:https://prinzessinnengarten-kollektiv.net/wp-content/uploads/2022/04/220514_kleidertausch.jpg
END:VEVENT
BEGIN:VEVENT
DTSTART;TZID=Europe/Berlin:20220514T160000
DTEND;TZID=Europe/Berlin:20220514T190000
DTSTAMP:20260425T170955
CREATED:20220408T134517Z
LAST-MODIFIED:20220425T151541Z
UID:3809-1652544000-1652554800@prinzessinnengarten-kollektiv.net
SUMMARY:keramiklub Workshop // Grundlagen [ausgebucht]
DESCRIPTION:keramiklub lädt alle ein\, die Interesse haben mit Ton zu arbeiten. Bei dem Workshop  geht es nicht darum\, die perfekte Schale zu töpfern\, sondern ein Gefühl für das Material  Ton zu bekommen\, mit ihm zu experimentieren\, der Fantasie und dem Spiel freien Lauf zu lassen. Der Workshop wird in zwei Termine aufgeteilt. Im ersten Termin lernt ihr das  Material Ton\, die Grundlagen des Töpferns und verschiedene Aufbautechniken kennen. Im  zweiten Termin setzen wir uns mit dem Glasieren auseinander. \nIm Keramik Grundlagen Kurs erfahrt ihr\, wann die Glasur Termine stattfinden (etwa einen Monat später) \nAnmeldungen per Email an keramiklub@gmail.com
URL:https://prinzessinnengarten-kollektiv.net/event/keramiklub-workshop-grundlagen/
LOCATION:studio nagelneu\, Hermannstraße 103\, Berliin\, 12051\, Deutschland
CATEGORIES:edicitnet,studio nagelneu
ATTACH;FMTTYPE=image/jpeg:https://prinzessinnengarten-kollektiv.net/wp-content/uploads/2021/12/211218_keramik.jpg
END:VEVENT
END:VCALENDAR