BEGIN:VCALENDAR
VERSION:2.0
PRODID:-//prinzessinnengarten kollektiv berlin - ECPv6.15.18//NONSGML v1.0//EN
CALSCALE:GREGORIAN
METHOD:PUBLISH
X-ORIGINAL-URL:https://prinzessinnengarten-kollektiv.net
X-WR-CALDESC:Veranstaltungen für prinzessinnengarten kollektiv berlin
REFRESH-INTERVAL;VALUE=DURATION:PT1H
X-Robots-Tag:noindex
X-PUBLISHED-TTL:PT1H
BEGIN:VTIMEZONE
TZID:Europe/Berlin
BEGIN:DAYLIGHT
TZOFFSETFROM:+0100
TZOFFSETTO:+0200
TZNAME:CEST
DTSTART:20210328T010000
END:DAYLIGHT
BEGIN:STANDARD
TZOFFSETFROM:+0200
TZOFFSETTO:+0100
TZNAME:CET
DTSTART:20211031T010000
END:STANDARD
BEGIN:DAYLIGHT
TZOFFSETFROM:+0100
TZOFFSETTO:+0200
TZNAME:CEST
DTSTART:20220327T010000
END:DAYLIGHT
BEGIN:STANDARD
TZOFFSETFROM:+0200
TZOFFSETTO:+0100
TZNAME:CET
DTSTART:20221030T010000
END:STANDARD
BEGIN:DAYLIGHT
TZOFFSETFROM:+0100
TZOFFSETTO:+0200
TZNAME:CEST
DTSTART:20230326T010000
END:DAYLIGHT
BEGIN:STANDARD
TZOFFSETFROM:+0200
TZOFFSETTO:+0100
TZNAME:CET
DTSTART:20231029T010000
END:STANDARD
END:VTIMEZONE
BEGIN:VEVENT
DTSTART;TZID=Europe/Berlin:20220511T140000
DTEND;TZID=Europe/Berlin:20220511T160000
DTSTAMP:20260425T171643
CREATED:20220427T141551Z
LAST-MODIFIED:20220427T141551Z
UID:3898-1652277600-1652284800@prinzessinnengarten-kollektiv.net
SUMMARY:Skateboard Workshop in der Hasenheide
DESCRIPTION:Unsere Parkhausmeister*innen präsentieren \n  \nSkateboard Workshop in der Hasenheide\n\n\n\nLiebe Parkenthusiast*innen\, \n\nes ist soweit! Wir haben einen erfahrenen Skateboardfahrer ausfindig gemacht\, welcher ab dem 11.05. regelmäßig Skateboard Workshops für Kinder anbietet! \n\nWir werden Skateboards stellen\, wenn ihr jedoch selbst Equipment habt\, bringt es gerne mit.\n\nDer Altersbereich liegt zwischen 8 – 14 Jahren\, Ausnahmen sind möglich 😉. Die Teilnehmer*innenzahl sollte erstmal nicht mehr als fünf Kinder überschreiten. \n\n\n\nDes Weiteren bitten wir um Voranmeldung via Telefon unter der 015736701013 oder via Mail : v.both-asmus@hotmail.com (lieber per Mail)\n\n\nTreffpunkt ist der Basketballplatz gleich beim Skatepark in der Hasenheide Columbiadamm 184. Die Uhrzeit ist immer von 14-16 Uhr. 
URL:https://prinzessinnengarten-kollektiv.net/event/skateboard-workshop-in-der-hasenheide/
LOCATION:Hasenheide am Columbiadamm
CATEGORIES:Park
END:VEVENT
END:VCALENDAR