BEGIN:VCALENDAR
VERSION:2.0
PRODID:-//prinzessinnengarten kollektiv berlin - ECPv6.15.18//NONSGML v1.0//EN
CALSCALE:GREGORIAN
METHOD:PUBLISH
X-WR-CALNAME:prinzessinnengarten kollektiv berlin
X-ORIGINAL-URL:https://prinzessinnengarten-kollektiv.net
X-WR-CALDESC:Veranstaltungen für prinzessinnengarten kollektiv berlin
REFRESH-INTERVAL;VALUE=DURATION:PT1H
X-Robots-Tag:noindex
X-PUBLISHED-TTL:PT1H
BEGIN:VTIMEZONE
TZID:Europe/Berlin
BEGIN:DAYLIGHT
TZOFFSETFROM:+0100
TZOFFSETTO:+0200
TZNAME:CEST
DTSTART:20210328T010000
END:DAYLIGHT
BEGIN:STANDARD
TZOFFSETFROM:+0200
TZOFFSETTO:+0100
TZNAME:CET
DTSTART:20211031T010000
END:STANDARD
BEGIN:DAYLIGHT
TZOFFSETFROM:+0100
TZOFFSETTO:+0200
TZNAME:CEST
DTSTART:20220327T010000
END:DAYLIGHT
BEGIN:STANDARD
TZOFFSETFROM:+0200
TZOFFSETTO:+0100
TZNAME:CET
DTSTART:20221030T010000
END:STANDARD
BEGIN:DAYLIGHT
TZOFFSETFROM:+0100
TZOFFSETTO:+0200
TZNAME:CEST
DTSTART:20230326T010000
END:DAYLIGHT
BEGIN:STANDARD
TZOFFSETFROM:+0200
TZOFFSETTO:+0100
TZNAME:CET
DTSTART:20231029T010000
END:STANDARD
END:VTIMEZONE
BEGIN:VEVENT
DTSTART;TZID=Europe/Berlin:20220507T160000
DTEND;TZID=Europe/Berlin:20220507T180000
DTSTAMP:20260425T171847
CREATED:20220425T160803Z
LAST-MODIFIED:20221216T114654Z
UID:3866-1651939200-1651946400@prinzessinnengarten-kollektiv.net
SUMMARY:Workshop mit fermentierten Getränken
DESCRIPTION:KOMBUCHA – WASSERKEFIR – SHRUB\nWorkshop mit fermentierten Getränken \n7. Mai\, 16:00 – 18:00 \nIn diesem Workshop machen und verkosten wir Kombucha\, Wasserkefir und Shrub. \nWir probieren die Getränke\, schnibbeln Zitronen\, kochen Tee\, tauchen ein in die Welt der Mikroorganismen und erfahren\, was es mit der Fermentation und Tradition dieser uralten Getränkekulturen auf sich hat. \nBitte ein\, zwei oder drei kleine\, dicht verschließbare Gläser mitbringen\, um die Getränke mit nach Hause zu nehmen. Pro Getränkekultur wird ein Glas benötigt. \nDie Teilnahme ist kostenfrei\, die Teilnehmerzahl limitiert.\nTeilnahme nur nach Anmeldung unter hello@sodashrub.com
URL:https://prinzessinnengarten-kollektiv.net/event/workshop-mit-fermentierten-getraenken/
LOCATION:studio nagelneu\, Hermannstraße 103\, Berliin\, 12051\, Deutschland
CATEGORIES:edicitnet,studio nagelneu
ATTACH;FMTTYPE=image/jpeg:https://prinzessinnengarten-kollektiv.net/wp-content/uploads/2022/04/220507_komucha.jpg
END:VEVENT
END:VCALENDAR