BEGIN:VCALENDAR
VERSION:2.0
PRODID:-//prinzessinnengarten kollektiv berlin - ECPv6.15.18//NONSGML v1.0//EN
CALSCALE:GREGORIAN
METHOD:PUBLISH
X-WR-CALNAME:prinzessinnengarten kollektiv berlin
X-ORIGINAL-URL:https://prinzessinnengarten-kollektiv.net
X-WR-CALDESC:Veranstaltungen für prinzessinnengarten kollektiv berlin
REFRESH-INTERVAL;VALUE=DURATION:PT1H
X-Robots-Tag:noindex
X-PUBLISHED-TTL:PT1H
BEGIN:VTIMEZONE
TZID:Europe/Berlin
BEGIN:DAYLIGHT
TZOFFSETFROM:+0100
TZOFFSETTO:+0200
TZNAME:CEST
DTSTART:20210328T010000
END:DAYLIGHT
BEGIN:STANDARD
TZOFFSETFROM:+0200
TZOFFSETTO:+0100
TZNAME:CET
DTSTART:20211031T010000
END:STANDARD
BEGIN:DAYLIGHT
TZOFFSETFROM:+0100
TZOFFSETTO:+0200
TZNAME:CEST
DTSTART:20220327T010000
END:DAYLIGHT
BEGIN:STANDARD
TZOFFSETFROM:+0200
TZOFFSETTO:+0100
TZNAME:CET
DTSTART:20221030T010000
END:STANDARD
BEGIN:DAYLIGHT
TZOFFSETFROM:+0100
TZOFFSETTO:+0200
TZNAME:CEST
DTSTART:20230326T010000
END:DAYLIGHT
BEGIN:STANDARD
TZOFFSETFROM:+0200
TZOFFSETTO:+0100
TZNAME:CET
DTSTART:20231029T010000
END:STANDARD
END:VTIMEZONE
BEGIN:VEVENT
DTSTART;TZID=Europe/Berlin:20220429T150000
DTEND;TZID=Europe/Berlin:20220429T163000
DTSTAMP:20260425T155356
CREATED:20220427T143611Z
LAST-MODIFIED:20220427T143611Z
UID:3913-1651244400-1651249800@prinzessinnengarten-kollektiv.net
SUMMARY:Parkralley "Die Bäume in meinem Park" im Park am Buschkrug
DESCRIPTION:Unsere Parkhausmeister*innen präsentieren \nParkralley „Die Bäume in meinem Park“ im Park am Buschkrug\n\n\n\n\nWie atmet\, wie trinkt und wie wächst ein Baum? Und was schenkt der Baum uns zum Leben? \nAuf einer Ralley durch den Park machen die Kinder sich mit allen Sinnen bekannt mit den geheimnisvollen Riesen\, die uns umgeben und erfahren dabei grundlegendes über das Wesen der Bäume und ihre Unterschiedlichen Erscheiningsformen .\n\n\n\n\nFür Kinder ab 6 Jahren\, Treffpunkt an den Tischtennisplatten nahe Bistro
URL:https://prinzessinnengarten-kollektiv.net/event/parkralley-die-baeume-in-meinem-park-im-park-am-buschkrug/
LOCATION:Park am Buschrug\, Buschkrugallee 110\, 12359 Berlin\, Berlin\, 12359\, Deutschland
CATEGORIES:Park
END:VEVENT
END:VCALENDAR