BEGIN:VCALENDAR
VERSION:2.0
PRODID:-//prinzessinnengarten kollektiv berlin - ECPv6.15.18//NONSGML v1.0//EN
CALSCALE:GREGORIAN
METHOD:PUBLISH
X-WR-CALNAME:prinzessinnengarten kollektiv berlin
X-ORIGINAL-URL:https://prinzessinnengarten-kollektiv.net
X-WR-CALDESC:Veranstaltungen für prinzessinnengarten kollektiv berlin
REFRESH-INTERVAL;VALUE=DURATION:PT1H
X-Robots-Tag:noindex
X-PUBLISHED-TTL:PT1H
BEGIN:VTIMEZONE
TZID:Europe/Berlin
BEGIN:DAYLIGHT
TZOFFSETFROM:+0100
TZOFFSETTO:+0200
TZNAME:CEST
DTSTART:20210328T010000
END:DAYLIGHT
BEGIN:STANDARD
TZOFFSETFROM:+0200
TZOFFSETTO:+0100
TZNAME:CET
DTSTART:20211031T010000
END:STANDARD
BEGIN:DAYLIGHT
TZOFFSETFROM:+0100
TZOFFSETTO:+0200
TZNAME:CEST
DTSTART:20220327T010000
END:DAYLIGHT
BEGIN:STANDARD
TZOFFSETFROM:+0200
TZOFFSETTO:+0100
TZNAME:CET
DTSTART:20221030T010000
END:STANDARD
BEGIN:DAYLIGHT
TZOFFSETFROM:+0100
TZOFFSETTO:+0200
TZNAME:CEST
DTSTART:20230326T010000
END:DAYLIGHT
BEGIN:STANDARD
TZOFFSETFROM:+0200
TZOFFSETTO:+0100
TZNAME:CET
DTSTART:20231029T010000
END:STANDARD
END:VTIMEZONE
BEGIN:VEVENT
DTSTART;TZID=Europe/Berlin:20220428T150000
DTEND;TZID=Europe/Berlin:20220428T173000
DTSTAMP:20260425T152937
CREATED:20220329T093755Z
LAST-MODIFIED:20220329T093840Z
UID:3760-1651158000-1651167000@prinzessinnengarten-kollektiv.net
SUMMARY:Kreatives Schreiben - " Park Routine " in der Hasenheide
DESCRIPTION:Unsere Parkhausmeister*innen präsentieren: \nKreatives Schreiben – “ Park Routine “ in der Hasenheide:\nGemeinsam werden wir die Technik des kreativen Schreibens kennenlernen\, ausprobieren und praktisch anwenden um uns unseren Park ganz persönlich und ganz aus einer anderen Perspektive zu erschreiben. \nTreffpunkt vor der Hasenschänke
URL:https://prinzessinnengarten-kollektiv.net/event/kreatives-schreiben-park-routine-in-der-hasenheide/
CATEGORIES:Park
END:VEVENT
BEGIN:VEVENT
DTSTART;TZID=Europe/Berlin:20220428T190000
DTEND;TZID=Europe/Berlin:20220428T210000
DTSTAMP:20260425T152937
CREATED:20220425T153635Z
LAST-MODIFIED:20220514T075837Z
UID:3859-1651172400-1651179600@prinzessinnengarten-kollektiv.net
SUMMARY:Stammtisch nagelneu
DESCRIPTION:Stammtisch nagelneu \nDas studio nagelneu ist öffentliches Wohnzimmer\, Treffpunkt und offener Raum für Gruppen\, Initiativen und Veranstaltungen. Als umgenutztes Nagelstudio auf einem Berliner Friedhof im Wandel ist es aber auch gelebte Transformation. \nWir wollen den Ort zum Thema machen und einen Raum zum Zusammenkommen\, für Diskurs und Austausch zu dem besonderen Kontext\, dem großen Druck auf diesen wichtigen urbanen Freiflächen und der Notwendigkeit von freien Denkräumen schaffen und suchen euch! \nAb April 2022 treffen wir uns jeden letzten Donnerstag im Monat 19 Uhr zum Stammtisch nagelneu. \nKOMMT VORBEI\, WIR FREUEN UNS AUF EUCH! \nZum Flyer geht’s hier entlang
URL:https://prinzessinnengarten-kollektiv.net/event/stammtisch-nagelneu/
LOCATION:studio nagelneu\, Hermannstraße 103\, Berliin\, 12051\, Deutschland
CATEGORIES:edicitnet,studio nagelneu
ATTACH;FMTTYPE=image/jpeg:https://prinzessinnengarten-kollektiv.net/wp-content/uploads/2022/04/220512_STA_Bild_oDatum_Web-RGB.jpg
END:VEVENT
END:VCALENDAR