BEGIN:VCALENDAR
VERSION:2.0
PRODID:-//prinzessinnengarten kollektiv berlin - ECPv6.15.18//NONSGML v1.0//EN
CALSCALE:GREGORIAN
METHOD:PUBLISH
X-ORIGINAL-URL:https://prinzessinnengarten-kollektiv.net
X-WR-CALDESC:Veranstaltungen für prinzessinnengarten kollektiv berlin
REFRESH-INTERVAL;VALUE=DURATION:PT1H
X-Robots-Tag:noindex
X-PUBLISHED-TTL:PT1H
BEGIN:VTIMEZONE
TZID:Europe/Berlin
BEGIN:DAYLIGHT
TZOFFSETFROM:+0100
TZOFFSETTO:+0200
TZNAME:CEST
DTSTART:20210328T010000
END:DAYLIGHT
BEGIN:STANDARD
TZOFFSETFROM:+0200
TZOFFSETTO:+0100
TZNAME:CET
DTSTART:20211031T010000
END:STANDARD
BEGIN:DAYLIGHT
TZOFFSETFROM:+0100
TZOFFSETTO:+0200
TZNAME:CEST
DTSTART:20220327T010000
END:DAYLIGHT
BEGIN:STANDARD
TZOFFSETFROM:+0200
TZOFFSETTO:+0100
TZNAME:CET
DTSTART:20221030T010000
END:STANDARD
BEGIN:DAYLIGHT
TZOFFSETFROM:+0100
TZOFFSETTO:+0200
TZNAME:CEST
DTSTART:20230326T010000
END:DAYLIGHT
BEGIN:STANDARD
TZOFFSETFROM:+0200
TZOFFSETTO:+0100
TZNAME:CET
DTSTART:20231029T010000
END:STANDARD
END:VTIMEZONE
BEGIN:VEVENT
DTSTART;TZID=Europe/Berlin:20220425T110000
DTEND;TZID=Europe/Berlin:20220425T123000
DTSTAMP:20260425T153257
CREATED:20220328T085053Z
LAST-MODIFIED:20220328T090436Z
UID:3756-1650884400-1650889800@prinzessinnengarten-kollektiv.net
SUMMARY:Sportspaziergang mit Hoola Hoop
DESCRIPTION:Unsere Parkhausmeister*innen präsentieren: \nSportspaziergang mit Hoola Hoop Angebot: \nWir treffen uns um 11:00 am Jahnsportdenkmal (Eingang Hasenheide/Bauhaus) und spazieren durch die Hasenheide\, dabei probieren wir die neuen Sportgeräte\, die im Park installiert sind\, aus. Zum Abschluss gibt es die Möglichkeit Hoola Hoop Reifen und Jonglagerequisiten auszuprobieren\, damit zu trainieren und experimentieren.
URL:https://prinzessinnengarten-kollektiv.net/event/sportspaziergang-mit-hoola-hoop/
LOCATION:Jahn-Denkmal Hasenheide\, Jahn-Denkmal Hasenheide\, Hasenheide\, Berlin
CATEGORIES:Park
END:VEVENT
END:VCALENDAR