BEGIN:VCALENDAR
VERSION:2.0
PRODID:-//prinzessinnengarten kollektiv berlin - ECPv6.15.18//NONSGML v1.0//EN
CALSCALE:GREGORIAN
METHOD:PUBLISH
X-WR-CALNAME:prinzessinnengarten kollektiv berlin
X-ORIGINAL-URL:https://prinzessinnengarten-kollektiv.net
X-WR-CALDESC:Veranstaltungen für prinzessinnengarten kollektiv berlin
REFRESH-INTERVAL;VALUE=DURATION:PT1H
X-Robots-Tag:noindex
X-PUBLISHED-TTL:PT1H
BEGIN:VTIMEZONE
TZID:Europe/Berlin
BEGIN:DAYLIGHT
TZOFFSETFROM:+0100
TZOFFSETTO:+0200
TZNAME:CEST
DTSTART:20210328T010000
END:DAYLIGHT
BEGIN:STANDARD
TZOFFSETFROM:+0200
TZOFFSETTO:+0100
TZNAME:CET
DTSTART:20211031T010000
END:STANDARD
BEGIN:DAYLIGHT
TZOFFSETFROM:+0100
TZOFFSETTO:+0200
TZNAME:CEST
DTSTART:20220327T010000
END:DAYLIGHT
BEGIN:STANDARD
TZOFFSETFROM:+0200
TZOFFSETTO:+0100
TZNAME:CET
DTSTART:20221030T010000
END:STANDARD
BEGIN:DAYLIGHT
TZOFFSETFROM:+0100
TZOFFSETTO:+0200
TZNAME:CEST
DTSTART:20230326T010000
END:DAYLIGHT
BEGIN:STANDARD
TZOFFSETFROM:+0200
TZOFFSETTO:+0100
TZNAME:CET
DTSTART:20231029T010000
END:STANDARD
END:VTIMEZONE
BEGIN:VEVENT
DTSTART;TZID=Europe/Berlin:20220423T123000
DTEND;TZID=Europe/Berlin:20220423T153000
DTSTAMP:20260425T152956
CREATED:20220331T155638Z
LAST-MODIFIED:20220331T155638Z
UID:3798-1650717000-1650727800@prinzessinnengarten-kollektiv.net
SUMMARY:Baumscheiben-Pflanzaktion in der Hasenheide
DESCRIPTION:Unsere Parkhausmeister*innen präsentieren: \nDer Frühling kommt und es wird Zeit die Baumscheiben im Park zu begrünen. Wir säen aus\, pflegen die Stauden und beobachten die ersten Hummeln\, die sich an der Wiese erfreuen. Kommt zu uns\, bringt eigenes Saatgut wenn ihr wollt oder bedient euch gerne an unserem Saatgutrad. \nSamstag 23. April\n12:30 – 15:30 \n Ihr findet uns auf der Wiese\, unten am Jahndenkmal\, neben dem Hindu-Tempel.
URL:https://prinzessinnengarten-kollektiv.net/event/baumscheiben-pflanzaktion-in-der-hasenheide-2/
CATEGORIES:Park
END:VEVENT
BEGIN:VEVENT
DTSTART;TZID=Europe/Berlin:20220423T160000
DTEND;TZID=Europe/Berlin:20220423T180000
DTSTAMP:20260425T152956
CREATED:20220207T083521Z
LAST-MODIFIED:20220207T083604Z
UID:1895-1650729600-1650736800@prinzessinnengarten-kollektiv.net
SUMMARY:Kräuterführung mit Burkhard Bohne - Wildkräuter auf dem Neuen St. Jacobi-Friedhof
DESCRIPTION:Der alte Friedhof mit seinen umliegenden Brachflächen bietet abwechslungsreichen Raum für Wildkräuter und alte Bäume. Auf einem Spaziergang wollen wir sie kennenlernen. Wir entdecken verschiedenste Pflanzengesellschaften lernen sie zu verstehen und wie wir Kräuter und Bäume für uns nutzen können. Auch mitten in der Stadt können wir über die Perfektion der Natur nur staunen. \nTermin: Samstag\, der 23. April 2022\, 16.00-18.00 Uhr\nTeilnahmegebühr: 19\,00 €\nTreffpunkt: Infopunkt & Hofladen Prinzessinnengarten \nAnmeldungen bitte direkt bei Burkhard Bohne über diesen Link.
URL:https://prinzessinnengarten-kollektiv.net/event/kraeuterfuehrung-mit-burkhard-bohne-wildkraeuter-auf-dem-neuen-st-jacobi-friedhof/
LOCATION:Prinzessinnengarten Kollektiv Berlin\, Hermannstraße 99-105\, Berlin\, 12051\, Deutschland
ATTACH;FMTTYPE=image/jpeg:https://prinzessinnengarten-kollektiv.net/wp-content/uploads/2022/02/220423_burkhard-bohne.jpg
END:VEVENT
BEGIN:VEVENT
DTSTART;TZID=Europe/Berlin:20220423T160000
DTEND;TZID=Europe/Berlin:20220423T190000
DTSTAMP:20260425T152956
CREATED:20220112T084147Z
LAST-MODIFIED:20220413T090525Z
UID:1611-1650729600-1650740400@prinzessinnengarten-kollektiv.net
SUMMARY:keramiklub Workshop // Grundlagen [ausgebucht]
DESCRIPTION:keramiklub lädt alle ein\, die Interesse haben mit Ton zu arbeiten. Bei dem Workshop  geht es nicht darum\, die perfekte Schale zu töpfern\, sondern ein Gefühl für das Material  Ton zu bekommen\, mit ihm zu experimentieren\, der Fantasie und dem Spiel freien Lauf zu lassen. Der Workshop wird in zwei Termine aufgeteilt. Im ersten Termin lernt ihr das  Material Ton\, die Grundlagen des Töpferns und verschiedene Aufbautechniken kennen. Im  zweiten Termin setzen wir uns mit dem Glasieren auseinander. \nIm Keramik Grundlagen Kurs erfahrt ihr\, wann die Glasur Termine stattfinden (etwa einen Monat später)Samstag\, 22.01.2022 von 14.00 – 15.30 Uhr // Keramik Grundlagen [ausgebucht] \nSamstag\, 19.02.2022 von 16:00 – 19:00 Uhr // Keramik Grundlagen [ausgebucht]  \nSamstag\, 26.03.2022 von 16:00 – 19:00 Uhr // Keramik Grundlagen [ausgebucht] \nSamstag\, 23.04.2022 von 16:00 – 19:00 Uhr // Keramik Grundlagen [ausgebucht]\n \nAnmeldungen per Email an keramiklub@gmail.com \nDer Workshop findet unter 2G+ Bedingungen statt – bitte bringt entsprechende Nachweise  und einen tagesaktuellen Test von einer offiziellen Teststelle mit (schräg gegenüber\,  Hermannstr. 169\, gibt es eine Teststation “Testyou”). \n  \n  \n  \n\n\nDas studio nagelneu\, ein ehemaliges Nagelstudio\, wird für die nächsten zwei Jahre zum öffentlichen Wohnzimmer für den Kiez. Initiiert vom Prinzessinnengarten Kollektiv Berlin und gestaltet vom Berliner Architekt:innen Kollektiv Team Dis+Ko wird der Raum zwischengenutzt und bietet Platz für Initiativen aus der Nachbarschaft\, Workshops\, Treffen und Veranstaltungen – für euch! Weitere Infos dazu findet ihr hier! \n Diese Veranstaltung findet im Rahmen des Edible Cities Network statt \n\n\n 
URL:https://prinzessinnengarten-kollektiv.net/event/220423_keramik-klub/
LOCATION:studio nagelneu\, Hermannstraße 103\, Berliin\, 12051\, Deutschland
CATEGORIES:edicitnet,studio nagelneu
ATTACH;FMTTYPE=image/jpeg:https://prinzessinnengarten-kollektiv.net/wp-content/uploads/2021/12/211218_keramik.jpg
END:VEVENT
END:VCALENDAR