BEGIN:VCALENDAR
VERSION:2.0
PRODID:-//prinzessinnengarten kollektiv berlin - ECPv6.15.18//NONSGML v1.0//EN
CALSCALE:GREGORIAN
METHOD:PUBLISH
X-ORIGINAL-URL:https://prinzessinnengarten-kollektiv.net
X-WR-CALDESC:Veranstaltungen für prinzessinnengarten kollektiv berlin
REFRESH-INTERVAL;VALUE=DURATION:PT1H
X-Robots-Tag:noindex
X-PUBLISHED-TTL:PT1H
BEGIN:VTIMEZONE
TZID:Europe/Berlin
BEGIN:DAYLIGHT
TZOFFSETFROM:+0100
TZOFFSETTO:+0200
TZNAME:CEST
DTSTART:20210328T010000
END:DAYLIGHT
BEGIN:STANDARD
TZOFFSETFROM:+0200
TZOFFSETTO:+0100
TZNAME:CET
DTSTART:20211031T010000
END:STANDARD
BEGIN:DAYLIGHT
TZOFFSETFROM:+0100
TZOFFSETTO:+0200
TZNAME:CEST
DTSTART:20220327T010000
END:DAYLIGHT
BEGIN:STANDARD
TZOFFSETFROM:+0200
TZOFFSETTO:+0100
TZNAME:CET
DTSTART:20221030T010000
END:STANDARD
BEGIN:DAYLIGHT
TZOFFSETFROM:+0100
TZOFFSETTO:+0200
TZNAME:CEST
DTSTART:20230326T010000
END:DAYLIGHT
BEGIN:STANDARD
TZOFFSETFROM:+0200
TZOFFSETTO:+0100
TZNAME:CET
DTSTART:20231029T010000
END:STANDARD
END:VTIMEZONE
BEGIN:VEVENT
DTSTART;TZID=Europe/Berlin:20220411T093000
DTEND;TZID=Europe/Berlin:20220411T120000
DTSTAMP:20260425T153317
CREATED:20220328T084920Z
LAST-MODIFIED:20220328T084920Z
UID:3754-1649669400-1649678400@prinzessinnengarten-kollektiv.net
SUMMARY:Body Mind Resilience in Hasenheide
DESCRIPTION:Unsere Parkhausmeister*innen präsentieren:\n\nBody Mind Resilience in Hasenheide\nAn invitation to join a morning session in Hasenheide\, where we will work with mindfullness and movement alone and in duos. There will be time to slow down\, connect with the body and the city tress\, to recharge your energy and to share a cup of hot chocolate in the end.\n\nmit\nAxel Nielsen – www.axelbodywork.com Ayo Gry – www.touchedbodywork.com
URL:https://prinzessinnengarten-kollektiv.net/event/body-mind-resilience-in-hasenheide/
LOCATION:Hasenheide am Columbiadamm
CATEGORIES:Park
END:VEVENT
END:VCALENDAR