BEGIN:VCALENDAR
VERSION:2.0
PRODID:-//prinzessinnengarten kollektiv berlin - ECPv6.15.18//NONSGML v1.0//EN
CALSCALE:GREGORIAN
METHOD:PUBLISH
X-WR-CALNAME:prinzessinnengarten kollektiv berlin
X-ORIGINAL-URL:https://prinzessinnengarten-kollektiv.net
X-WR-CALDESC:Veranstaltungen für prinzessinnengarten kollektiv berlin
REFRESH-INTERVAL;VALUE=DURATION:PT1H
X-Robots-Tag:noindex
X-PUBLISHED-TTL:PT1H
BEGIN:VTIMEZONE
TZID:Europe/Berlin
BEGIN:DAYLIGHT
TZOFFSETFROM:+0100
TZOFFSETTO:+0200
TZNAME:CEST
DTSTART:20210328T010000
END:DAYLIGHT
BEGIN:STANDARD
TZOFFSETFROM:+0200
TZOFFSETTO:+0100
TZNAME:CET
DTSTART:20211031T010000
END:STANDARD
BEGIN:DAYLIGHT
TZOFFSETFROM:+0100
TZOFFSETTO:+0200
TZNAME:CEST
DTSTART:20220327T010000
END:DAYLIGHT
BEGIN:STANDARD
TZOFFSETFROM:+0200
TZOFFSETTO:+0100
TZNAME:CET
DTSTART:20221030T010000
END:STANDARD
BEGIN:DAYLIGHT
TZOFFSETFROM:+0100
TZOFFSETTO:+0200
TZNAME:CEST
DTSTART:20230326T010000
END:DAYLIGHT
BEGIN:STANDARD
TZOFFSETFROM:+0200
TZOFFSETTO:+0100
TZNAME:CET
DTSTART:20231029T010000
END:STANDARD
END:VTIMEZONE
BEGIN:VEVENT
DTSTART;TZID=Europe/Berlin:20220408T143000
DTEND;TZID=Europe/Berlin:20220408T173000
DTSTAMP:20260425T152938
CREATED:20220331T155417Z
LAST-MODIFIED:20220331T155417Z
UID:3796-1649428200-1649439000@prinzessinnengarten-kollektiv.net
SUMMARY:Gemeinsame Aussaataktion auf der Wildblumenwiese im Park am Buschkrug
DESCRIPTION:Unsere Parkhausmeister*innen präsentieren: \nDer Frühling kommt und es wird Zeit unsere Wiese zu begrünen. Wir säen aus\, pflegen die Stauden und beobachten die ersten Hummeln\, die sich an der Wiese erfreuen. Kommt zu uns\, bringt eigenes Saatgut wenn ihr wollt oder bedient euch gerne an unserem Saatgutrad. Ihr findet uns an der Wildblumenwiese neben dem Parkcafe. \nFreitag\, 8. April\n14:30-17:30 \nKommt vorbei – wir freuen uns auf euch!
URL:https://prinzessinnengarten-kollektiv.net/event/gemeinsame-aussaataktion-auf-der-wildblumenwiese-im-park-am-buschkrug/
CATEGORIES:Park
END:VEVENT
END:VCALENDAR