BEGIN:VCALENDAR
VERSION:2.0
PRODID:-//prinzessinnengarten kollektiv berlin - ECPv6.15.18//NONSGML v1.0//EN
CALSCALE:GREGORIAN
METHOD:PUBLISH
X-ORIGINAL-URL:https://prinzessinnengarten-kollektiv.net
X-WR-CALDESC:Veranstaltungen für prinzessinnengarten kollektiv berlin
REFRESH-INTERVAL;VALUE=DURATION:PT1H
X-Robots-Tag:noindex
X-PUBLISHED-TTL:PT1H
BEGIN:VTIMEZONE
TZID:Europe/Berlin
BEGIN:DAYLIGHT
TZOFFSETFROM:+0100
TZOFFSETTO:+0200
TZNAME:CEST
DTSTART:20210328T010000
END:DAYLIGHT
BEGIN:STANDARD
TZOFFSETFROM:+0200
TZOFFSETTO:+0100
TZNAME:CET
DTSTART:20211031T010000
END:STANDARD
BEGIN:DAYLIGHT
TZOFFSETFROM:+0100
TZOFFSETTO:+0200
TZNAME:CEST
DTSTART:20220327T010000
END:DAYLIGHT
BEGIN:STANDARD
TZOFFSETFROM:+0200
TZOFFSETTO:+0100
TZNAME:CET
DTSTART:20221030T010000
END:STANDARD
BEGIN:DAYLIGHT
TZOFFSETFROM:+0100
TZOFFSETTO:+0200
TZNAME:CEST
DTSTART:20230326T010000
END:DAYLIGHT
BEGIN:STANDARD
TZOFFSETFROM:+0200
TZOFFSETTO:+0100
TZNAME:CET
DTSTART:20231029T010000
END:STANDARD
END:VTIMEZONE
BEGIN:VEVENT
DTSTART;TZID=Europe/Berlin:20220317T200000
DTEND;TZID=Europe/Berlin:20220317T213000
DTSTAMP:20260425T152308
CREATED:20220125T122850Z
LAST-MODIFIED:20220207T095901Z
UID:1625-1647547200-1647552600@prinzessinnengarten-kollektiv.net
SUMMARY:WUNDERKAMMER II: Die Träume des Alexander von Humboldt
DESCRIPTION:Die Neuköllner Oper lädt ein zu WUNDERKAMMER II: Die Träume des Alexander von Humboldt – Eine Klang- und Geruchsreise nach Ägypten und Mexico \nTickets direkt bei der Neuköllner Oper hier. \nDer Welt einmal anders begegnen – mit zwei der „ältesten“ Körpersinne\, dem Hören und Riechen. Zu welchen Erfahrungen und Bildern trägt uns die mit dem Geruchssinn verwobene Musik? Welche Spiegelungen von „Welt“ und sich selbst entstehen\, wenn wir – als ein Angebot – die Augen schließen? \nInspiration und Reiseleiter für diese innere Exkursion sind Alexander von Humboldt und zwei seiner Erkundungsfahrten: eine erträumte und eine realisierte. 1799 hoffte Humboldt\, nach Ägypten kommen und die vorderasiatische Region erforschen zu können. Sein Traum zerschlug sich jedoch durch die Napoleonische Kriegspolitik. So musste er umdenken und gelangte schließlich nach Mittelamerika und Mexiko. Diese Destinationen stehen beispielhaft für das Erleben von Welt. Humboldt berichtet uns vom Zusammenhang von Mensch und Tier\, objektiver Welt und subjektivem Widerhall\, Natur und Kosmos. Sein offener\, empathischer Blick – der sich entschieden abgrenzt zum kolonialen Denken seiner Zeit – dient uns als Kompass für eine innere Reise über die Hör- und Geruchs-Sinne. Denn das hat der große Forschungsreisende nicht mitbringen können: Musik und Düfte. \nErmöglicht wird unsere Exkursion durch die Expertin für altägyptische Gerüche Dora Goldsmith\, die in Mexiko aufgewachsene Sängerin Ana Schwedhelm und die mexikanische Komponistin\, Sängerin und Performerin Diana Syrse\, die zu einer Klangreise entlang der historischen Reiseroute Humboldts einladen. \nMIT\nDiana Syrse (Komposition\, Gesang)\, Ana Schwedhelm (Gesang)\, Dora Goldsmith (Ägyptologin) \nKONZEPTION UND MODERATION\nBernhard Glocksin \nKONZEPTION UND RAUMGESTALTUNG\nSabrina Rossetto
URL:https://prinzessinnengarten-kollektiv.net/event/wunderkammer-ii-die-traeume-des-alexander-von-humboldt/
LOCATION:Kiezkapelle\, Hermannstraße 102\, Berlin\, 12051
END:VEVENT
END:VCALENDAR