BEGIN:VCALENDAR
VERSION:2.0
PRODID:-//prinzessinnengarten kollektiv berlin - ECPv6.15.18//NONSGML v1.0//EN
CALSCALE:GREGORIAN
METHOD:PUBLISH
X-WR-CALNAME:prinzessinnengarten kollektiv berlin
X-ORIGINAL-URL:https://prinzessinnengarten-kollektiv.net
X-WR-CALDESC:Veranstaltungen für prinzessinnengarten kollektiv berlin
REFRESH-INTERVAL;VALUE=DURATION:PT1H
X-Robots-Tag:noindex
X-PUBLISHED-TTL:PT1H
BEGIN:VTIMEZONE
TZID:Europe/Berlin
BEGIN:DAYLIGHT
TZOFFSETFROM:+0100
TZOFFSETTO:+0200
TZNAME:CEST
DTSTART:20210328T010000
END:DAYLIGHT
BEGIN:STANDARD
TZOFFSETFROM:+0200
TZOFFSETTO:+0100
TZNAME:CET
DTSTART:20211031T010000
END:STANDARD
BEGIN:DAYLIGHT
TZOFFSETFROM:+0100
TZOFFSETTO:+0200
TZNAME:CEST
DTSTART:20220327T010000
END:DAYLIGHT
BEGIN:STANDARD
TZOFFSETFROM:+0200
TZOFFSETTO:+0100
TZNAME:CET
DTSTART:20221030T010000
END:STANDARD
BEGIN:DAYLIGHT
TZOFFSETFROM:+0100
TZOFFSETTO:+0200
TZNAME:CEST
DTSTART:20230326T010000
END:DAYLIGHT
BEGIN:STANDARD
TZOFFSETFROM:+0200
TZOFFSETTO:+0100
TZNAME:CET
DTSTART:20231029T010000
END:STANDARD
END:VTIMEZONE
BEGIN:VEVENT
DTSTART;TZID=Europe/Berlin:20220226T160000
DTEND;TZID=Europe/Berlin:20220226T180000
DTSTAMP:20260425T123141
CREATED:20220211T142535Z
LAST-MODIFIED:20220413T090618Z
UID:2506-1645891200-1645898400@prinzessinnengarten-kollektiv.net
SUMMARY:Workshop Wurmkiste
DESCRIPTION:Hunde und Katzen waren gestern – Würmer sind die neuen Haustiere!\nAnstatt Lebensmittel(reste) wegzuwerfen\, kann man sie in wertvolle Erde verwandeln. Dieser Workshop ist für all diejenigen\, die eine Wurmkiste starten möchten. Wir lernen \n\nworauf es ankommt damit die Wurmkiste gut funktioniert: Was brauchen Würmer und andere Bodenlebewesen um sich in der Wurmkiste wohl zu fühlen\, sich zu vermehren und unser Biogut in Humus zu verwandeln?\nwie man aus Up-Cycling-Materialien und praktisch kostenfrei eine eigene Wurmkiste aus Holz oder einen Wurmturm aus Plastikeimern selber bauen und artgerecht bewirtschaften kann.\nlive-Einblick in einem Wurmresidenz\n\nBringt gerne ein bisschen von eurem frischen (max. 2 Tage alten) Biogut mit – gerne auch eure Klopapierrollen und unbedrucktes Karton. \nDer Workshop ist wie immer kostenlos. \nAnmeldungen an: bodenschaetzen@workstation-berlin.org \n  \nIm studio nagelneu gilt die 2G+ Regel\, d.h. entweder Impfnachweis + Test oder geboostert
URL:https://prinzessinnengarten-kollektiv.net/event/workshop-wurmkiste/
LOCATION:studio nagelneu\, Hermannstraße 103\, Berliin\, 12051\, Deutschland
CATEGORIES:edicitnet,studio nagelneu
ATTACH;FMTTYPE=image/jpeg:https://prinzessinnengarten-kollektiv.net/wp-content/uploads/2022/02/220226_wurmkiste.jpg
END:VEVENT
END:VCALENDAR