BEGIN:VCALENDAR
VERSION:2.0
PRODID:-//prinzessinnengarten kollektiv berlin - ECPv6.15.18//NONSGML v1.0//EN
CALSCALE:GREGORIAN
METHOD:PUBLISH
X-ORIGINAL-URL:https://prinzessinnengarten-kollektiv.net
X-WR-CALDESC:Veranstaltungen für prinzessinnengarten kollektiv berlin
REFRESH-INTERVAL;VALUE=DURATION:PT1H
X-Robots-Tag:noindex
X-PUBLISHED-TTL:PT1H
BEGIN:VTIMEZONE
TZID:Europe/Berlin
BEGIN:DAYLIGHT
TZOFFSETFROM:+0100
TZOFFSETTO:+0200
TZNAME:CEST
DTSTART:20210328T010000
END:DAYLIGHT
BEGIN:STANDARD
TZOFFSETFROM:+0200
TZOFFSETTO:+0100
TZNAME:CET
DTSTART:20211031T010000
END:STANDARD
BEGIN:DAYLIGHT
TZOFFSETFROM:+0100
TZOFFSETTO:+0200
TZNAME:CEST
DTSTART:20220327T010000
END:DAYLIGHT
BEGIN:STANDARD
TZOFFSETFROM:+0200
TZOFFSETTO:+0100
TZNAME:CET
DTSTART:20221030T010000
END:STANDARD
BEGIN:DAYLIGHT
TZOFFSETFROM:+0100
TZOFFSETTO:+0200
TZNAME:CEST
DTSTART:20230326T010000
END:DAYLIGHT
BEGIN:STANDARD
TZOFFSETFROM:+0200
TZOFFSETTO:+0100
TZNAME:CET
DTSTART:20231029T010000
END:STANDARD
END:VTIMEZONE
BEGIN:VEVENT
DTSTART;TZID=Europe/Berlin:20220225T163000
DTEND;TZID=Europe/Berlin:20220225T180000
DTSTAMP:20260425T123936
CREATED:20220219T130053Z
LAST-MODIFIED:20220413T090630Z
UID:2945-1645806600-1645812000@prinzessinnengarten-kollektiv.net
SUMMARY:Pilzworkshop
DESCRIPTION:Komm vorbei und starte deine erste Pilzzucht zu Hause!\n\nFreitag\, 25.02.22 | 16:30-18 Uhr\n\nKostenlos/ Spende\nAnmeldung bei nagelneu@prinzessinnengarten.net\n\n2G+\nGeimpft/Genesen\n& Getestet\n\n\nDas studio nagelneu\, ein ehemaliges Nagelstudio\, wird für die nächsten zwei Jahre zum öffentlichen Wohnzimmer für den Kiez. Initiiert vom Prinzessinnengarten Kollektiv Berlin und gestaltet vom Berliner Architekt:innen Kollektiv Team Dis+Ko wird der Raum zwischengenutzt und bietet Platz für Initiativen aus der Nachbarschaft\, Workshops\, Treffen und Veranstaltungen – für euch! \nWeitere Infos dazu findet ihr hier! \n  \nDiese Veranstaltung findet im Rahmen des Edible Cities Network statt
URL:https://prinzessinnengarten-kollektiv.net/event/pilzworkshop-3/
LOCATION:studio nagelneu\, Hermannstraße 103\, Berliin\, 12051\, Deutschland
CATEGORIES:edicitnet,studio nagelneu
ATTACH;FMTTYPE=image/jpeg:https://prinzessinnengarten-kollektiv.net/wp-content/uploads/2021/10/211022_mushworkshop2.jpg
END:VEVENT
END:VCALENDAR