BEGIN:VCALENDAR
VERSION:2.0
PRODID:-//prinzessinnengarten kollektiv berlin - ECPv6.15.18//NONSGML v1.0//EN
CALSCALE:GREGORIAN
METHOD:PUBLISH
X-ORIGINAL-URL:https://prinzessinnengarten-kollektiv.net
X-WR-CALDESC:Veranstaltungen für prinzessinnengarten kollektiv berlin
REFRESH-INTERVAL;VALUE=DURATION:PT1H
X-Robots-Tag:noindex
X-PUBLISHED-TTL:PT1H
BEGIN:VTIMEZONE
TZID:Europe/Berlin
BEGIN:DAYLIGHT
TZOFFSETFROM:+0100
TZOFFSETTO:+0200
TZNAME:CEST
DTSTART:20210328T010000
END:DAYLIGHT
BEGIN:STANDARD
TZOFFSETFROM:+0200
TZOFFSETTO:+0100
TZNAME:CET
DTSTART:20211031T010000
END:STANDARD
BEGIN:DAYLIGHT
TZOFFSETFROM:+0100
TZOFFSETTO:+0200
TZNAME:CEST
DTSTART:20220327T010000
END:DAYLIGHT
BEGIN:STANDARD
TZOFFSETFROM:+0200
TZOFFSETTO:+0100
TZNAME:CET
DTSTART:20221030T010000
END:STANDARD
BEGIN:DAYLIGHT
TZOFFSETFROM:+0100
TZOFFSETTO:+0200
TZNAME:CEST
DTSTART:20230326T010000
END:DAYLIGHT
BEGIN:STANDARD
TZOFFSETFROM:+0200
TZOFFSETTO:+0100
TZNAME:CET
DTSTART:20231029T010000
END:STANDARD
END:VTIMEZONE
BEGIN:VEVENT
DTSTART;TZID=Europe/Berlin:20220219T160000
DTEND;TZID=Europe/Berlin:20220219T190000
DTSTAMP:20260425T123404
CREATED:20220112T084031Z
LAST-MODIFIED:20220413T090645Z
UID:1607-1645286400-1645297200@prinzessinnengarten-kollektiv.net
SUMMARY:keramiklub Workshop // Grundlagen [ausgebucht]
DESCRIPTION:keramiklub lädt alle ein\, die Interesse haben mit Ton zu arbeiten. Bei dem Workshop  geht es nicht darum\, die perfekte Schale zu töpfern\, sondern ein Gefühl für das Material  Ton zu bekommen\, mit ihm zu experimentieren\, der Fantasie und dem Spiel freien Lauf zu lassen. Der Workshop wird in zwei Termine aufgeteilt. Im ersten Termin lernt ihr das  Material Ton\, die Grundlagen des Töpferns und verschiedene Aufbautechniken kennen. Im  zweiten Termin setzen wir uns mit dem Glasieren auseinander. \nIm Keramik Grundlagen Kurs erfahrt ihr\, wann die Glasur Termine stattfinden (etwa einen Monat später)Samstag\, 22.01.2022 von 14.00 – 15.30 Uhr // Keramik Grundlagen [ausgebucht] \nSamstag\, 19.02.2022 von 16:00 – 19:00 Uhr // Keramik Grundlagen [ausgebucht]  \nSamstag\, 26.03.2022 von 16:00 – 19:00 Uhr // Keramik Grundlagen [ausgebucht] \nSamstag\, 23.04.2022 von 16:00 – 19:00 Uhr // Keramik Grundlagen \nAnmeldungen per Email an keramiklub@gmail.com \nDer Workshop findet unter 2G+ Bedingungen statt – bitte bringt entsprechende Nachweise  und einen tagesaktuellen Test von einer offiziellen Teststelle mit (schräg gegenüber\,  Hermannstr. 169\, gibt es eine Teststation “Testyou”). \n 
URL:https://prinzessinnengarten-kollektiv.net/event/keramik-klub-workshop-ausgebucht-3-2-2-2-2/
LOCATION:studio nagelneu\, Hermannstraße 103\, Berliin\, 12051\, Deutschland
CATEGORIES:edicitnet,studio nagelneu
ATTACH;FMTTYPE=image/jpeg:https://prinzessinnengarten-kollektiv.net/wp-content/uploads/2021/12/211218_keramik.jpg
END:VEVENT
END:VCALENDAR