BEGIN:VCALENDAR
VERSION:2.0
PRODID:-//prinzessinnengarten kollektiv berlin - ECPv6.15.18//NONSGML v1.0//EN
CALSCALE:GREGORIAN
METHOD:PUBLISH
X-ORIGINAL-URL:https://prinzessinnengarten-kollektiv.net
X-WR-CALDESC:Veranstaltungen für prinzessinnengarten kollektiv berlin
REFRESH-INTERVAL;VALUE=DURATION:PT1H
X-Robots-Tag:noindex
X-PUBLISHED-TTL:PT1H
BEGIN:VTIMEZONE
TZID:Europe/Berlin
BEGIN:DAYLIGHT
TZOFFSETFROM:+0100
TZOFFSETTO:+0200
TZNAME:CEST
DTSTART:20210328T010000
END:DAYLIGHT
BEGIN:STANDARD
TZOFFSETFROM:+0200
TZOFFSETTO:+0100
TZNAME:CET
DTSTART:20211031T010000
END:STANDARD
BEGIN:DAYLIGHT
TZOFFSETFROM:+0100
TZOFFSETTO:+0200
TZNAME:CEST
DTSTART:20220327T010000
END:DAYLIGHT
BEGIN:STANDARD
TZOFFSETFROM:+0200
TZOFFSETTO:+0100
TZNAME:CET
DTSTART:20221030T010000
END:STANDARD
BEGIN:DAYLIGHT
TZOFFSETFROM:+0100
TZOFFSETTO:+0200
TZNAME:CEST
DTSTART:20230326T010000
END:DAYLIGHT
BEGIN:STANDARD
TZOFFSETFROM:+0200
TZOFFSETTO:+0100
TZNAME:CET
DTSTART:20231029T010000
END:STANDARD
END:VTIMEZONE
BEGIN:VEVENT
DTSTART;TZID=Europe/Berlin:20220216T140000
DTEND;TZID=Europe/Berlin:20220216T160000
DTSTAMP:20260425T123320
CREATED:20220207T152009Z
LAST-MODIFIED:20220207T152356Z
UID:1959-1645020000-1645027200@prinzessinnengarten-kollektiv.net
SUMMARY:Wolf und Waldkauz: Naturhandwerk und Wilde Zeit
DESCRIPTION:Aus Kastanien Seife oder Waschmittel herstellen. Löffel und Bögen\, Zahnbürsten und Zahnpulver oder Schnüre aus Naturmaterialien anfertigen. Im Herbst leckere Marmelade aus Hagebutten oder Vogelbeeren einkochen oder im Frühling Sirup aus den ersten blühenden Pflanzen ansetzen… alles das ist Naturhandwerk und Wilde Zeit. Einfach kommen und mitmachen! Und sicherlich folgen wir auch der Sprache des Waldes\, den Spuren und Zeichen nach guter Naturmentoring-Art. \nJeden Montag und Mittwoch\, 14:00 – 16:00 Uhr\, bei jedem Wetter außer bei Sturm oder Gewitter. \nOrt: Umweltbildungswiese\nU-/ S-Bahn Hermannstraße \nOffen für alle\, ohne Voranmeldung \nAlle sind willkommen\, Erwachsene\, Kinder\, Jugendliche … „das ganze Dorf“ \nKurskosten: Spenden nach eigenem Ermessen sind willkommen für Material und Werkzeugnutzung\, für Platz und Leitung. Du gibt so viel\, wie du magst und kannst. \nLeitung: Aurel Wannig\, Andreas Schönefeld und Corinna Thiesen von Wolf und Waldkauz \nWeitere nformationen unter: Wolf und Waldkauz | Tel/Signal: 0176 3041 8883 oder post@wildnisschule-wolfundwaldkauz.de | www.wildnisschule-wolfundwaldkauz.de
URL:https://prinzessinnengarten-kollektiv.net/event/wolf-und-waldkauz-naturhandwerk-und-wilde-zeit-7/
ATTACH;FMTTYPE=image/jpeg:https://prinzessinnengarten-kollektiv.net/wp-content/uploads/2021/11/Wolf-und-Waldkauz-final-LOGO.jpg
END:VEVENT
BEGIN:VEVENT
DTSTART;TZID=Europe/Berlin:20220216T180000
DTEND;TZID=Europe/Berlin:20220216T210000
DTSTAMP:20260425T123320
CREATED:20220211T145803Z
LAST-MODIFIED:20220413T090651Z
UID:2510-1645034400-1645045200@prinzessinnengarten-kollektiv.net
SUMMARY:Political Art Impact Workshop
DESCRIPTION:Co-Creating with people of different backgrounds who are interested in channeling political messages throug collaging/sampling art. \n16.02.2022\n18-21h \nThere will be some Materials like old newspaper/ a printer / transparent paper / pens and markers but feel free to also bring more material to play with. \nWe desire to get together to 1) speak about the ideas we are dealing with on a personal\, political and artistic level\, 2) co-create artwork utilizing different mediums and 3) discuss various avenues for effective dissemination of these artworks to create change. \n\nHour 1: Participants speak about the political issues on their minds and the current art forms they are interested in exploring. People can start to look at whom they would like to work with in a group.\nHour 2: Participants collect in small groups of 2-3 participants and collaborate on projects in which they combine their skillsets and political ideas. During these two hours\, a short art piece will be produced.\nHour 3: Participants unwind and present their work. During the discussion\, we will reflect on how this artwork can be presented in different avenues to achieve certain audiences and concrete changes.\n\nSince it’s an evening activity there will be some snacks but please bring your own snacks and drinks to share. \nIm studio nagelneu gilt die 2G+ Regel\, d.h. entweder Impfnachweis + Test oder geboostert \nDas studio nagelneu\, ein ehemaliges Nagelstudio\, wird für die nächsten zwei Jahre zum öffentlichen Wohnzimmer für den Kiez. Initiiert vom Prinzessinnengarten Kollektiv Berlin und gestaltet vom Berliner Architekt:innen Kollektiv Team Dis+Ko wird der Raum zwischengenutzt und bietet Platz für Initiativen aus der Nachbarschaft\, Workshops\, Treffen und Veranstaltungen – für euch! \nWeitere Infos dazu findet ihr hier! \n  \nDiese Veranstaltung findet im Rahmen des Edible Cities Network statt
URL:https://prinzessinnengarten-kollektiv.net/event/political-art-impact-workshop/
LOCATION:studio nagelneu\, Hermannstraße 103\, Berliin\, 12051\, Deutschland
CATEGORIES:edicitnet,studio nagelneu
ATTACH;FMTTYPE=image/jpeg:https://prinzessinnengarten-kollektiv.net/wp-content/uploads/2022/02/220216_political-art-impact.jpg
END:VEVENT
END:VCALENDAR