BEGIN:VCALENDAR
VERSION:2.0
PRODID:-//prinzessinnengarten kollektiv berlin - ECPv6.15.18//NONSGML v1.0//EN
CALSCALE:GREGORIAN
METHOD:PUBLISH
X-ORIGINAL-URL:https://prinzessinnengarten-kollektiv.net
X-WR-CALDESC:Veranstaltungen für prinzessinnengarten kollektiv berlin
REFRESH-INTERVAL;VALUE=DURATION:PT1H
X-Robots-Tag:noindex
X-PUBLISHED-TTL:PT1H
BEGIN:VTIMEZONE
TZID:Europe/Berlin
BEGIN:DAYLIGHT
TZOFFSETFROM:+0100
TZOFFSETTO:+0200
TZNAME:CEST
DTSTART:20210328T010000
END:DAYLIGHT
BEGIN:STANDARD
TZOFFSETFROM:+0200
TZOFFSETTO:+0100
TZNAME:CET
DTSTART:20211031T010000
END:STANDARD
BEGIN:DAYLIGHT
TZOFFSETFROM:+0100
TZOFFSETTO:+0200
TZNAME:CEST
DTSTART:20220327T010000
END:DAYLIGHT
BEGIN:STANDARD
TZOFFSETFROM:+0200
TZOFFSETTO:+0100
TZNAME:CET
DTSTART:20221030T010000
END:STANDARD
BEGIN:DAYLIGHT
TZOFFSETFROM:+0100
TZOFFSETTO:+0200
TZNAME:CEST
DTSTART:20230326T010000
END:DAYLIGHT
BEGIN:STANDARD
TZOFFSETFROM:+0200
TZOFFSETTO:+0100
TZNAME:CET
DTSTART:20231029T010000
END:STANDARD
END:VTIMEZONE
BEGIN:VEVENT
DTSTART;TZID=Europe/Berlin:20220209T100000
DTEND;TZID=Europe/Berlin:20220209T123000
DTSTAMP:20260425T123457
CREATED:20220207T102445Z
LAST-MODIFIED:20220207T102445Z
UID:1949-1644400800-1644409800@prinzessinnengarten-kollektiv.net
SUMMARY:Wolf und Waldkauz:  Älteste*r sein. Weise werden.
DESCRIPTION:Gemeinsam eine Ältesten-Kultur entwickeln und wiederbeleben für Menschen ab 60 Jahren. Eine offene\, fortlaufende Gruppe mit Corinna Thiesen und Andreas Schönefeld von Wolf und Waldkauz. \nWelche Aufgaben und Rollen haben Älteste? Wer bin ich? Was mein Geschenk an die Welt?\nDie Natur bietet Kraftorte. Sie ist Spiegel\, Wegweiser und lässt das Große Ganze erleben.\nMit Wahrnehmungsübungen und innerem Spurenlesen\, mit Redekreis\, Geschichten und „wildem Tun“ begleiten wir Sie. Mit Ihren Fragen und Themen gestalten Sie unseren Kreis mit. Zusammen entwickeln wir eine zeitgemäße Ältesten-Kultur. \nStart: 10. November 2021 | 10-12:30 Uhr \nOrt: St. Jakobi (Prinzessinengarten)\, Hermannstr. 99-105\, nahe U-|S-Bahn Hermannstraße. \nTreffpunkt: Prinzessinnengarten vor dem Eingang. \nFortlaufende Termine –  mittwochs alle 14 Tage\, 10-12:30\, Einstieg ist jederzeit möglich \n10.11. 21/ 24.11.21 / 08.12.21 / 22.12.21 / 12.01.22 / 26.01.22 / 09.02.22 / 23.02.22 \nAnmeldung unter: Wolf und Waldkauz | Tel/Signal: 0176 3041 8883 oder post@wildnisschule-wolfundwaldkauz.de | www.wildnisschule-wolfundwaldkauz.de \nCOVID-19-Hinweis: Wir treffen uns nach den 2G-Regeln.
URL:https://prinzessinnengarten-kollektiv.net/event/wolf-und-waldkauz-aeltester-sein-weise-werden-4/
LOCATION:Prinzessinnengarten Kollektiv Berlin\, Hermannstraße 99-105\, Berlin\, 12051\, Deutschland
ATTACH;FMTTYPE=image/jpeg:https://prinzessinnengarten-kollektiv.net/wp-content/uploads/2021/11/220207_Aeltesten-Foto-scaled.jpg
END:VEVENT
BEGIN:VEVENT
DTSTART;TZID=Europe/Berlin:20220209T140000
DTEND;TZID=Europe/Berlin:20220209T160000
DTSTAMP:20260425T123457
CREATED:20220207T151824Z
LAST-MODIFIED:20220207T151824Z
UID:1955-1644415200-1644422400@prinzessinnengarten-kollektiv.net
SUMMARY:Wolf und Waldkauz: Naturhandwerk und Wilde Zeit
DESCRIPTION:Aus Kastanien Seife oder Waschmittel herstellen. Löffel und Bögen\, Zahnbürsten und Zahnpulver oder Schnüre aus Naturmaterialien anfertigen. Im Herbst leckere Marmelade aus Hagebutten oder Vogelbeeren einkochen oder im Frühling Sirup aus den ersten blühenden Pflanzen ansetzen… alles das ist Naturhandwerk und Wilde Zeit. Einfach kommen und mitmachen! Und sicherlich folgen wir auch der Sprache des Waldes\, den Spuren und Zeichen nach guter Naturmentoring-Art. \nJeden Montag und Mittwoch\, 14:00 – 16:00 Uhr\, bei jedem Wetter außer bei Sturm oder Gewitter. \nOrt: Umweltbildungswiese\nU-/ S-Bahn Hermannstraße \nOffen für alle\, ohne Voranmeldung \nAlle sind willkommen\, Erwachsene\, Kinder\, Jugendliche … „das ganze Dorf“ \nKurskosten: Spenden nach eigenem Ermessen sind willkommen für Material und Werkzeugnutzung\, für Platz und Leitung. Du gibt so viel\, wie du magst und kannst. \nLeitung: Aurel Wannig\, Andreas Schönefeld und Corinna Thiesen von Wolf und Waldkauz \nWeitere nformationen unter: Wolf und Waldkauz | Tel/Signal: 0176 3041 8883 oder post@wildnisschule-wolfundwaldkauz.de | www.wildnisschule-wolfundwaldkauz.de
URL:https://prinzessinnengarten-kollektiv.net/event/wolf-und-waldkauz-naturhandwerk-und-wilde-zeit-5/
LOCATION:Prinzessinnengarten Kollektiv Berlin\, Hermannstraße 99-105\, Berlin\, 12051\, Deutschland
ATTACH;FMTTYPE=image/jpeg:https://prinzessinnengarten-kollektiv.net/wp-content/uploads/2021/11/Wolf-und-Waldkauz-final-LOGO.jpg
END:VEVENT
END:VCALENDAR