BEGIN:VCALENDAR
VERSION:2.0
PRODID:-//prinzessinnengarten kollektiv berlin - ECPv6.15.18//NONSGML v1.0//EN
CALSCALE:GREGORIAN
METHOD:PUBLISH
X-WR-CALNAME:prinzessinnengarten kollektiv berlin
X-ORIGINAL-URL:https://prinzessinnengarten-kollektiv.net
X-WR-CALDESC:Veranstaltungen für prinzessinnengarten kollektiv berlin
REFRESH-INTERVAL;VALUE=DURATION:PT1H
X-Robots-Tag:noindex
X-PUBLISHED-TTL:PT1H
BEGIN:VTIMEZONE
TZID:Europe/Berlin
BEGIN:DAYLIGHT
TZOFFSETFROM:+0100
TZOFFSETTO:+0200
TZNAME:CEST
DTSTART:20210328T010000
END:DAYLIGHT
BEGIN:STANDARD
TZOFFSETFROM:+0200
TZOFFSETTO:+0100
TZNAME:CET
DTSTART:20211031T010000
END:STANDARD
BEGIN:DAYLIGHT
TZOFFSETFROM:+0100
TZOFFSETTO:+0200
TZNAME:CEST
DTSTART:20220327T010000
END:DAYLIGHT
BEGIN:STANDARD
TZOFFSETFROM:+0200
TZOFFSETTO:+0100
TZNAME:CET
DTSTART:20221030T010000
END:STANDARD
BEGIN:DAYLIGHT
TZOFFSETFROM:+0100
TZOFFSETTO:+0200
TZNAME:CEST
DTSTART:20230326T010000
END:DAYLIGHT
BEGIN:STANDARD
TZOFFSETFROM:+0200
TZOFFSETTO:+0100
TZNAME:CET
DTSTART:20231029T010000
END:STANDARD
END:VTIMEZONE
BEGIN:VEVENT
DTSTART;TZID=Europe/Berlin:20220130T140000
DTEND;TZID=Europe/Berlin:20220130T180000
DTSTAMP:20260425T123020
CREATED:20220120T075527Z
LAST-MODIFIED:20221216T114702Z
UID:1623-1643551200-1643565600@prinzessinnengarten-kollektiv.net
SUMMARY:Workshop Supermarkt - Supermacht
DESCRIPTION:Political Kitchen lädt Dich zu einem Workshop ein\, in dem es um Machtverhältnisse und Ausbeutungsmechanismen der Supermärkte geht. \neit Ausbruch der Pandemie wurden global Lockdowns eingeführt sowie Zusammenkünfte eingeschränkt. Dennoch gab es einen Ort\, der feststehend geöffnet blieb: der Supermarkt. Supermarktketten machten in den letzten Jahren Rekordgewinne und wie nie zuvor drängt sich die Frage auf\, auf welchen Kosten beruhen unsere Konsumgewohnheiten und das gesamte Wirtschaftssystem? Welche Lösungsansätze gibt es dazu? \nPolitical Kitchen lädt Dich zu einem Workshop ein\, in dem es um Machtverhältnisse und Ausbeutungsmechanismen der Supermärkte geht. Wir lernen miteinander und voneinander. \nVon 14.00 bis 16.00: Selbstreflexion und Erforschung der Handlungsstrategien gegen Supermächte \nVon 16.00 bis 18.00: Creative Flow –  Adbusting und Textilarbeit.  \nAdbusting ist eine Form der Straßenkunst\, die bestehender Werbung mit kleinen\, aber feinen Veränderungen eine neue Bedeutung verleiht und sie so entlarvt. Wir entwickeln subversive Namen für Supermärkte und übertragen diese auf Stoffbeutel\, Kleidung\, Masken etc. Bringe bitte ein Kleidungsstück mit\, das hell/ungefärbt und am besten aus natürlichem Stoff ist. Wir teilen mit Dir Tipps\, wie das Textil mit Food Waste gefärbt wird. \nDie Hauptsprache ist Deutsch\, nach Bedarf gibt es Flüsterübersetzung auf Englisch.  \nEs gelten 2G Plus Regeln. Anmeldung an: info@politicalkitchen.org oder über Insta. \nZum Mitnehmen gibt es antikapitalistische nahrhafte Geschenke.
URL:https://prinzessinnengarten-kollektiv.net/event/workshop-supermarkt-supermacht/
LOCATION:studio nagelneu\, Hermannstraße 103\, Berliin\, 12051\, Deutschland
CATEGORIES:edicitnet,studio nagelneu
ATTACH;FMTTYPE=image/jpeg:https://prinzessinnengarten-kollektiv.net/wp-content/uploads/2022/01/220130_Supermarkt-Supermacht.jpg
END:VEVENT
END:VCALENDAR