BEGIN:VCALENDAR
VERSION:2.0
PRODID:-//prinzessinnengarten kollektiv berlin - ECPv6.15.18//NONSGML v1.0//EN
CALSCALE:GREGORIAN
METHOD:PUBLISH
X-ORIGINAL-URL:https://prinzessinnengarten-kollektiv.net
X-WR-CALDESC:Veranstaltungen für prinzessinnengarten kollektiv berlin
REFRESH-INTERVAL;VALUE=DURATION:PT1H
X-Robots-Tag:noindex
X-PUBLISHED-TTL:PT1H
BEGIN:VTIMEZONE
TZID:Europe/Berlin
BEGIN:DAYLIGHT
TZOFFSETFROM:+0100
TZOFFSETTO:+0200
TZNAME:CEST
DTSTART:20200329T010000
END:DAYLIGHT
BEGIN:STANDARD
TZOFFSETFROM:+0200
TZOFFSETTO:+0100
TZNAME:CET
DTSTART:20201025T010000
END:STANDARD
BEGIN:DAYLIGHT
TZOFFSETFROM:+0100
TZOFFSETTO:+0200
TZNAME:CEST
DTSTART:20210328T010000
END:DAYLIGHT
BEGIN:STANDARD
TZOFFSETFROM:+0200
TZOFFSETTO:+0100
TZNAME:CET
DTSTART:20211031T010000
END:STANDARD
BEGIN:DAYLIGHT
TZOFFSETFROM:+0100
TZOFFSETTO:+0200
TZNAME:CEST
DTSTART:20220327T010000
END:DAYLIGHT
BEGIN:STANDARD
TZOFFSETFROM:+0200
TZOFFSETTO:+0100
TZNAME:CET
DTSTART:20221030T010000
END:STANDARD
END:VTIMEZONE
BEGIN:VTIMEZONE
TZID:Africa/Abidjan
BEGIN:STANDARD
TZOFFSETFROM:+0000
TZOFFSETTO:+0000
TZNAME:GMT
DTSTART:20200101T000000
END:STANDARD
END:VTIMEZONE
BEGIN:VEVENT
DTSTART;TZID=Europe/Berlin:20211205T130000
DTEND;TZID=Europe/Berlin:20211205T183000
DTSTAMP:20260425T060150
CREATED:20211201T093116Z
LAST-MODIFIED:20220413T090815Z
UID:1560-1638709200-1638729000@prinzessinnengarten-kollektiv.net
SUMMARY:Kochaktion - Ist Brot tot?
DESCRIPTION:Eine Brot-Installation\, Kochaktion und Reflexion über unsere Konsumgewohnheiten mit dem Kollektiv Political Kitchen \nSo. 5. Dezember 2021\n13-18 Uhr\nim studio nagelneu / Hermannstraße 103 \nBrot ist eines der ältesten Lebensmittel der Welt\, das seit Jahrhunderten die Existenz von Menschheit sichert. Dennoch ist Brot heute eines der am häufigsten weggeworfenen Lebensmittel\, vor allem in den westlichen Ländern. Jedes Jahr werden allein in Deutschland 500.000 Tonnen Brot weggeworfen. \nUnsere Vorfahren hatten eher wenig zu essen und hätten daher nie ein Stück weggeworfen. Sie kannten Wert des Brotes\, wussten\, wie es geerntet und produziert wurde und ehrten das Brot mit Dankbarkeit. Brot hatte eine sakrale Bedeutung\, und alle Reste wurden bis zum letzten Krümel weise verwertet. \nAbfallfreier und kreislauforientierter Lebensmittelkonsum war ein kreativer und umweltfreundlicher Ansatz unserer Vorfahren\, der von der Moderne verdrängt wurde und den wir heute wieder neu erlernen und integrieren können. \nBei unserer nächsten Veranstaltung bist Du herzlich eingeladen\, mit uns eine warme Version der alten traditionellen Brotsuppe „Тюря/Tyurya“ zu kochen\, die unter den Bauern in Russland\, der Ukraine und Weißrussland bis ins 19. Jahrhundert beliebt war. \nWir würden auch gerne eine Kostprobe von Kwas mit Dir teilen. Kwas ist ein fermentiertes Getränk aus Roggenbrot\, eines der ältesten Getränke\, das in vielen Ländern Osteuropas und des Baltikums geschätzt ist. \nKomm vorbei und teile mit uns Brotrezepte Deiner Vorfahren! \nDie Veranstaltung findet unter 2G+ Bedingungen statt. \n\n\n\n\n\n\n\n\n\n\n  \nDas studio nagelneu\, ein ehemaliges Nagelstudio\, wird für die nächsten zwei Jahre zum öffentlichen Wohnzimmer für den Kiez. Initiiert vom Prinzessinnengarten Kollektiv Berlin und gestaltet vom Berliner Architekt:innen Kollektiv Team Dis+Ko wird der Raum zwischengenutzt und bietet Platz für Initiativen aus der Nachbarschaft\, Workshops\, Treffen und Veranstaltungen – für euch! \nWeitere Infos dazu findet ihr hier! \n  \n\n\n\n\n\n\n\nDiese Veranstaltung findet im Rahmen des Edible Cities Network statt
URL:https://prinzessinnengarten-kollektiv.net/event/kochaktion-ist-brot-tot/
LOCATION:studio nagelneu\, Hermannstraße 103\, Berliin\, 12051\, Deutschland
CATEGORIES:edicitnet,studio nagelneu
ATTACH;FMTTYPE=image/jpeg:https://prinzessinnengarten-kollektiv.net/wp-content/uploads/2021/12/211205_brot.jpg
END:VEVENT
BEGIN:VEVENT
DTSTART;TZID=Africa/Abidjan:20211205T150000
DTEND;TZID=Africa/Abidjan:20211205T170000
DTSTAMP:20260425T060150
CREATED:20211201T093229Z
LAST-MODIFIED:20220513T091537Z
UID:1562-1638716400-1638723600@prinzessinnengarten-kollektiv.net
SUMMARY:Installation "the sky' without limits"
DESCRIPTION:Wir laden euch herzlich zur Eröffnung „the sky`s without limits“ \nSo. 5. Dezember\, 14-16 Uhr\nKiezkapelle\, Hermannstraße 99-105\, 12051 Berlin \nSeit Juni diesen Jahres ist er angedacht\, in den letzten Monaten von der Berliner Künstlerin\nAlmut Müller in ihrem Atelier in Stoff und Farbe umgesetzt: 35 Quadratmeter Himmel. \n„Es ist mehr ein Himmel\, der sich im Meer spiegelt. Blau und beruhigend. Eine Projektionsfläche\nfür jede Betrachter*in“\, so sagt die Künstlerin. \nKommt und überzeugt euch selbst. \nDie Veranstaltung findet unter 2G+ Bedingungen statt. \nGefördert durch  Projektfonds Urbane Praxis
URL:https://prinzessinnengarten-kollektiv.net/event/installation-the-sky-without-limits/
LOCATION:Kiezkapelle\, Hermannstraße 102\, Berlin\, 12051
CATEGORIES:urbane praxis
ATTACH;FMTTYPE=image/jpeg:https://prinzessinnengarten-kollektiv.net/wp-content/uploads/2021/12/211205_himmel.jpg
END:VEVENT
END:VCALENDAR