BEGIN:VCALENDAR
VERSION:2.0
PRODID:-//prinzessinnengarten kollektiv berlin - ECPv6.15.18//NONSGML v1.0//EN
CALSCALE:GREGORIAN
METHOD:PUBLISH
X-ORIGINAL-URL:https://prinzessinnengarten-kollektiv.net
X-WR-CALDESC:Veranstaltungen für prinzessinnengarten kollektiv berlin
REFRESH-INTERVAL;VALUE=DURATION:PT1H
X-Robots-Tag:noindex
X-PUBLISHED-TTL:PT1H
BEGIN:VTIMEZONE
TZID:Europe/Berlin
BEGIN:DAYLIGHT
TZOFFSETFROM:+0100
TZOFFSETTO:+0200
TZNAME:CEST
DTSTART:20200329T010000
END:DAYLIGHT
BEGIN:STANDARD
TZOFFSETFROM:+0200
TZOFFSETTO:+0100
TZNAME:CET
DTSTART:20201025T010000
END:STANDARD
BEGIN:DAYLIGHT
TZOFFSETFROM:+0100
TZOFFSETTO:+0200
TZNAME:CEST
DTSTART:20210328T010000
END:DAYLIGHT
BEGIN:STANDARD
TZOFFSETFROM:+0200
TZOFFSETTO:+0100
TZNAME:CET
DTSTART:20211031T010000
END:STANDARD
BEGIN:DAYLIGHT
TZOFFSETFROM:+0100
TZOFFSETTO:+0200
TZNAME:CEST
DTSTART:20220327T010000
END:DAYLIGHT
BEGIN:STANDARD
TZOFFSETFROM:+0200
TZOFFSETTO:+0100
TZNAME:CET
DTSTART:20221030T010000
END:STANDARD
END:VTIMEZONE
BEGIN:VEVENT
DTSTART;TZID=Europe/Berlin:20211119T103000
DTEND;TZID=Europe/Berlin:20211119T130000
DTSTAMP:20260425T060320
CREATED:20211110T100750Z
LAST-MODIFIED:20220514T083454Z
UID:1422-1637317800-1637326800@prinzessinnengarten-kollektiv.net
SUMMARY:Creative Drawing & Tea- Urban Utopias
DESCRIPTION:Come join for tea and drawing.\nCreative drawing about how we wish our surroundings would look like. \nWie sieht deine urbane Utopie aus? / Waht does your urban utopia look like? \nMore Döner? More Spätis?\nMore green? More spaces to sit?\nMore spaces to gather?\nMore cars? More bikes?\nMore people? Less people?\nLess cars? \nKostenlos mit Anmeldung via nagelneu@prinzessinnengarten.net \nDie Veranstaltung findet unter 2G-Bedingungen statt! \n  \n\n\n\n\n\nMit freundlicher Unterstützung von Projektfonds Urbane Praxis \n\n\n\n\n\n\n\n\n\n\n\n\n\n\n\n\n\n\n\nDas studio nagelneu\, ein ehemaliges Nagelstudio\, wird für die nächsten zwei Jahre zum öffentlichen Wohnzimmer für den Kiez. Initiiert vom Prinzessinnengarten Kollektiv Berlin und gestaltet vom Berliner Architekt:innen Kollektiv Team Dis+Ko wird der Raum zwischengenutzt und bietet Platz für Initiativen aus der Nachbarschaft\, Workshops\, Treffen und Veranstaltungen – für euch! \nWeitere Infos dazu findet ihr hier! \n\n\n\n\n\n 
URL:https://prinzessinnengarten-kollektiv.net/event/creative-drawing-tea-urban-utopias/
LOCATION:studio nagelneu\, Hermannstraße 103\, Berliin\, 12051\, Deutschland
CATEGORIES:edicitnet,studio nagelneu,urbane praxis
ATTACH;FMTTYPE=image/jpeg:https://prinzessinnengarten-kollektiv.net/wp-content/uploads/2021/11/211119_tea-and-drawing.jpg
END:VEVENT
END:VCALENDAR