BEGIN:VCALENDAR
VERSION:2.0
PRODID:-//prinzessinnengarten kollektiv berlin - ECPv6.15.18//NONSGML v1.0//EN
CALSCALE:GREGORIAN
METHOD:PUBLISH
X-WR-CALNAME:prinzessinnengarten kollektiv berlin
X-ORIGINAL-URL:https://prinzessinnengarten-kollektiv.net
X-WR-CALDESC:Veranstaltungen für prinzessinnengarten kollektiv berlin
REFRESH-INTERVAL;VALUE=DURATION:PT1H
X-Robots-Tag:noindex
X-PUBLISHED-TTL:PT1H
BEGIN:VTIMEZONE
TZID:Europe/Berlin
BEGIN:DAYLIGHT
TZOFFSETFROM:+0100
TZOFFSETTO:+0200
TZNAME:CEST
DTSTART:20200329T010000
END:DAYLIGHT
BEGIN:STANDARD
TZOFFSETFROM:+0200
TZOFFSETTO:+0100
TZNAME:CET
DTSTART:20201025T010000
END:STANDARD
BEGIN:DAYLIGHT
TZOFFSETFROM:+0100
TZOFFSETTO:+0200
TZNAME:CEST
DTSTART:20210328T010000
END:DAYLIGHT
BEGIN:STANDARD
TZOFFSETFROM:+0200
TZOFFSETTO:+0100
TZNAME:CET
DTSTART:20211031T010000
END:STANDARD
BEGIN:DAYLIGHT
TZOFFSETFROM:+0100
TZOFFSETTO:+0200
TZNAME:CEST
DTSTART:20220327T010000
END:DAYLIGHT
BEGIN:STANDARD
TZOFFSETFROM:+0200
TZOFFSETTO:+0100
TZNAME:CET
DTSTART:20221030T010000
END:STANDARD
END:VTIMEZONE
BEGIN:VEVENT
DTSTART;TZID=Europe/Berlin:20211109T143000
DTEND;TZID=Europe/Berlin:20211109T163000
DTSTAMP:20260425T061100
CREATED:20211007T094418Z
LAST-MODIFIED:20220413T090902Z
UID:1263-1636468200-1636475400@prinzessinnengarten-kollektiv.net
SUMMARY:Offener Workshop Feinflechterei
DESCRIPTION:Das studio nagelneu lädt ein zum Feinflechterei-Workshop – Reparieren und Kennenlernen für Interessierte mit und ohne Vorkenntnisse! \nBringt gern Lieblingsstücke und „Patienten“ zum Anschauen und Reparieren mit. \nDienstag\, 9. November 2021\n14:30 – 16:30 \nKostenlos und mit Anmeldung bis zum 2. November über nagelneu@prinzessinnengarten.net oder direkt im studio nagelneu \nDiese Veranstaltung findet im Rahmen des Edible Cities Networks statt \nDas studio nagelneu\, ein ehemaliges Nagelstudio\, wird für die nächsten zwei Jahre zum öffentlichen Wohnzimmer für den Kiez. Initiiert vom Prinzessinnengarten Kollektiv Berlin und gestaltet vom Berliner Architekt:innen Kollektiv Team Dis+Ko wird der Raum zwischengenutzt und bietet Platz für Initiativen aus der Nachbarschaft\, Workshops\, Treffen und Veranstaltungen – für euch! \nWeitere Infos dazu findet ihr hier!
URL:https://prinzessinnengarten-kollektiv.net/event/offener-workshop-feinflechterei/
LOCATION:studio nagelneu\, Hermannstraße 103\, Berliin\, 12051\, Deutschland
CATEGORIES:edicitnet,studio nagelneu
ATTACH;FMTTYPE=image/jpeg:https://prinzessinnengarten-kollektiv.net/wp-content/uploads/2021/10/211109_feinflechterei.jpg
END:VEVENT
END:VCALENDAR