BEGIN:VCALENDAR
VERSION:2.0
PRODID:-//prinzessinnengarten kollektiv berlin - ECPv6.15.18//NONSGML v1.0//EN
CALSCALE:GREGORIAN
METHOD:PUBLISH
X-WR-CALNAME:prinzessinnengarten kollektiv berlin
X-ORIGINAL-URL:https://prinzessinnengarten-kollektiv.net
X-WR-CALDESC:Veranstaltungen für prinzessinnengarten kollektiv berlin
REFRESH-INTERVAL;VALUE=DURATION:PT1H
X-Robots-Tag:noindex
X-PUBLISHED-TTL:PT1H
BEGIN:VTIMEZONE
TZID:Europe/Berlin
BEGIN:DAYLIGHT
TZOFFSETFROM:+0100
TZOFFSETTO:+0200
TZNAME:CEST
DTSTART:20200329T010000
END:DAYLIGHT
BEGIN:STANDARD
TZOFFSETFROM:+0200
TZOFFSETTO:+0100
TZNAME:CET
DTSTART:20201025T010000
END:STANDARD
BEGIN:DAYLIGHT
TZOFFSETFROM:+0100
TZOFFSETTO:+0200
TZNAME:CEST
DTSTART:20210328T010000
END:DAYLIGHT
BEGIN:STANDARD
TZOFFSETFROM:+0200
TZOFFSETTO:+0100
TZNAME:CET
DTSTART:20211031T010000
END:STANDARD
BEGIN:DAYLIGHT
TZOFFSETFROM:+0100
TZOFFSETTO:+0200
TZNAME:CEST
DTSTART:20220327T010000
END:DAYLIGHT
BEGIN:STANDARD
TZOFFSETFROM:+0200
TZOFFSETTO:+0100
TZNAME:CET
DTSTART:20221030T010000
END:STANDARD
END:VTIMEZONE
BEGIN:VEVENT
DTSTART;TZID=Europe/Berlin:20211031T140000
DTEND;TZID=Europe/Berlin:20211031T170000
DTSTAMP:20260425T043235
CREATED:20211014T083206Z
LAST-MODIFIED:20220514T083526Z
UID:1310-1635688800-1635699600@prinzessinnengarten-kollektiv.net
SUMMARY:MAGIE DER FARBEN – Textil Färben
DESCRIPTION:Die Natur die uns umgibt und die Küche in der wir kochen halten zu jeder Jahreszeit unglaubliche Farbelemente in Blättern\, Blüten\, Schalen und Wurzeln für uns bereit. \nIm interaktiven Workshop “Magie der Farben” wollen wir alle Teilnehmer:innen in die Geheimnisse der vergessenen Kunst der Extraktion von Farbe sowie in die Textilfärbung einweihen und anschliessend gemeinsam mit der “Bundle dye” Technik experimentieren. \nIn unserem temporären Kreativlabor führen wir durch alle Schritte der Textilfärbung\, einschliesslich Vorbereiten\, Erstellen eines individuellen Musters\, Einwickeln und Dämpfen. Alle Teilnehmer:inen werden ihr eigenes\, einzigartig gefärbtes Leinentuch (Tischdecke/Picknickdecke) kreieren und mit einer Materialliste und Anleitung nach Hause gehen. \nAnmeldungen vorab bitte via nagelneu@prinzessinnengarten.net oder direkt im studio nagelneu! \n\n\n\n\n\nMit freundlicher Unterstützung von Projektfonds Urbane Praxis \n\n\n\n\n\n\n\n\n\n\n\n\n\n\n\n\n\n\n\nDas studio nagelneu\, ein ehemaliges Nagelstudio\, wird für die nächsten zwei Jahre zum öffentlichen Wohnzimmer für den Kiez. Initiiert vom Prinzessinnengarten Kollektiv Berlin und gestaltet vom Berliner Architekt:innen Kollektiv Team Dis+Ko wird der Raum zwischengenutzt und bietet Platz für Initiativen aus der Nachbarschaft\, Workshops\, Treffen und Veranstaltungen – für euch! \nWeitere Infos dazu findet ihr hier!
URL:https://prinzessinnengarten-kollektiv.net/event/magie-der-farben-textil-faerben/
LOCATION:studio nagelneu\, Hermannstraße 103\, Berliin\, 12051\, Deutschland
CATEGORIES:edicitnet,studio nagelneu,urbane praxis
ATTACH;FMTTYPE=image/jpeg:https://prinzessinnengarten-kollektiv.net/wp-content/uploads/2021/10/211031_naturfaerben.jpg
END:VEVENT
END:VCALENDAR